BEGIN:VCALENDAR
VERSION:2.0
PRODID:-//Heartfulness Institute - ECPv6.15.1.1//NONSGML v1.0//EN
CALSCALE:GREGORIAN
METHOD:PUBLISH
X-WR-CALNAME:Heartfulness Institute
X-ORIGINAL-URL:https://www.heartfulnessinstitute.org
X-WR-CALDESC:Events for Heartfulness Institute
REFRESH-INTERVAL;VALUE=DURATION:PT1H
X-Robots-Tag:noindex
X-PUBLISHED-TTL:PT1H
BEGIN:VTIMEZONE
TZID:America/Chicago
BEGIN:DAYLIGHT
TZOFFSETFROM:-0600
TZOFFSETTO:-0500
TZNAME:CDT
DTSTART:20260308T080000
END:DAYLIGHT
BEGIN:STANDARD
TZOFFSETFROM:-0500
TZOFFSETTO:-0600
TZNAME:CST
DTSTART:20261101T070000
END:STANDARD
BEGIN:DAYLIGHT
TZOFFSETFROM:-0600
TZOFFSETTO:-0500
TZNAME:CDT
DTSTART:20270314T080000
END:DAYLIGHT
BEGIN:STANDARD
TZOFFSETFROM:-0500
TZOFFSETTO:-0600
TZNAME:CST
DTSTART:20271107T070000
END:STANDARD
END:VTIMEZONE
BEGIN:VEVENT
DTSTART;TZID=America/Chicago:20260705T110000
DTEND;TZID=America/Chicago:20260705T123000
DTSTAMP:20260422T091821
CREATED:20251219T192408Z
LAST-MODIFIED:20251219T192408Z
UID:990004237-1783249200-1783254600@www.heartfulnessinstitute.org
SUMMARY:Sunday Group Meditation - San Antonio\, TX
DESCRIPTION:
URL:https://www.heartfulnessinstitute.org/event/sunday-group-meditation-san-antonio-tx/2026-07-05/
LOCATION:Parman Branch Library at Stone Oak\, 20735 Wilderness Oak\, San Antonio\, TX\, 78258\, United States
ATTACH;FMTTYPE=image/jpeg:https://www.heartfulnessinstitute.org/wp-content/uploads/2025/12/Sunday-San-Antonio-Meditation.jpeg
ORGANIZER;CN="San Antonio%2C TX":MAILTO:sanantonio.tx@heartfulness.org
END:VEVENT
BEGIN:VEVENT
DTSTART;TZID=America/Chicago:20260712T110000
DTEND;TZID=America/Chicago:20260712T123000
DTSTAMP:20260422T091821
CREATED:20251219T192408Z
LAST-MODIFIED:20251219T192408Z
UID:990004238-1783854000-1783859400@www.heartfulnessinstitute.org
SUMMARY:Sunday Group Meditation - San Antonio\, TX
DESCRIPTION:
URL:https://www.heartfulnessinstitute.org/event/sunday-group-meditation-san-antonio-tx/2026-07-12/
LOCATION:Parman Branch Library at Stone Oak\, 20735 Wilderness Oak\, San Antonio\, TX\, 78258\, United States
ATTACH;FMTTYPE=image/jpeg:https://www.heartfulnessinstitute.org/wp-content/uploads/2025/12/Sunday-San-Antonio-Meditation.jpeg
ORGANIZER;CN="San Antonio%2C TX":MAILTO:sanantonio.tx@heartfulness.org
END:VEVENT
BEGIN:VEVENT
DTSTART;TZID=America/Chicago:20260719T110000
DTEND;TZID=America/Chicago:20260719T123000
DTSTAMP:20260422T091821
CREATED:20251219T192408Z
LAST-MODIFIED:20251219T192408Z
UID:990004239-1784458800-1784464200@www.heartfulnessinstitute.org
SUMMARY:Sunday Group Meditation - San Antonio\, TX
DESCRIPTION:
URL:https://www.heartfulnessinstitute.org/event/sunday-group-meditation-san-antonio-tx/2026-07-19/
LOCATION:Parman Branch Library at Stone Oak\, 20735 Wilderness Oak\, San Antonio\, TX\, 78258\, United States
ATTACH;FMTTYPE=image/jpeg:https://www.heartfulnessinstitute.org/wp-content/uploads/2025/12/Sunday-San-Antonio-Meditation.jpeg
ORGANIZER;CN="San Antonio%2C TX":MAILTO:sanantonio.tx@heartfulness.org
END:VEVENT
BEGIN:VEVENT
DTSTART;TZID=America/Chicago:20260726T110000
DTEND;TZID=America/Chicago:20260726T123000
DTSTAMP:20260422T091821
CREATED:20251219T192408Z
LAST-MODIFIED:20251219T192408Z
UID:990004240-1785063600-1785069000@www.heartfulnessinstitute.org
SUMMARY:Sunday Group Meditation - San Antonio\, TX
DESCRIPTION:
URL:https://www.heartfulnessinstitute.org/event/sunday-group-meditation-san-antonio-tx/2026-07-26/
LOCATION:Parman Branch Library at Stone Oak\, 20735 Wilderness Oak\, San Antonio\, TX\, 78258\, United States
ATTACH;FMTTYPE=image/jpeg:https://www.heartfulnessinstitute.org/wp-content/uploads/2025/12/Sunday-San-Antonio-Meditation.jpeg
ORGANIZER;CN="San Antonio%2C TX":MAILTO:sanantonio.tx@heartfulness.org
END:VEVENT
BEGIN:VEVENT
DTSTART;TZID=America/Chicago:20260802T110000
DTEND;TZID=America/Chicago:20260802T123000
DTSTAMP:20260422T091821
CREATED:20251219T192408Z
LAST-MODIFIED:20251219T192408Z
UID:990004241-1785668400-1785673800@www.heartfulnessinstitute.org
SUMMARY:Sunday Group Meditation - San Antonio\, TX
DESCRIPTION:
URL:https://www.heartfulnessinstitute.org/event/sunday-group-meditation-san-antonio-tx/2026-08-02/
LOCATION:Parman Branch Library at Stone Oak\, 20735 Wilderness Oak\, San Antonio\, TX\, 78258\, United States
ATTACH;FMTTYPE=image/jpeg:https://www.heartfulnessinstitute.org/wp-content/uploads/2025/12/Sunday-San-Antonio-Meditation.jpeg
ORGANIZER;CN="San Antonio%2C TX":MAILTO:sanantonio.tx@heartfulness.org
END:VEVENT
BEGIN:VEVENT
DTSTART;TZID=America/Chicago:20260809T110000
DTEND;TZID=America/Chicago:20260809T123000
DTSTAMP:20260422T091821
CREATED:20251219T192408Z
LAST-MODIFIED:20251219T192408Z
UID:990004242-1786273200-1786278600@www.heartfulnessinstitute.org
SUMMARY:Sunday Group Meditation - San Antonio\, TX
DESCRIPTION:
URL:https://www.heartfulnessinstitute.org/event/sunday-group-meditation-san-antonio-tx/2026-08-09/
LOCATION:Parman Branch Library at Stone Oak\, 20735 Wilderness Oak\, San Antonio\, TX\, 78258\, United States
ATTACH;FMTTYPE=image/jpeg:https://www.heartfulnessinstitute.org/wp-content/uploads/2025/12/Sunday-San-Antonio-Meditation.jpeg
ORGANIZER;CN="San Antonio%2C TX":MAILTO:sanantonio.tx@heartfulness.org
END:VEVENT
BEGIN:VEVENT
DTSTART;TZID=America/Chicago:20260816T110000
DTEND;TZID=America/Chicago:20260816T123000
DTSTAMP:20260422T091821
CREATED:20251219T192408Z
LAST-MODIFIED:20251219T192408Z
UID:990004243-1786878000-1786883400@www.heartfulnessinstitute.org
SUMMARY:Sunday Group Meditation - San Antonio\, TX
DESCRIPTION:
URL:https://www.heartfulnessinstitute.org/event/sunday-group-meditation-san-antonio-tx/2026-08-16/
LOCATION:Parman Branch Library at Stone Oak\, 20735 Wilderness Oak\, San Antonio\, TX\, 78258\, United States
ATTACH;FMTTYPE=image/jpeg:https://www.heartfulnessinstitute.org/wp-content/uploads/2025/12/Sunday-San-Antonio-Meditation.jpeg
ORGANIZER;CN="San Antonio%2C TX":MAILTO:sanantonio.tx@heartfulness.org
END:VEVENT
BEGIN:VEVENT
DTSTART;TZID=America/Chicago:20260823T110000
DTEND;TZID=America/Chicago:20260823T123000
DTSTAMP:20260422T091821
CREATED:20251219T192408Z
LAST-MODIFIED:20251219T192408Z
UID:990004244-1787482800-1787488200@www.heartfulnessinstitute.org
SUMMARY:Sunday Group Meditation - San Antonio\, TX
DESCRIPTION:
URL:https://www.heartfulnessinstitute.org/event/sunday-group-meditation-san-antonio-tx/2026-08-23/
LOCATION:Parman Branch Library at Stone Oak\, 20735 Wilderness Oak\, San Antonio\, TX\, 78258\, United States
ATTACH;FMTTYPE=image/jpeg:https://www.heartfulnessinstitute.org/wp-content/uploads/2025/12/Sunday-San-Antonio-Meditation.jpeg
ORGANIZER;CN="San Antonio%2C TX":MAILTO:sanantonio.tx@heartfulness.org
END:VEVENT
BEGIN:VEVENT
DTSTART;TZID=America/Chicago:20260830T110000
DTEND;TZID=America/Chicago:20260830T123000
DTSTAMP:20260422T091821
CREATED:20251219T192408Z
LAST-MODIFIED:20251219T192408Z
UID:990004245-1788087600-1788093000@www.heartfulnessinstitute.org
SUMMARY:Sunday Group Meditation - San Antonio\, TX
DESCRIPTION:
URL:https://www.heartfulnessinstitute.org/event/sunday-group-meditation-san-antonio-tx/2026-08-30/
LOCATION:Parman Branch Library at Stone Oak\, 20735 Wilderness Oak\, San Antonio\, TX\, 78258\, United States
ATTACH;FMTTYPE=image/jpeg:https://www.heartfulnessinstitute.org/wp-content/uploads/2025/12/Sunday-San-Antonio-Meditation.jpeg
ORGANIZER;CN="San Antonio%2C TX":MAILTO:sanantonio.tx@heartfulness.org
END:VEVENT
BEGIN:VEVENT
DTSTART;TZID=America/Chicago:20260906T110000
DTEND;TZID=America/Chicago:20260906T123000
DTSTAMP:20260422T091821
CREATED:20251219T192408Z
LAST-MODIFIED:20251219T192408Z
UID:990004246-1788692400-1788697800@www.heartfulnessinstitute.org
SUMMARY:Sunday Group Meditation - San Antonio\, TX
DESCRIPTION:
URL:https://www.heartfulnessinstitute.org/event/sunday-group-meditation-san-antonio-tx/2026-09-06/
LOCATION:Parman Branch Library at Stone Oak\, 20735 Wilderness Oak\, San Antonio\, TX\, 78258\, United States
ATTACH;FMTTYPE=image/jpeg:https://www.heartfulnessinstitute.org/wp-content/uploads/2025/12/Sunday-San-Antonio-Meditation.jpeg
ORGANIZER;CN="San Antonio%2C TX":MAILTO:sanantonio.tx@heartfulness.org
END:VEVENT
BEGIN:VEVENT
DTSTART;TZID=America/Chicago:20260913T110000
DTEND;TZID=America/Chicago:20260913T123000
DTSTAMP:20260422T091821
CREATED:20251219T192408Z
LAST-MODIFIED:20251219T192408Z
UID:990004247-1789297200-1789302600@www.heartfulnessinstitute.org
SUMMARY:Sunday Group Meditation - San Antonio\, TX
DESCRIPTION:
URL:https://www.heartfulnessinstitute.org/event/sunday-group-meditation-san-antonio-tx/2026-09-13/
LOCATION:Parman Branch Library at Stone Oak\, 20735 Wilderness Oak\, San Antonio\, TX\, 78258\, United States
ATTACH;FMTTYPE=image/jpeg:https://www.heartfulnessinstitute.org/wp-content/uploads/2025/12/Sunday-San-Antonio-Meditation.jpeg
ORGANIZER;CN="San Antonio%2C TX":MAILTO:sanantonio.tx@heartfulness.org
END:VEVENT
BEGIN:VEVENT
DTSTART;TZID=America/Chicago:20260920T110000
DTEND;TZID=America/Chicago:20260920T123000
DTSTAMP:20260422T091821
CREATED:20251219T192408Z
LAST-MODIFIED:20251219T192408Z
UID:990004248-1789902000-1789907400@www.heartfulnessinstitute.org
SUMMARY:Sunday Group Meditation - San Antonio\, TX
DESCRIPTION:
URL:https://www.heartfulnessinstitute.org/event/sunday-group-meditation-san-antonio-tx/2026-09-20/
LOCATION:Parman Branch Library at Stone Oak\, 20735 Wilderness Oak\, San Antonio\, TX\, 78258\, United States
ATTACH;FMTTYPE=image/jpeg:https://www.heartfulnessinstitute.org/wp-content/uploads/2025/12/Sunday-San-Antonio-Meditation.jpeg
ORGANIZER;CN="San Antonio%2C TX":MAILTO:sanantonio.tx@heartfulness.org
END:VEVENT
BEGIN:VEVENT
DTSTART;TZID=America/Chicago:20260927T110000
DTEND;TZID=America/Chicago:20260927T123000
DTSTAMP:20260422T091821
CREATED:20251219T192408Z
LAST-MODIFIED:20251219T192408Z
UID:990004249-1790506800-1790512200@www.heartfulnessinstitute.org
SUMMARY:Sunday Group Meditation - San Antonio\, TX
DESCRIPTION:
URL:https://www.heartfulnessinstitute.org/event/sunday-group-meditation-san-antonio-tx/2026-09-27/
LOCATION:Parman Branch Library at Stone Oak\, 20735 Wilderness Oak\, San Antonio\, TX\, 78258\, United States
ATTACH;FMTTYPE=image/jpeg:https://www.heartfulnessinstitute.org/wp-content/uploads/2025/12/Sunday-San-Antonio-Meditation.jpeg
ORGANIZER;CN="San Antonio%2C TX":MAILTO:sanantonio.tx@heartfulness.org
END:VEVENT
BEGIN:VEVENT
DTSTART;TZID=America/Chicago:20261004T110000
DTEND;TZID=America/Chicago:20261004T123000
DTSTAMP:20260422T091821
CREATED:20251219T192408Z
LAST-MODIFIED:20251219T192408Z
UID:990004250-1791111600-1791117000@www.heartfulnessinstitute.org
SUMMARY:Sunday Group Meditation - San Antonio\, TX
DESCRIPTION:
URL:https://www.heartfulnessinstitute.org/event/sunday-group-meditation-san-antonio-tx/2026-10-04/
LOCATION:Parman Branch Library at Stone Oak\, 20735 Wilderness Oak\, San Antonio\, TX\, 78258\, United States
ATTACH;FMTTYPE=image/jpeg:https://www.heartfulnessinstitute.org/wp-content/uploads/2025/12/Sunday-San-Antonio-Meditation.jpeg
ORGANIZER;CN="San Antonio%2C TX":MAILTO:sanantonio.tx@heartfulness.org
END:VEVENT
BEGIN:VEVENT
DTSTART;TZID=America/Chicago:20261011T110000
DTEND;TZID=America/Chicago:20261011T123000
DTSTAMP:20260422T091821
CREATED:20251219T192408Z
LAST-MODIFIED:20251219T192408Z
UID:990004251-1791716400-1791721800@www.heartfulnessinstitute.org
SUMMARY:Sunday Group Meditation - San Antonio\, TX
DESCRIPTION:
URL:https://www.heartfulnessinstitute.org/event/sunday-group-meditation-san-antonio-tx/2026-10-11/
LOCATION:Parman Branch Library at Stone Oak\, 20735 Wilderness Oak\, San Antonio\, TX\, 78258\, United States
ATTACH;FMTTYPE=image/jpeg:https://www.heartfulnessinstitute.org/wp-content/uploads/2025/12/Sunday-San-Antonio-Meditation.jpeg
ORGANIZER;CN="San Antonio%2C TX":MAILTO:sanantonio.tx@heartfulness.org
END:VEVENT
BEGIN:VEVENT
DTSTART;TZID=America/Chicago:20261018T110000
DTEND;TZID=America/Chicago:20261018T123000
DTSTAMP:20260422T091821
CREATED:20251219T192408Z
LAST-MODIFIED:20251219T192408Z
UID:990004252-1792321200-1792326600@www.heartfulnessinstitute.org
SUMMARY:Sunday Group Meditation - San Antonio\, TX
DESCRIPTION:
URL:https://www.heartfulnessinstitute.org/event/sunday-group-meditation-san-antonio-tx/2026-10-18/
LOCATION:Parman Branch Library at Stone Oak\, 20735 Wilderness Oak\, San Antonio\, TX\, 78258\, United States
ATTACH;FMTTYPE=image/jpeg:https://www.heartfulnessinstitute.org/wp-content/uploads/2025/12/Sunday-San-Antonio-Meditation.jpeg
ORGANIZER;CN="San Antonio%2C TX":MAILTO:sanantonio.tx@heartfulness.org
END:VEVENT
BEGIN:VEVENT
DTSTART;TZID=America/Chicago:20261025T110000
DTEND;TZID=America/Chicago:20261025T123000
DTSTAMP:20260422T091821
CREATED:20251219T192408Z
LAST-MODIFIED:20251219T192408Z
UID:990004253-1792926000-1792931400@www.heartfulnessinstitute.org
SUMMARY:Sunday Group Meditation - San Antonio\, TX
DESCRIPTION:
URL:https://www.heartfulnessinstitute.org/event/sunday-group-meditation-san-antonio-tx/2026-10-25/
LOCATION:Parman Branch Library at Stone Oak\, 20735 Wilderness Oak\, San Antonio\, TX\, 78258\, United States
ATTACH;FMTTYPE=image/jpeg:https://www.heartfulnessinstitute.org/wp-content/uploads/2025/12/Sunday-San-Antonio-Meditation.jpeg
ORGANIZER;CN="San Antonio%2C TX":MAILTO:sanantonio.tx@heartfulness.org
END:VEVENT
BEGIN:VEVENT
DTSTART;TZID=America/Chicago:20261101T110000
DTEND;TZID=America/Chicago:20261101T123000
DTSTAMP:20260422T091821
CREATED:20251219T192408Z
LAST-MODIFIED:20251219T192408Z
UID:990004254-1793530800-1793536200@www.heartfulnessinstitute.org
SUMMARY:Sunday Group Meditation - San Antonio\, TX
DESCRIPTION:
URL:https://www.heartfulnessinstitute.org/event/sunday-group-meditation-san-antonio-tx/2026-11-01/
LOCATION:Parman Branch Library at Stone Oak\, 20735 Wilderness Oak\, San Antonio\, TX\, 78258\, United States
ATTACH;FMTTYPE=image/jpeg:https://www.heartfulnessinstitute.org/wp-content/uploads/2025/12/Sunday-San-Antonio-Meditation.jpeg
ORGANIZER;CN="San Antonio%2C TX":MAILTO:sanantonio.tx@heartfulness.org
END:VEVENT
BEGIN:VEVENT
DTSTART;TZID=America/Chicago:20261108T110000
DTEND;TZID=America/Chicago:20261108T123000
DTSTAMP:20260422T091821
CREATED:20251219T192408Z
LAST-MODIFIED:20251219T192408Z
UID:990004255-1794135600-1794141000@www.heartfulnessinstitute.org
SUMMARY:Sunday Group Meditation - San Antonio\, TX
DESCRIPTION:
URL:https://www.heartfulnessinstitute.org/event/sunday-group-meditation-san-antonio-tx/2026-11-08/
LOCATION:Parman Branch Library at Stone Oak\, 20735 Wilderness Oak\, San Antonio\, TX\, 78258\, United States
ATTACH;FMTTYPE=image/jpeg:https://www.heartfulnessinstitute.org/wp-content/uploads/2025/12/Sunday-San-Antonio-Meditation.jpeg
ORGANIZER;CN="San Antonio%2C TX":MAILTO:sanantonio.tx@heartfulness.org
END:VEVENT
BEGIN:VEVENT
DTSTART;TZID=America/Chicago:20261115T110000
DTEND;TZID=America/Chicago:20261115T123000
DTSTAMP:20260422T091821
CREATED:20251219T192408Z
LAST-MODIFIED:20251219T192408Z
UID:990004256-1794740400-1794745800@www.heartfulnessinstitute.org
SUMMARY:Sunday Group Meditation - San Antonio\, TX
DESCRIPTION:
URL:https://www.heartfulnessinstitute.org/event/sunday-group-meditation-san-antonio-tx/2026-11-15/
LOCATION:Parman Branch Library at Stone Oak\, 20735 Wilderness Oak\, San Antonio\, TX\, 78258\, United States
ATTACH;FMTTYPE=image/jpeg:https://www.heartfulnessinstitute.org/wp-content/uploads/2025/12/Sunday-San-Antonio-Meditation.jpeg
ORGANIZER;CN="San Antonio%2C TX":MAILTO:sanantonio.tx@heartfulness.org
END:VEVENT
BEGIN:VEVENT
DTSTART;TZID=America/Chicago:20261122T110000
DTEND;TZID=America/Chicago:20261122T123000
DTSTAMP:20260422T091821
CREATED:20251219T192408Z
LAST-MODIFIED:20251219T192408Z
UID:990004257-1795345200-1795350600@www.heartfulnessinstitute.org
SUMMARY:Sunday Group Meditation - San Antonio\, TX
DESCRIPTION:
URL:https://www.heartfulnessinstitute.org/event/sunday-group-meditation-san-antonio-tx/2026-11-22/
LOCATION:Parman Branch Library at Stone Oak\, 20735 Wilderness Oak\, San Antonio\, TX\, 78258\, United States
ATTACH;FMTTYPE=image/jpeg:https://www.heartfulnessinstitute.org/wp-content/uploads/2025/12/Sunday-San-Antonio-Meditation.jpeg
ORGANIZER;CN="San Antonio%2C TX":MAILTO:sanantonio.tx@heartfulness.org
END:VEVENT
BEGIN:VEVENT
DTSTART;TZID=America/Chicago:20261129T110000
DTEND;TZID=America/Chicago:20261129T123000
DTSTAMP:20260422T091821
CREATED:20251219T192408Z
LAST-MODIFIED:20251219T192408Z
UID:990004258-1795950000-1795955400@www.heartfulnessinstitute.org
SUMMARY:Sunday Group Meditation - San Antonio\, TX
DESCRIPTION:
URL:https://www.heartfulnessinstitute.org/event/sunday-group-meditation-san-antonio-tx/2026-11-29/
LOCATION:Parman Branch Library at Stone Oak\, 20735 Wilderness Oak\, San Antonio\, TX\, 78258\, United States
ATTACH;FMTTYPE=image/jpeg:https://www.heartfulnessinstitute.org/wp-content/uploads/2025/12/Sunday-San-Antonio-Meditation.jpeg
ORGANIZER;CN="San Antonio%2C TX":MAILTO:sanantonio.tx@heartfulness.org
END:VEVENT
BEGIN:VEVENT
DTSTART;TZID=America/Chicago:20261206T110000
DTEND;TZID=America/Chicago:20261206T123000
DTSTAMP:20260422T091821
CREATED:20251219T192408Z
LAST-MODIFIED:20251219T192408Z
UID:990004259-1796554800-1796560200@www.heartfulnessinstitute.org
SUMMARY:Sunday Group Meditation - San Antonio\, TX
DESCRIPTION:
URL:https://www.heartfulnessinstitute.org/event/sunday-group-meditation-san-antonio-tx/2026-12-06/
LOCATION:Parman Branch Library at Stone Oak\, 20735 Wilderness Oak\, San Antonio\, TX\, 78258\, United States
ATTACH;FMTTYPE=image/jpeg:https://www.heartfulnessinstitute.org/wp-content/uploads/2025/12/Sunday-San-Antonio-Meditation.jpeg
ORGANIZER;CN="San Antonio%2C TX":MAILTO:sanantonio.tx@heartfulness.org
END:VEVENT
BEGIN:VEVENT
DTSTART;TZID=America/Chicago:20261213T110000
DTEND;TZID=America/Chicago:20261213T123000
DTSTAMP:20260422T091821
CREATED:20251219T192408Z
LAST-MODIFIED:20251219T192408Z
UID:990004260-1797159600-1797165000@www.heartfulnessinstitute.org
SUMMARY:Sunday Group Meditation - San Antonio\, TX
DESCRIPTION:
URL:https://www.heartfulnessinstitute.org/event/sunday-group-meditation-san-antonio-tx/2026-12-13/
LOCATION:Parman Branch Library at Stone Oak\, 20735 Wilderness Oak\, San Antonio\, TX\, 78258\, United States
ATTACH;FMTTYPE=image/jpeg:https://www.heartfulnessinstitute.org/wp-content/uploads/2025/12/Sunday-San-Antonio-Meditation.jpeg
ORGANIZER;CN="San Antonio%2C TX":MAILTO:sanantonio.tx@heartfulness.org
END:VEVENT
BEGIN:VEVENT
DTSTART;TZID=America/Chicago:20261220T110000
DTEND;TZID=America/Chicago:20261220T123000
DTSTAMP:20260422T091821
CREATED:20251219T192408Z
LAST-MODIFIED:20251219T192408Z
UID:990004261-1797764400-1797769800@www.heartfulnessinstitute.org
SUMMARY:Sunday Group Meditation - San Antonio\, TX
DESCRIPTION:
URL:https://www.heartfulnessinstitute.org/event/sunday-group-meditation-san-antonio-tx/2026-12-20/
LOCATION:Parman Branch Library at Stone Oak\, 20735 Wilderness Oak\, San Antonio\, TX\, 78258\, United States
ATTACH;FMTTYPE=image/jpeg:https://www.heartfulnessinstitute.org/wp-content/uploads/2025/12/Sunday-San-Antonio-Meditation.jpeg
ORGANIZER;CN="San Antonio%2C TX":MAILTO:sanantonio.tx@heartfulness.org
END:VEVENT
BEGIN:VEVENT
DTSTART;TZID=America/Chicago:20261227T110000
DTEND;TZID=America/Chicago:20261227T123000
DTSTAMP:20260422T091821
CREATED:20251219T192408Z
LAST-MODIFIED:20251219T192408Z
UID:990004262-1798369200-1798374600@www.heartfulnessinstitute.org
SUMMARY:Sunday Group Meditation - San Antonio\, TX
DESCRIPTION:
URL:https://www.heartfulnessinstitute.org/event/sunday-group-meditation-san-antonio-tx/2026-12-27/
LOCATION:Parman Branch Library at Stone Oak\, 20735 Wilderness Oak\, San Antonio\, TX\, 78258\, United States
ATTACH;FMTTYPE=image/jpeg:https://www.heartfulnessinstitute.org/wp-content/uploads/2025/12/Sunday-San-Antonio-Meditation.jpeg
ORGANIZER;CN="San Antonio%2C TX":MAILTO:sanantonio.tx@heartfulness.org
END:VEVENT
BEGIN:VEVENT
DTSTART;TZID=America/Chicago:20270103T110000
DTEND;TZID=America/Chicago:20270103T123000
DTSTAMP:20260422T091821
CREATED:20251219T192408Z
LAST-MODIFIED:20251219T192408Z
UID:990004263-1798974000-1798979400@www.heartfulnessinstitute.org
SUMMARY:Sunday Group Meditation - San Antonio\, TX
DESCRIPTION:
URL:https://www.heartfulnessinstitute.org/event/sunday-group-meditation-san-antonio-tx/2027-01-03/
LOCATION:Parman Branch Library at Stone Oak\, 20735 Wilderness Oak\, San Antonio\, TX\, 78258\, United States
ATTACH;FMTTYPE=image/jpeg:https://www.heartfulnessinstitute.org/wp-content/uploads/2025/12/Sunday-San-Antonio-Meditation.jpeg
ORGANIZER;CN="San Antonio%2C TX":MAILTO:sanantonio.tx@heartfulness.org
END:VEVENT
BEGIN:VEVENT
DTSTART;TZID=America/Chicago:20270110T110000
DTEND;TZID=America/Chicago:20270110T123000
DTSTAMP:20260422T091821
CREATED:20251219T192408Z
LAST-MODIFIED:20251219T192408Z
UID:990004264-1799578800-1799584200@www.heartfulnessinstitute.org
SUMMARY:Sunday Group Meditation - San Antonio\, TX
DESCRIPTION:
URL:https://www.heartfulnessinstitute.org/event/sunday-group-meditation-san-antonio-tx/2027-01-10/
LOCATION:Parman Branch Library at Stone Oak\, 20735 Wilderness Oak\, San Antonio\, TX\, 78258\, United States
ATTACH;FMTTYPE=image/jpeg:https://www.heartfulnessinstitute.org/wp-content/uploads/2025/12/Sunday-San-Antonio-Meditation.jpeg
ORGANIZER;CN="San Antonio%2C TX":MAILTO:sanantonio.tx@heartfulness.org
END:VEVENT
BEGIN:VEVENT
DTSTART;TZID=America/Chicago:20270117T110000
DTEND;TZID=America/Chicago:20270117T123000
DTSTAMP:20260422T091821
CREATED:20251219T192408Z
LAST-MODIFIED:20251219T192408Z
UID:990004265-1800183600-1800189000@www.heartfulnessinstitute.org
SUMMARY:Sunday Group Meditation - San Antonio\, TX
DESCRIPTION:
URL:https://www.heartfulnessinstitute.org/event/sunday-group-meditation-san-antonio-tx/2027-01-17/
LOCATION:Parman Branch Library at Stone Oak\, 20735 Wilderness Oak\, San Antonio\, TX\, 78258\, United States
ATTACH;FMTTYPE=image/jpeg:https://www.heartfulnessinstitute.org/wp-content/uploads/2025/12/Sunday-San-Antonio-Meditation.jpeg
ORGANIZER;CN="San Antonio%2C TX":MAILTO:sanantonio.tx@heartfulness.org
END:VEVENT
BEGIN:VEVENT
DTSTART;TZID=America/Chicago:20270124T110000
DTEND;TZID=America/Chicago:20270124T123000
DTSTAMP:20260422T091821
CREATED:20251219T192408Z
LAST-MODIFIED:20251219T192408Z
UID:990004266-1800788400-1800793800@www.heartfulnessinstitute.org
SUMMARY:Sunday Group Meditation - San Antonio\, TX
DESCRIPTION:
URL:https://www.heartfulnessinstitute.org/event/sunday-group-meditation-san-antonio-tx/2027-01-24/
LOCATION:Parman Branch Library at Stone Oak\, 20735 Wilderness Oak\, San Antonio\, TX\, 78258\, United States
ATTACH;FMTTYPE=image/jpeg:https://www.heartfulnessinstitute.org/wp-content/uploads/2025/12/Sunday-San-Antonio-Meditation.jpeg
ORGANIZER;CN="San Antonio%2C TX":MAILTO:sanantonio.tx@heartfulness.org
END:VEVENT
END:VCALENDAR