BEGIN:VCALENDAR
VERSION:2.0
PRODID:-//Heartfulness Institute - ECPv6.15.1.1//NONSGML v1.0//EN
CALSCALE:GREGORIAN
METHOD:PUBLISH
X-WR-CALNAME:Heartfulness Institute
X-ORIGINAL-URL:https://www.heartfulnessinstitute.org
X-WR-CALDESC:Events for Heartfulness Institute
REFRESH-INTERVAL;VALUE=DURATION:PT1H
X-Robots-Tag:noindex
X-PUBLISHED-TTL:PT1H
BEGIN:VTIMEZONE
TZID:America/New_York
BEGIN:DAYLIGHT
TZOFFSETFROM:-0500
TZOFFSETTO:-0400
TZNAME:EDT
DTSTART:20250309T070000
END:DAYLIGHT
BEGIN:STANDARD
TZOFFSETFROM:-0400
TZOFFSETTO:-0500
TZNAME:EST
DTSTART:20251102T060000
END:STANDARD
BEGIN:DAYLIGHT
TZOFFSETFROM:-0500
TZOFFSETTO:-0400
TZNAME:EDT
DTSTART:20260308T070000
END:DAYLIGHT
BEGIN:STANDARD
TZOFFSETFROM:-0400
TZOFFSETTO:-0500
TZNAME:EST
DTSTART:20261101T060000
END:STANDARD
END:VTIMEZONE
BEGIN:VTIMEZONE
TZID:America/Los_Angeles
BEGIN:DAYLIGHT
TZOFFSETFROM:-0800
TZOFFSETTO:-0700
TZNAME:PDT
DTSTART:20250309T100000
END:DAYLIGHT
BEGIN:STANDARD
TZOFFSETFROM:-0700
TZOFFSETTO:-0800
TZNAME:PST
DTSTART:20251102T090000
END:STANDARD
BEGIN:DAYLIGHT
TZOFFSETFROM:-0800
TZOFFSETTO:-0700
TZNAME:PDT
DTSTART:20260308T100000
END:DAYLIGHT
BEGIN:STANDARD
TZOFFSETFROM:-0700
TZOFFSETTO:-0800
TZNAME:PST
DTSTART:20261101T090000
END:STANDARD
END:VTIMEZONE
BEGIN:VEVENT
DTSTART;TZID=America/New_York:20260118T090000
DTEND;TZID=America/New_York:20260118T100000
DTSTAMP:20260424T004601
CREATED:20251220T033233Z
LAST-MODIFIED:20251220T033233Z
UID:990004736-1768726800-1768730400@www.heartfulnessinstitute.org
SUMMARY:Sunday Group Meditation\, Troy\, MI
DESCRIPTION:Sunday Group Meditation at 3270 West Big Beaver Road\, HTC Building\, 4th Floor\, Troy\, MI 48084
URL:https://www.heartfulnessinstitute.org/event/sunday-group-meditation-troy-mi/2026-01-18/
LOCATION:HTC Building\, Troy\, 3270 West Big Beaver Road\, HTC Building\, 4th Floor\, Troy\, MI\, 48084\, United States
ORGANIZER;CN="Metro Detroit%2C MI":MAILTO:metrodetroit@heartfulness.org
END:VEVENT
BEGIN:VEVENT
DTSTART;TZID=America/Los_Angeles:20260117T090000
DTEND;TZID=America/Los_Angeles:20260117T110000
DTSTAMP:20260424T004601
CREATED:20251221T033106Z
LAST-MODIFIED:20251221T033106Z
UID:990005257-1768640400-1768647600@www.heartfulnessinstitute.org
SUMMARY:Satruday 1-1 Meditation\, Troy\, MI
DESCRIPTION:Saturday 1-1 Meditation at 3270 West Big Beaver Road\, HTC Building\, 4th Floor\, Troy\, MI 48084
URL:https://www.heartfulnessinstitute.org/event/satruday-1-1-meditation-troy-mi/2026-01-17/
LOCATION:HTC Building\, Troy\, 3270 West Big Beaver Road\, HTC Building\, 4th Floor\, Troy\, MI\, 48084\, United States
ORGANIZER;CN="Metro Detroit%2C MI":MAILTO:metrodetroit@heartfulness.org
END:VEVENT
BEGIN:VEVENT
DTSTART;TZID=America/New_York:20260114T190000
DTEND;TZID=America/New_York:20260114T200000
DTSTAMP:20260424T004601
CREATED:20251221T032917Z
LAST-MODIFIED:20251221T032917Z
UID:990004996-1768417200-1768420800@www.heartfulnessinstitute.org
SUMMARY:Wednesday Group Meditation\, Troy\, MI
DESCRIPTION:Wednesday Group Meditation at 3270 West Big Beaver Road\, HTC Building\, 4th Floor\, Troy\, MI 48084
URL:https://www.heartfulnessinstitute.org/event/wednesday-group-meditation-troy-mi/2026-01-14/
LOCATION:HTC Building\, Troy\, 3270 West Big Beaver Road\, HTC Building\, 4th Floor\, Troy\, MI\, 48084\, United States
ORGANIZER;CN="Metro Detroit%2C MI":MAILTO:metrodetroit@heartfulness.org
END:VEVENT
BEGIN:VEVENT
DTSTART;TZID=America/New_York:20260111T090000
DTEND;TZID=America/New_York:20260111T100000
DTSTAMP:20260424T004601
CREATED:20251220T033233Z
LAST-MODIFIED:20251220T033233Z
UID:990004735-1768122000-1768125600@www.heartfulnessinstitute.org
SUMMARY:Sunday Group Meditation\, Troy\, MI
DESCRIPTION:Sunday Group Meditation at 3270 West Big Beaver Road\, HTC Building\, 4th Floor\, Troy\, MI 48084
URL:https://www.heartfulnessinstitute.org/event/sunday-group-meditation-troy-mi/2026-01-11/
LOCATION:HTC Building\, Troy\, 3270 West Big Beaver Road\, HTC Building\, 4th Floor\, Troy\, MI\, 48084\, United States
ORGANIZER;CN="Metro Detroit%2C MI":MAILTO:metrodetroit@heartfulness.org
END:VEVENT
BEGIN:VEVENT
DTSTART;TZID=America/Los_Angeles:20260110T090000
DTEND;TZID=America/Los_Angeles:20260110T110000
DTSTAMP:20260424T004601
CREATED:20251221T033106Z
LAST-MODIFIED:20251221T033106Z
UID:990005256-1768035600-1768042800@www.heartfulnessinstitute.org
SUMMARY:Satruday 1-1 Meditation\, Troy\, MI
DESCRIPTION:Saturday 1-1 Meditation at 3270 West Big Beaver Road\, HTC Building\, 4th Floor\, Troy\, MI 48084
URL:https://www.heartfulnessinstitute.org/event/satruday-1-1-meditation-troy-mi/2026-01-10/
LOCATION:HTC Building\, Troy\, 3270 West Big Beaver Road\, HTC Building\, 4th Floor\, Troy\, MI\, 48084\, United States
ORGANIZER;CN="Metro Detroit%2C MI":MAILTO:metrodetroit@heartfulness.org
END:VEVENT
BEGIN:VEVENT
DTSTART;TZID=America/New_York:20260107T190000
DTEND;TZID=America/New_York:20260107T200000
DTSTAMP:20260424T004601
CREATED:20251221T032917Z
LAST-MODIFIED:20251221T032917Z
UID:990004995-1767812400-1767816000@www.heartfulnessinstitute.org
SUMMARY:Wednesday Group Meditation\, Troy\, MI
DESCRIPTION:Wednesday Group Meditation at 3270 West Big Beaver Road\, HTC Building\, 4th Floor\, Troy\, MI 48084
URL:https://www.heartfulnessinstitute.org/event/wednesday-group-meditation-troy-mi/2026-01-07/
LOCATION:HTC Building\, Troy\, 3270 West Big Beaver Road\, HTC Building\, 4th Floor\, Troy\, MI\, 48084\, United States
ORGANIZER;CN="Metro Detroit%2C MI":MAILTO:metrodetroit@heartfulness.org
END:VEVENT
BEGIN:VEVENT
DTSTART;TZID=America/New_York:20260104T090000
DTEND;TZID=America/New_York:20260104T100000
DTSTAMP:20260424T004601
CREATED:20251220T033233Z
LAST-MODIFIED:20251220T033233Z
UID:990004734-1767517200-1767520800@www.heartfulnessinstitute.org
SUMMARY:Sunday Group Meditation\, Troy\, MI
DESCRIPTION:Sunday Group Meditation at 3270 West Big Beaver Road\, HTC Building\, 4th Floor\, Troy\, MI 48084
URL:https://www.heartfulnessinstitute.org/event/sunday-group-meditation-troy-mi/2026-01-04/
LOCATION:HTC Building\, Troy\, 3270 West Big Beaver Road\, HTC Building\, 4th Floor\, Troy\, MI\, 48084\, United States
ORGANIZER;CN="Metro Detroit%2C MI":MAILTO:metrodetroit@heartfulness.org
END:VEVENT
BEGIN:VEVENT
DTSTART;TZID=America/Los_Angeles:20260103T090000
DTEND;TZID=America/Los_Angeles:20260103T110000
DTSTAMP:20260424T004601
CREATED:20251221T033106Z
LAST-MODIFIED:20251221T033106Z
UID:990005255-1767430800-1767438000@www.heartfulnessinstitute.org
SUMMARY:Satruday 1-1 Meditation\, Troy\, MI
DESCRIPTION:Saturday 1-1 Meditation at 3270 West Big Beaver Road\, HTC Building\, 4th Floor\, Troy\, MI 48084
URL:https://www.heartfulnessinstitute.org/event/satruday-1-1-meditation-troy-mi/2026-01-03/
LOCATION:HTC Building\, Troy\, 3270 West Big Beaver Road\, HTC Building\, 4th Floor\, Troy\, MI\, 48084\, United States
ORGANIZER;CN="Metro Detroit%2C MI":MAILTO:metrodetroit@heartfulness.org
END:VEVENT
BEGIN:VEVENT
DTSTART;TZID=America/New_York:20251231T190000
DTEND;TZID=America/New_York:20251231T200000
DTSTAMP:20260424T004601
CREATED:20251221T032917Z
LAST-MODIFIED:20251221T032917Z
UID:990004994-1767207600-1767211200@www.heartfulnessinstitute.org
SUMMARY:Wednesday Group Meditation\, Troy\, MI
DESCRIPTION:Wednesday Group Meditation at 3270 West Big Beaver Road\, HTC Building\, 4th Floor\, Troy\, MI 48084
URL:https://www.heartfulnessinstitute.org/event/wednesday-group-meditation-troy-mi/2025-12-31/
LOCATION:HTC Building\, Troy\, 3270 West Big Beaver Road\, HTC Building\, 4th Floor\, Troy\, MI\, 48084\, United States
ORGANIZER;CN="Metro Detroit%2C MI":MAILTO:metrodetroit@heartfulness.org
END:VEVENT
BEGIN:VEVENT
DTSTART;TZID=America/New_York:20251228T090000
DTEND;TZID=America/New_York:20251228T100000
DTSTAMP:20260424T004601
CREATED:20251220T033233Z
LAST-MODIFIED:20251220T033233Z
UID:990004733-1766912400-1766916000@www.heartfulnessinstitute.org
SUMMARY:Sunday Group Meditation\, Troy\, MI
DESCRIPTION:Sunday Group Meditation at 3270 West Big Beaver Road\, HTC Building\, 4th Floor\, Troy\, MI 48084
URL:https://www.heartfulnessinstitute.org/event/sunday-group-meditation-troy-mi/2025-12-28/
LOCATION:HTC Building\, Troy\, 3270 West Big Beaver Road\, HTC Building\, 4th Floor\, Troy\, MI\, 48084\, United States
ORGANIZER;CN="Metro Detroit%2C MI":MAILTO:metrodetroit@heartfulness.org
END:VEVENT
BEGIN:VEVENT
DTSTART;TZID=America/Los_Angeles:20251227T090000
DTEND;TZID=America/Los_Angeles:20251227T110000
DTSTAMP:20260424T004601
CREATED:20251221T033106Z
LAST-MODIFIED:20251221T033106Z
UID:990005254-1766826000-1766833200@www.heartfulnessinstitute.org
SUMMARY:Satruday 1-1 Meditation\, Troy\, MI
DESCRIPTION:Saturday 1-1 Meditation at 3270 West Big Beaver Road\, HTC Building\, 4th Floor\, Troy\, MI 48084
URL:https://www.heartfulnessinstitute.org/event/satruday-1-1-meditation-troy-mi/2025-12-27/
LOCATION:HTC Building\, Troy\, 3270 West Big Beaver Road\, HTC Building\, 4th Floor\, Troy\, MI\, 48084\, United States
ORGANIZER;CN="Metro Detroit%2C MI":MAILTO:metrodetroit@heartfulness.org
END:VEVENT
BEGIN:VEVENT
DTSTART;TZID=America/New_York:20251224T190000
DTEND;TZID=America/New_York:20251224T200000
DTSTAMP:20260424T004601
CREATED:20251221T032917Z
LAST-MODIFIED:20251221T032917Z
UID:990004993-1766602800-1766606400@www.heartfulnessinstitute.org
SUMMARY:Wednesday Group Meditation\, Troy\, MI
DESCRIPTION:Wednesday Group Meditation at 3270 West Big Beaver Road\, HTC Building\, 4th Floor\, Troy\, MI 48084
URL:https://www.heartfulnessinstitute.org/event/wednesday-group-meditation-troy-mi/2025-12-24/
LOCATION:HTC Building\, Troy\, 3270 West Big Beaver Road\, HTC Building\, 4th Floor\, Troy\, MI\, 48084\, United States
ORGANIZER;CN="Metro Detroit%2C MI":MAILTO:metrodetroit@heartfulness.org
END:VEVENT
BEGIN:VEVENT
DTSTART;TZID=America/New_York:20251221T090000
DTEND;TZID=America/New_York:20251221T100000
DTSTAMP:20260424T004601
CREATED:20251220T033233Z
LAST-MODIFIED:20251220T033233Z
UID:990004732-1766307600-1766311200@www.heartfulnessinstitute.org
SUMMARY:Sunday Group Meditation\, Troy\, MI
DESCRIPTION:Sunday Group Meditation at 3270 West Big Beaver Road\, HTC Building\, 4th Floor\, Troy\, MI 48084
URL:https://www.heartfulnessinstitute.org/event/sunday-group-meditation-troy-mi/2025-12-21/
LOCATION:HTC Building\, Troy\, 3270 West Big Beaver Road\, HTC Building\, 4th Floor\, Troy\, MI\, 48084\, United States
ORGANIZER;CN="Metro Detroit%2C MI":MAILTO:metrodetroit@heartfulness.org
END:VEVENT
END:VCALENDAR