BEGIN:VCALENDAR
VERSION:2.0
PRODID:-//Heartfulness Institute - ECPv6.15.1.1//NONSGML v1.0//EN
CALSCALE:GREGORIAN
METHOD:PUBLISH
X-ORIGINAL-URL:https://www.heartfulnessinstitute.org
X-WR-CALDESC:Events for Heartfulness Institute
REFRESH-INTERVAL;VALUE=DURATION:PT1H
X-Robots-Tag:noindex
X-PUBLISHED-TTL:PT1H
BEGIN:VTIMEZONE
TZID:America/New_York
BEGIN:DAYLIGHT
TZOFFSETFROM:-0500
TZOFFSETTO:-0400
TZNAME:EDT
DTSTART:20260308T070000
END:DAYLIGHT
BEGIN:STANDARD
TZOFFSETFROM:-0400
TZOFFSETTO:-0500
TZNAME:EST
DTSTART:20261101T060000
END:STANDARD
END:VTIMEZONE
BEGIN:VTIMEZONE
TZID:America/Los_Angeles
BEGIN:DAYLIGHT
TZOFFSETFROM:-0800
TZOFFSETTO:-0700
TZNAME:PDT
DTSTART:20260308T100000
END:DAYLIGHT
BEGIN:STANDARD
TZOFFSETFROM:-0700
TZOFFSETTO:-0800
TZNAME:PST
DTSTART:20261101T090000
END:STANDARD
END:VTIMEZONE
BEGIN:VEVENT
DTSTART;TZID=America/New_York:20260419T090000
DTEND;TZID=America/New_York:20260419T100000
DTSTAMP:20260421T195110
CREATED:20251220T033233Z
LAST-MODIFIED:20251220T033233Z
UID:990004749-1776589200-1776592800@www.heartfulnessinstitute.org
SUMMARY:Sunday Group Meditation\, Troy\, MI
DESCRIPTION:Sunday Group Meditation at 3270 West Big Beaver Road\, HTC Building\, 4th Floor\, Troy\, MI 48084
URL:https://www.heartfulnessinstitute.org/event/sunday-group-meditation-troy-mi/2026-04-19/
LOCATION:HTC Building\, Troy\, 3270 West Big Beaver Road\, HTC Building\, 4th Floor\, Troy\, MI\, 48084\, United States
ORGANIZER;CN="Metro Detroit%2C MI":MAILTO:metrodetroit@heartfulness.org
END:VEVENT
BEGIN:VEVENT
DTSTART;TZID=America/Los_Angeles:20260418T090000
DTEND;TZID=America/Los_Angeles:20260418T110000
DTSTAMP:20260421T195110
CREATED:20251221T033106Z
LAST-MODIFIED:20251221T033106Z
UID:990005270-1776502800-1776510000@www.heartfulnessinstitute.org
SUMMARY:Satruday 1-1 Meditation\, Troy\, MI
DESCRIPTION:Saturday 1-1 Meditation at 3270 West Big Beaver Road\, HTC Building\, 4th Floor\, Troy\, MI 48084
URL:https://www.heartfulnessinstitute.org/event/satruday-1-1-meditation-troy-mi/2026-04-18/
LOCATION:HTC Building\, Troy\, 3270 West Big Beaver Road\, HTC Building\, 4th Floor\, Troy\, MI\, 48084\, United States
ORGANIZER;CN="Metro Detroit%2C MI":MAILTO:metrodetroit@heartfulness.org
END:VEVENT
BEGIN:VEVENT
DTSTART;TZID=America/New_York:20260415T190000
DTEND;TZID=America/New_York:20260415T200000
DTSTAMP:20260421T195110
CREATED:20251221T032917Z
LAST-MODIFIED:20251221T032917Z
UID:990005009-1776279600-1776283200@www.heartfulnessinstitute.org
SUMMARY:Wednesday Group Meditation\, Troy\, MI
DESCRIPTION:Wednesday Group Meditation at 3270 West Big Beaver Road\, HTC Building\, 4th Floor\, Troy\, MI 48084
URL:https://www.heartfulnessinstitute.org/event/wednesday-group-meditation-troy-mi/2026-04-15/
LOCATION:HTC Building\, Troy\, 3270 West Big Beaver Road\, HTC Building\, 4th Floor\, Troy\, MI\, 48084\, United States
ORGANIZER;CN="Metro Detroit%2C MI":MAILTO:metrodetroit@heartfulness.org
END:VEVENT
BEGIN:VEVENT
DTSTART;TZID=America/New_York:20260412T090000
DTEND;TZID=America/New_York:20260412T100000
DTSTAMP:20260421T195111
CREATED:20251220T033233Z
LAST-MODIFIED:20251220T033233Z
UID:990004748-1775984400-1775988000@www.heartfulnessinstitute.org
SUMMARY:Sunday Group Meditation\, Troy\, MI
DESCRIPTION:Sunday Group Meditation at 3270 West Big Beaver Road\, HTC Building\, 4th Floor\, Troy\, MI 48084
URL:https://www.heartfulnessinstitute.org/event/sunday-group-meditation-troy-mi/2026-04-12/
LOCATION:HTC Building\, Troy\, 3270 West Big Beaver Road\, HTC Building\, 4th Floor\, Troy\, MI\, 48084\, United States
ORGANIZER;CN="Metro Detroit%2C MI":MAILTO:metrodetroit@heartfulness.org
END:VEVENT
BEGIN:VEVENT
DTSTART;TZID=America/Los_Angeles:20260411T090000
DTEND;TZID=America/Los_Angeles:20260411T110000
DTSTAMP:20260421T195111
CREATED:20251221T033106Z
LAST-MODIFIED:20251221T033106Z
UID:990005269-1775898000-1775905200@www.heartfulnessinstitute.org
SUMMARY:Satruday 1-1 Meditation\, Troy\, MI
DESCRIPTION:Saturday 1-1 Meditation at 3270 West Big Beaver Road\, HTC Building\, 4th Floor\, Troy\, MI 48084
URL:https://www.heartfulnessinstitute.org/event/satruday-1-1-meditation-troy-mi/2026-04-11/
LOCATION:HTC Building\, Troy\, 3270 West Big Beaver Road\, HTC Building\, 4th Floor\, Troy\, MI\, 48084\, United States
ORGANIZER;CN="Metro Detroit%2C MI":MAILTO:metrodetroit@heartfulness.org
END:VEVENT
BEGIN:VEVENT
DTSTART;TZID=America/New_York:20260408T190000
DTEND;TZID=America/New_York:20260408T200000
DTSTAMP:20260421T195111
CREATED:20251221T032917Z
LAST-MODIFIED:20251221T032917Z
UID:990005008-1775674800-1775678400@www.heartfulnessinstitute.org
SUMMARY:Wednesday Group Meditation\, Troy\, MI
DESCRIPTION:Wednesday Group Meditation at 3270 West Big Beaver Road\, HTC Building\, 4th Floor\, Troy\, MI 48084
URL:https://www.heartfulnessinstitute.org/event/wednesday-group-meditation-troy-mi/2026-04-08/
LOCATION:HTC Building\, Troy\, 3270 West Big Beaver Road\, HTC Building\, 4th Floor\, Troy\, MI\, 48084\, United States
ORGANIZER;CN="Metro Detroit%2C MI":MAILTO:metrodetroit@heartfulness.org
END:VEVENT
BEGIN:VEVENT
DTSTART;TZID=America/New_York:20260405T090000
DTEND;TZID=America/New_York:20260405T100000
DTSTAMP:20260421T195111
CREATED:20251220T033233Z
LAST-MODIFIED:20251220T033233Z
UID:990004747-1775379600-1775383200@www.heartfulnessinstitute.org
SUMMARY:Sunday Group Meditation\, Troy\, MI
DESCRIPTION:Sunday Group Meditation at 3270 West Big Beaver Road\, HTC Building\, 4th Floor\, Troy\, MI 48084
URL:https://www.heartfulnessinstitute.org/event/sunday-group-meditation-troy-mi/2026-04-05/
LOCATION:HTC Building\, Troy\, 3270 West Big Beaver Road\, HTC Building\, 4th Floor\, Troy\, MI\, 48084\, United States
ORGANIZER;CN="Metro Detroit%2C MI":MAILTO:metrodetroit@heartfulness.org
END:VEVENT
BEGIN:VEVENT
DTSTART;TZID=America/Los_Angeles:20260404T090000
DTEND;TZID=America/Los_Angeles:20260404T110000
DTSTAMP:20260421T195111
CREATED:20251221T033106Z
LAST-MODIFIED:20251221T033106Z
UID:990005268-1775293200-1775300400@www.heartfulnessinstitute.org
SUMMARY:Satruday 1-1 Meditation\, Troy\, MI
DESCRIPTION:Saturday 1-1 Meditation at 3270 West Big Beaver Road\, HTC Building\, 4th Floor\, Troy\, MI 48084
URL:https://www.heartfulnessinstitute.org/event/satruday-1-1-meditation-troy-mi/2026-04-04/
LOCATION:HTC Building\, Troy\, 3270 West Big Beaver Road\, HTC Building\, 4th Floor\, Troy\, MI\, 48084\, United States
ORGANIZER;CN="Metro Detroit%2C MI":MAILTO:metrodetroit@heartfulness.org
END:VEVENT
BEGIN:VEVENT
DTSTART;TZID=America/New_York:20260401T190000
DTEND;TZID=America/New_York:20260401T200000
DTSTAMP:20260421T195111
CREATED:20251221T032917Z
LAST-MODIFIED:20251221T032917Z
UID:990005007-1775070000-1775073600@www.heartfulnessinstitute.org
SUMMARY:Wednesday Group Meditation\, Troy\, MI
DESCRIPTION:Wednesday Group Meditation at 3270 West Big Beaver Road\, HTC Building\, 4th Floor\, Troy\, MI 48084
URL:https://www.heartfulnessinstitute.org/event/wednesday-group-meditation-troy-mi/2026-04-01/
LOCATION:HTC Building\, Troy\, 3270 West Big Beaver Road\, HTC Building\, 4th Floor\, Troy\, MI\, 48084\, United States
ORGANIZER;CN="Metro Detroit%2C MI":MAILTO:metrodetroit@heartfulness.org
END:VEVENT
BEGIN:VEVENT
DTSTART;TZID=America/New_York:20260329T090000
DTEND;TZID=America/New_York:20260329T100000
DTSTAMP:20260421T195111
CREATED:20251220T033233Z
LAST-MODIFIED:20251220T033233Z
UID:990004746-1774774800-1774778400@www.heartfulnessinstitute.org
SUMMARY:Sunday Group Meditation\, Troy\, MI
DESCRIPTION:Sunday Group Meditation at 3270 West Big Beaver Road\, HTC Building\, 4th Floor\, Troy\, MI 48084
URL:https://www.heartfulnessinstitute.org/event/sunday-group-meditation-troy-mi/2026-03-29/
LOCATION:HTC Building\, Troy\, 3270 West Big Beaver Road\, HTC Building\, 4th Floor\, Troy\, MI\, 48084\, United States
ORGANIZER;CN="Metro Detroit%2C MI":MAILTO:metrodetroit@heartfulness.org
END:VEVENT
BEGIN:VEVENT
DTSTART;TZID=America/Los_Angeles:20260328T090000
DTEND;TZID=America/Los_Angeles:20260328T110000
DTSTAMP:20260421T195111
CREATED:20251221T033106Z
LAST-MODIFIED:20251221T033106Z
UID:990005267-1774688400-1774695600@www.heartfulnessinstitute.org
SUMMARY:Satruday 1-1 Meditation\, Troy\, MI
DESCRIPTION:Saturday 1-1 Meditation at 3270 West Big Beaver Road\, HTC Building\, 4th Floor\, Troy\, MI 48084
URL:https://www.heartfulnessinstitute.org/event/satruday-1-1-meditation-troy-mi/2026-03-28/
LOCATION:HTC Building\, Troy\, 3270 West Big Beaver Road\, HTC Building\, 4th Floor\, Troy\, MI\, 48084\, United States
ORGANIZER;CN="Metro Detroit%2C MI":MAILTO:metrodetroit@heartfulness.org
END:VEVENT
BEGIN:VEVENT
DTSTART;TZID=America/New_York:20260325T190000
DTEND;TZID=America/New_York:20260325T200000
DTSTAMP:20260421T195111
CREATED:20251221T032917Z
LAST-MODIFIED:20251221T032917Z
UID:990005006-1774465200-1774468800@www.heartfulnessinstitute.org
SUMMARY:Wednesday Group Meditation\, Troy\, MI
DESCRIPTION:Wednesday Group Meditation at 3270 West Big Beaver Road\, HTC Building\, 4th Floor\, Troy\, MI 48084
URL:https://www.heartfulnessinstitute.org/event/wednesday-group-meditation-troy-mi/2026-03-25/
LOCATION:HTC Building\, Troy\, 3270 West Big Beaver Road\, HTC Building\, 4th Floor\, Troy\, MI\, 48084\, United States
ORGANIZER;CN="Metro Detroit%2C MI":MAILTO:metrodetroit@heartfulness.org
END:VEVENT
BEGIN:VEVENT
DTSTART;TZID=America/New_York:20260322T090000
DTEND;TZID=America/New_York:20260322T100000
DTSTAMP:20260421T195111
CREATED:20251220T033233Z
LAST-MODIFIED:20251220T033233Z
UID:990004745-1774170000-1774173600@www.heartfulnessinstitute.org
SUMMARY:Sunday Group Meditation\, Troy\, MI
DESCRIPTION:Sunday Group Meditation at 3270 West Big Beaver Road\, HTC Building\, 4th Floor\, Troy\, MI 48084
URL:https://www.heartfulnessinstitute.org/event/sunday-group-meditation-troy-mi/2026-03-22/
LOCATION:HTC Building\, Troy\, 3270 West Big Beaver Road\, HTC Building\, 4th Floor\, Troy\, MI\, 48084\, United States
ORGANIZER;CN="Metro Detroit%2C MI":MAILTO:metrodetroit@heartfulness.org
END:VEVENT
BEGIN:VEVENT
DTSTART;TZID=America/Los_Angeles:20260321T090000
DTEND;TZID=America/Los_Angeles:20260321T110000
DTSTAMP:20260421T195111
CREATED:20251221T033106Z
LAST-MODIFIED:20251221T033106Z
UID:990005266-1774083600-1774090800@www.heartfulnessinstitute.org
SUMMARY:Satruday 1-1 Meditation\, Troy\, MI
DESCRIPTION:Saturday 1-1 Meditation at 3270 West Big Beaver Road\, HTC Building\, 4th Floor\, Troy\, MI 48084
URL:https://www.heartfulnessinstitute.org/event/satruday-1-1-meditation-troy-mi/2026-03-21/
LOCATION:HTC Building\, Troy\, 3270 West Big Beaver Road\, HTC Building\, 4th Floor\, Troy\, MI\, 48084\, United States
ORGANIZER;CN="Metro Detroit%2C MI":MAILTO:metrodetroit@heartfulness.org
END:VEVENT
BEGIN:VEVENT
DTSTART;TZID=America/New_York:20260318T190000
DTEND;TZID=America/New_York:20260318T200000
DTSTAMP:20260421T195111
CREATED:20251221T032917Z
LAST-MODIFIED:20251221T032917Z
UID:990005005-1773860400-1773864000@www.heartfulnessinstitute.org
SUMMARY:Wednesday Group Meditation\, Troy\, MI
DESCRIPTION:Wednesday Group Meditation at 3270 West Big Beaver Road\, HTC Building\, 4th Floor\, Troy\, MI 48084
URL:https://www.heartfulnessinstitute.org/event/wednesday-group-meditation-troy-mi/2026-03-18/
LOCATION:HTC Building\, Troy\, 3270 West Big Beaver Road\, HTC Building\, 4th Floor\, Troy\, MI\, 48084\, United States
ORGANIZER;CN="Metro Detroit%2C MI":MAILTO:metrodetroit@heartfulness.org
END:VEVENT
BEGIN:VEVENT
DTSTART;TZID=America/New_York:20260315T090000
DTEND;TZID=America/New_York:20260315T100000
DTSTAMP:20260421T195111
CREATED:20251220T033233Z
LAST-MODIFIED:20251220T033233Z
UID:990004744-1773565200-1773568800@www.heartfulnessinstitute.org
SUMMARY:Sunday Group Meditation\, Troy\, MI
DESCRIPTION:Sunday Group Meditation at 3270 West Big Beaver Road\, HTC Building\, 4th Floor\, Troy\, MI 48084
URL:https://www.heartfulnessinstitute.org/event/sunday-group-meditation-troy-mi/2026-03-15/
LOCATION:HTC Building\, Troy\, 3270 West Big Beaver Road\, HTC Building\, 4th Floor\, Troy\, MI\, 48084\, United States
ORGANIZER;CN="Metro Detroit%2C MI":MAILTO:metrodetroit@heartfulness.org
END:VEVENT
BEGIN:VEVENT
DTSTART;TZID=America/Los_Angeles:20260314T090000
DTEND;TZID=America/Los_Angeles:20260314T110000
DTSTAMP:20260421T195111
CREATED:20251221T033106Z
LAST-MODIFIED:20251221T033106Z
UID:990005265-1773478800-1773486000@www.heartfulnessinstitute.org
SUMMARY:Satruday 1-1 Meditation\, Troy\, MI
DESCRIPTION:Saturday 1-1 Meditation at 3270 West Big Beaver Road\, HTC Building\, 4th Floor\, Troy\, MI 48084
URL:https://www.heartfulnessinstitute.org/event/satruday-1-1-meditation-troy-mi/2026-03-14/
LOCATION:HTC Building\, Troy\, 3270 West Big Beaver Road\, HTC Building\, 4th Floor\, Troy\, MI\, 48084\, United States
ORGANIZER;CN="Metro Detroit%2C MI":MAILTO:metrodetroit@heartfulness.org
END:VEVENT
BEGIN:VEVENT
DTSTART;TZID=America/New_York:20260311T190000
DTEND;TZID=America/New_York:20260311T200000
DTSTAMP:20260421T195111
CREATED:20251221T032917Z
LAST-MODIFIED:20251221T032917Z
UID:990005004-1773255600-1773259200@www.heartfulnessinstitute.org
SUMMARY:Wednesday Group Meditation\, Troy\, MI
DESCRIPTION:Wednesday Group Meditation at 3270 West Big Beaver Road\, HTC Building\, 4th Floor\, Troy\, MI 48084
URL:https://www.heartfulnessinstitute.org/event/wednesday-group-meditation-troy-mi/2026-03-11/
LOCATION:HTC Building\, Troy\, 3270 West Big Beaver Road\, HTC Building\, 4th Floor\, Troy\, MI\, 48084\, United States
ORGANIZER;CN="Metro Detroit%2C MI":MAILTO:metrodetroit@heartfulness.org
END:VEVENT
BEGIN:VEVENT
DTSTART;TZID=America/New_York:20260308T090000
DTEND;TZID=America/New_York:20260308T100000
DTSTAMP:20260421T195111
CREATED:20251220T033233Z
LAST-MODIFIED:20251220T033233Z
UID:990004743-1772960400-1772964000@www.heartfulnessinstitute.org
SUMMARY:Sunday Group Meditation\, Troy\, MI
DESCRIPTION:Sunday Group Meditation at 3270 West Big Beaver Road\, HTC Building\, 4th Floor\, Troy\, MI 48084
URL:https://www.heartfulnessinstitute.org/event/sunday-group-meditation-troy-mi/2026-03-08/
LOCATION:HTC Building\, Troy\, 3270 West Big Beaver Road\, HTC Building\, 4th Floor\, Troy\, MI\, 48084\, United States
ORGANIZER;CN="Metro Detroit%2C MI":MAILTO:metrodetroit@heartfulness.org
END:VEVENT
BEGIN:VEVENT
DTSTART;TZID=America/Los_Angeles:20260307T090000
DTEND;TZID=America/Los_Angeles:20260307T110000
DTSTAMP:20260421T195111
CREATED:20251221T033106Z
LAST-MODIFIED:20251221T033106Z
UID:990005264-1772874000-1772881200@www.heartfulnessinstitute.org
SUMMARY:Satruday 1-1 Meditation\, Troy\, MI
DESCRIPTION:Saturday 1-1 Meditation at 3270 West Big Beaver Road\, HTC Building\, 4th Floor\, Troy\, MI 48084
URL:https://www.heartfulnessinstitute.org/event/satruday-1-1-meditation-troy-mi/2026-03-07/
LOCATION:HTC Building\, Troy\, 3270 West Big Beaver Road\, HTC Building\, 4th Floor\, Troy\, MI\, 48084\, United States
ORGANIZER;CN="Metro Detroit%2C MI":MAILTO:metrodetroit@heartfulness.org
END:VEVENT
BEGIN:VEVENT
DTSTART;TZID=America/New_York:20260304T190000
DTEND;TZID=America/New_York:20260304T200000
DTSTAMP:20260421T195111
CREATED:20251221T032917Z
LAST-MODIFIED:20251221T032917Z
UID:990005003-1772650800-1772654400@www.heartfulnessinstitute.org
SUMMARY:Wednesday Group Meditation\, Troy\, MI
DESCRIPTION:Wednesday Group Meditation at 3270 West Big Beaver Road\, HTC Building\, 4th Floor\, Troy\, MI 48084
URL:https://www.heartfulnessinstitute.org/event/wednesday-group-meditation-troy-mi/2026-03-04/
LOCATION:HTC Building\, Troy\, 3270 West Big Beaver Road\, HTC Building\, 4th Floor\, Troy\, MI\, 48084\, United States
ORGANIZER;CN="Metro Detroit%2C MI":MAILTO:metrodetroit@heartfulness.org
END:VEVENT
BEGIN:VEVENT
DTSTART;TZID=America/New_York:20260301T090000
DTEND;TZID=America/New_York:20260301T100000
DTSTAMP:20260421T195111
CREATED:20251220T033233Z
LAST-MODIFIED:20251220T033233Z
UID:990004742-1772355600-1772359200@www.heartfulnessinstitute.org
SUMMARY:Sunday Group Meditation\, Troy\, MI
DESCRIPTION:Sunday Group Meditation at 3270 West Big Beaver Road\, HTC Building\, 4th Floor\, Troy\, MI 48084
URL:https://www.heartfulnessinstitute.org/event/sunday-group-meditation-troy-mi/2026-03-01/
LOCATION:HTC Building\, Troy\, 3270 West Big Beaver Road\, HTC Building\, 4th Floor\, Troy\, MI\, 48084\, United States
ORGANIZER;CN="Metro Detroit%2C MI":MAILTO:metrodetroit@heartfulness.org
END:VEVENT
BEGIN:VEVENT
DTSTART;TZID=America/Los_Angeles:20260228T090000
DTEND;TZID=America/Los_Angeles:20260228T110000
DTSTAMP:20260421T195111
CREATED:20251221T033106Z
LAST-MODIFIED:20251221T033106Z
UID:990005263-1772269200-1772276400@www.heartfulnessinstitute.org
SUMMARY:Satruday 1-1 Meditation\, Troy\, MI
DESCRIPTION:Saturday 1-1 Meditation at 3270 West Big Beaver Road\, HTC Building\, 4th Floor\, Troy\, MI 48084
URL:https://www.heartfulnessinstitute.org/event/satruday-1-1-meditation-troy-mi/2026-02-28/
LOCATION:HTC Building\, Troy\, 3270 West Big Beaver Road\, HTC Building\, 4th Floor\, Troy\, MI\, 48084\, United States
ORGANIZER;CN="Metro Detroit%2C MI":MAILTO:metrodetroit@heartfulness.org
END:VEVENT
BEGIN:VEVENT
DTSTART;TZID=America/New_York:20260225T190000
DTEND;TZID=America/New_York:20260225T200000
DTSTAMP:20260421T195111
CREATED:20251221T032917Z
LAST-MODIFIED:20251221T032917Z
UID:990005002-1772046000-1772049600@www.heartfulnessinstitute.org
SUMMARY:Wednesday Group Meditation\, Troy\, MI
DESCRIPTION:Wednesday Group Meditation at 3270 West Big Beaver Road\, HTC Building\, 4th Floor\, Troy\, MI 48084
URL:https://www.heartfulnessinstitute.org/event/wednesday-group-meditation-troy-mi/2026-02-25/
LOCATION:HTC Building\, Troy\, 3270 West Big Beaver Road\, HTC Building\, 4th Floor\, Troy\, MI\, 48084\, United States
ORGANIZER;CN="Metro Detroit%2C MI":MAILTO:metrodetroit@heartfulness.org
END:VEVENT
BEGIN:VEVENT
DTSTART;TZID=America/New_York:20260222T090000
DTEND;TZID=America/New_York:20260222T100000
DTSTAMP:20260421T195111
CREATED:20251220T033233Z
LAST-MODIFIED:20251220T033233Z
UID:990004741-1771750800-1771754400@www.heartfulnessinstitute.org
SUMMARY:Sunday Group Meditation\, Troy\, MI
DESCRIPTION:Sunday Group Meditation at 3270 West Big Beaver Road\, HTC Building\, 4th Floor\, Troy\, MI 48084
URL:https://www.heartfulnessinstitute.org/event/sunday-group-meditation-troy-mi/2026-02-22/
LOCATION:HTC Building\, Troy\, 3270 West Big Beaver Road\, HTC Building\, 4th Floor\, Troy\, MI\, 48084\, United States
ORGANIZER;CN="Metro Detroit%2C MI":MAILTO:metrodetroit@heartfulness.org
END:VEVENT
BEGIN:VEVENT
DTSTART;TZID=America/Los_Angeles:20260221T090000
DTEND;TZID=America/Los_Angeles:20260221T110000
DTSTAMP:20260421T195111
CREATED:20251221T033106Z
LAST-MODIFIED:20251221T033106Z
UID:990005262-1771664400-1771671600@www.heartfulnessinstitute.org
SUMMARY:Satruday 1-1 Meditation\, Troy\, MI
DESCRIPTION:Saturday 1-1 Meditation at 3270 West Big Beaver Road\, HTC Building\, 4th Floor\, Troy\, MI 48084
URL:https://www.heartfulnessinstitute.org/event/satruday-1-1-meditation-troy-mi/2026-02-21/
LOCATION:HTC Building\, Troy\, 3270 West Big Beaver Road\, HTC Building\, 4th Floor\, Troy\, MI\, 48084\, United States
ORGANIZER;CN="Metro Detroit%2C MI":MAILTO:metrodetroit@heartfulness.org
END:VEVENT
BEGIN:VEVENT
DTSTART;TZID=America/New_York:20260218T190000
DTEND;TZID=America/New_York:20260218T200000
DTSTAMP:20260421T195111
CREATED:20251221T032917Z
LAST-MODIFIED:20251221T032917Z
UID:990005001-1771441200-1771444800@www.heartfulnessinstitute.org
SUMMARY:Wednesday Group Meditation\, Troy\, MI
DESCRIPTION:Wednesday Group Meditation at 3270 West Big Beaver Road\, HTC Building\, 4th Floor\, Troy\, MI 48084
URL:https://www.heartfulnessinstitute.org/event/wednesday-group-meditation-troy-mi/2026-02-18/
LOCATION:HTC Building\, Troy\, 3270 West Big Beaver Road\, HTC Building\, 4th Floor\, Troy\, MI\, 48084\, United States
ORGANIZER;CN="Metro Detroit%2C MI":MAILTO:metrodetroit@heartfulness.org
END:VEVENT
BEGIN:VEVENT
DTSTART;TZID=America/New_York:20260215T090000
DTEND;TZID=America/New_York:20260215T100000
DTSTAMP:20260421T195111
CREATED:20251220T033233Z
LAST-MODIFIED:20251220T033233Z
UID:990004740-1771146000-1771149600@www.heartfulnessinstitute.org
SUMMARY:Sunday Group Meditation\, Troy\, MI
DESCRIPTION:Sunday Group Meditation at 3270 West Big Beaver Road\, HTC Building\, 4th Floor\, Troy\, MI 48084
URL:https://www.heartfulnessinstitute.org/event/sunday-group-meditation-troy-mi/2026-02-15/
LOCATION:HTC Building\, Troy\, 3270 West Big Beaver Road\, HTC Building\, 4th Floor\, Troy\, MI\, 48084\, United States
ORGANIZER;CN="Metro Detroit%2C MI":MAILTO:metrodetroit@heartfulness.org
END:VEVENT
BEGIN:VEVENT
DTSTART;TZID=America/Los_Angeles:20260214T090000
DTEND;TZID=America/Los_Angeles:20260214T110000
DTSTAMP:20260421T195111
CREATED:20251221T033106Z
LAST-MODIFIED:20251221T033106Z
UID:990005261-1771059600-1771066800@www.heartfulnessinstitute.org
SUMMARY:Satruday 1-1 Meditation\, Troy\, MI
DESCRIPTION:Saturday 1-1 Meditation at 3270 West Big Beaver Road\, HTC Building\, 4th Floor\, Troy\, MI 48084
URL:https://www.heartfulnessinstitute.org/event/satruday-1-1-meditation-troy-mi/2026-02-14/
LOCATION:HTC Building\, Troy\, 3270 West Big Beaver Road\, HTC Building\, 4th Floor\, Troy\, MI\, 48084\, United States
ORGANIZER;CN="Metro Detroit%2C MI":MAILTO:metrodetroit@heartfulness.org
END:VEVENT
BEGIN:VEVENT
DTSTART;TZID=America/New_York:20260211T190000
DTEND;TZID=America/New_York:20260211T200000
DTSTAMP:20260421T195111
CREATED:20251221T032917Z
LAST-MODIFIED:20251221T032917Z
UID:990005000-1770836400-1770840000@www.heartfulnessinstitute.org
SUMMARY:Wednesday Group Meditation\, Troy\, MI
DESCRIPTION:Wednesday Group Meditation at 3270 West Big Beaver Road\, HTC Building\, 4th Floor\, Troy\, MI 48084
URL:https://www.heartfulnessinstitute.org/event/wednesday-group-meditation-troy-mi/2026-02-11/
LOCATION:HTC Building\, Troy\, 3270 West Big Beaver Road\, HTC Building\, 4th Floor\, Troy\, MI\, 48084\, United States
ORGANIZER;CN="Metro Detroit%2C MI":MAILTO:metrodetroit@heartfulness.org
END:VEVENT
END:VCALENDAR