BEGIN:VCALENDAR
VERSION:2.0
PRODID:-//Heartfulness Institute - ECPv6.15.1.1//NONSGML v1.0//EN
CALSCALE:GREGORIAN
METHOD:PUBLISH
X-WR-CALNAME:Heartfulness Institute
X-ORIGINAL-URL:https://www.heartfulnessinstitute.org
X-WR-CALDESC:Events for Heartfulness Institute
REFRESH-INTERVAL;VALUE=DURATION:PT1H
X-Robots-Tag:noindex
X-PUBLISHED-TTL:PT1H
BEGIN:VTIMEZONE
TZID:America/New_York
BEGIN:DAYLIGHT
TZOFFSETFROM:-0500
TZOFFSETTO:-0400
TZNAME:EDT
DTSTART:20300310T070000
END:DAYLIGHT
BEGIN:STANDARD
TZOFFSETFROM:-0400
TZOFFSETTO:-0500
TZNAME:EST
DTSTART:20301103T060000
END:STANDARD
END:VTIMEZONE
BEGIN:VEVENT
DTSTART;TZID=America/New_York:20301201T090000
DTEND;TZID=America/New_York:20301201T100000
DTSTAMP:20260421T025826
CREATED:20251221T034256Z
LAST-MODIFIED:20251221T034256Z
UID:990005772-1922346000-1922349600@www.heartfulnessinstitute.org
SUMMARY:Sunday Group Meditation\, Canton\, MI
DESCRIPTION:Sunday Group Meditation\, at 7380 Burgundy Street\, Canton\, MI 48187
URL:https://www.heartfulnessinstitute.org/event/sunday-group-meditation-canton-mi/2030-12-01/
LOCATION:Canton\, MI\, 7380 Burgundy Street\, Canton\, MI\, 48187\, United States
ORGANIZER;CN="Metro Detroit%2C MI":MAILTO:metrodetroit@heartfulness.org
END:VEVENT
BEGIN:VEVENT
DTSTART;TZID=America/New_York:20301208T090000
DTEND;TZID=America/New_York:20301208T100000
DTSTAMP:20260421T025826
CREATED:20251221T034256Z
LAST-MODIFIED:20251221T034256Z
UID:990005773-1922950800-1922954400@www.heartfulnessinstitute.org
SUMMARY:Sunday Group Meditation\, Canton\, MI
DESCRIPTION:Sunday Group Meditation\, at 7380 Burgundy Street\, Canton\, MI 48187
URL:https://www.heartfulnessinstitute.org/event/sunday-group-meditation-canton-mi/2030-12-08/
LOCATION:Canton\, MI\, 7380 Burgundy Street\, Canton\, MI\, 48187\, United States
ORGANIZER;CN="Metro Detroit%2C MI":MAILTO:metrodetroit@heartfulness.org
END:VEVENT
BEGIN:VEVENT
DTSTART;TZID=America/New_York:20301215T090000
DTEND;TZID=America/New_York:20301215T100000
DTSTAMP:20260421T025826
CREATED:20251221T034256Z
LAST-MODIFIED:20251221T034256Z
UID:990005774-1923555600-1923559200@www.heartfulnessinstitute.org
SUMMARY:Sunday Group Meditation\, Canton\, MI
DESCRIPTION:Sunday Group Meditation\, at 7380 Burgundy Street\, Canton\, MI 48187
URL:https://www.heartfulnessinstitute.org/event/sunday-group-meditation-canton-mi/2030-12-15/
LOCATION:Canton\, MI\, 7380 Burgundy Street\, Canton\, MI\, 48187\, United States
ORGANIZER;CN="Metro Detroit%2C MI":MAILTO:metrodetroit@heartfulness.org
END:VEVENT
END:VCALENDAR