BEGIN:VCALENDAR
VERSION:2.0
PRODID:-//Heartfulness Institute - ECPv6.15.1.1//NONSGML v1.0//EN
CALSCALE:GREGORIAN
METHOD:PUBLISH
X-ORIGINAL-URL:https://www.heartfulnessinstitute.org
X-WR-CALDESC:Events for Heartfulness Institute
REFRESH-INTERVAL;VALUE=DURATION:PT1H
X-Robots-Tag:noindex
X-PUBLISHED-TTL:PT1H
BEGIN:VTIMEZONE
TZID:America/Chicago
BEGIN:DAYLIGHT
TZOFFSETFROM:-0600
TZOFFSETTO:-0500
TZNAME:CDT
DTSTART:20290311T080000
END:DAYLIGHT
BEGIN:STANDARD
TZOFFSETFROM:-0500
TZOFFSETTO:-0600
TZNAME:CST
DTSTART:20291104T070000
END:STANDARD
BEGIN:DAYLIGHT
TZOFFSETFROM:-0600
TZOFFSETTO:-0500
TZNAME:CDT
DTSTART:20300310T080000
END:DAYLIGHT
BEGIN:STANDARD
TZOFFSETFROM:-0500
TZOFFSETTO:-0600
TZNAME:CST
DTSTART:20301103T070000
END:STANDARD
END:VTIMEZONE
BEGIN:VEVENT
DTSTART;TZID=America/Chicago:20291110T100000
DTEND;TZID=America/Chicago:20291110T110000
DTSTAMP:20260425T083313
CREATED:20251219T192748Z
LAST-MODIFIED:20251219T192748Z
UID:990004673-1888999200-1889002800@www.heartfulnessinstitute.org
SUMMARY:Saturday Group Meditation - San Antonio\, TX
DESCRIPTION:
URL:https://www.heartfulnessinstitute.org/event/saturday-group-meditation-san-antonio-tx/2029-11-10/
LOCATION:Igo Branch Library\, 13330 Kyle Seale Pkwy\, San Antonio\, TX\, 78249\, United States
ATTACH;FMTTYPE=image/jpeg:https://www.heartfulnessinstitute.org/wp-content/uploads/2025/12/Saturday-San-Antonio-Meditation.jpeg
ORGANIZER;CN="San Antonio%2C TX":MAILTO:sanantonio.tx@heartfulness.org
END:VEVENT
BEGIN:VEVENT
DTSTART;TZID=America/Chicago:20291111T110000
DTEND;TZID=America/Chicago:20291111T123000
DTSTAMP:20260425T083313
CREATED:20251219T192408Z
LAST-MODIFIED:20251219T192408Z
UID:990004412-1889089200-1889094600@www.heartfulnessinstitute.org
SUMMARY:Sunday Group Meditation - San Antonio\, TX
DESCRIPTION:
URL:https://www.heartfulnessinstitute.org/event/sunday-group-meditation-san-antonio-tx/2029-11-11/
LOCATION:Parman Branch Library at Stone Oak\, 20735 Wilderness Oak\, San Antonio\, TX\, 78258\, United States
ATTACH;FMTTYPE=image/jpeg:https://www.heartfulnessinstitute.org/wp-content/uploads/2025/12/Sunday-San-Antonio-Meditation.jpeg
ORGANIZER;CN="San Antonio%2C TX":MAILTO:sanantonio.tx@heartfulness.org
END:VEVENT
BEGIN:VEVENT
DTSTART;TZID=America/Chicago:20291117T100000
DTEND;TZID=America/Chicago:20291117T110000
DTSTAMP:20260425T083313
CREATED:20251219T192748Z
LAST-MODIFIED:20251219T192748Z
UID:990004674-1889604000-1889607600@www.heartfulnessinstitute.org
SUMMARY:Saturday Group Meditation - San Antonio\, TX
DESCRIPTION:
URL:https://www.heartfulnessinstitute.org/event/saturday-group-meditation-san-antonio-tx/2029-11-17/
LOCATION:Igo Branch Library\, 13330 Kyle Seale Pkwy\, San Antonio\, TX\, 78249\, United States
ATTACH;FMTTYPE=image/jpeg:https://www.heartfulnessinstitute.org/wp-content/uploads/2025/12/Saturday-San-Antonio-Meditation.jpeg
ORGANIZER;CN="San Antonio%2C TX":MAILTO:sanantonio.tx@heartfulness.org
END:VEVENT
BEGIN:VEVENT
DTSTART;TZID=America/Chicago:20291118T110000
DTEND;TZID=America/Chicago:20291118T123000
DTSTAMP:20260425T083313
CREATED:20251219T192408Z
LAST-MODIFIED:20251219T192408Z
UID:990004413-1889694000-1889699400@www.heartfulnessinstitute.org
SUMMARY:Sunday Group Meditation - San Antonio\, TX
DESCRIPTION:
URL:https://www.heartfulnessinstitute.org/event/sunday-group-meditation-san-antonio-tx/2029-11-18/
LOCATION:Parman Branch Library at Stone Oak\, 20735 Wilderness Oak\, San Antonio\, TX\, 78258\, United States
ATTACH;FMTTYPE=image/jpeg:https://www.heartfulnessinstitute.org/wp-content/uploads/2025/12/Sunday-San-Antonio-Meditation.jpeg
ORGANIZER;CN="San Antonio%2C TX":MAILTO:sanantonio.tx@heartfulness.org
END:VEVENT
BEGIN:VEVENT
DTSTART;TZID=America/Chicago:20291124T100000
DTEND;TZID=America/Chicago:20291124T110000
DTSTAMP:20260425T083313
CREATED:20251219T192748Z
LAST-MODIFIED:20251219T192748Z
UID:990004675-1890208800-1890212400@www.heartfulnessinstitute.org
SUMMARY:Saturday Group Meditation - San Antonio\, TX
DESCRIPTION:
URL:https://www.heartfulnessinstitute.org/event/saturday-group-meditation-san-antonio-tx/2029-11-24/
LOCATION:Igo Branch Library\, 13330 Kyle Seale Pkwy\, San Antonio\, TX\, 78249\, United States
ATTACH;FMTTYPE=image/jpeg:https://www.heartfulnessinstitute.org/wp-content/uploads/2025/12/Saturday-San-Antonio-Meditation.jpeg
ORGANIZER;CN="San Antonio%2C TX":MAILTO:sanantonio.tx@heartfulness.org
END:VEVENT
BEGIN:VEVENT
DTSTART;TZID=America/Chicago:20291125T110000
DTEND;TZID=America/Chicago:20291125T123000
DTSTAMP:20260425T083313
CREATED:20251219T192408Z
LAST-MODIFIED:20251219T192408Z
UID:990004414-1890298800-1890304200@www.heartfulnessinstitute.org
SUMMARY:Sunday Group Meditation - San Antonio\, TX
DESCRIPTION:
URL:https://www.heartfulnessinstitute.org/event/sunday-group-meditation-san-antonio-tx/2029-11-25/
LOCATION:Parman Branch Library at Stone Oak\, 20735 Wilderness Oak\, San Antonio\, TX\, 78258\, United States
ATTACH;FMTTYPE=image/jpeg:https://www.heartfulnessinstitute.org/wp-content/uploads/2025/12/Sunday-San-Antonio-Meditation.jpeg
ORGANIZER;CN="San Antonio%2C TX":MAILTO:sanantonio.tx@heartfulness.org
END:VEVENT
BEGIN:VEVENT
DTSTART;TZID=America/Chicago:20291201T100000
DTEND;TZID=America/Chicago:20291201T110000
DTSTAMP:20260425T083313
CREATED:20251219T192748Z
LAST-MODIFIED:20251219T192748Z
UID:990004676-1890813600-1890817200@www.heartfulnessinstitute.org
SUMMARY:Saturday Group Meditation - San Antonio\, TX
DESCRIPTION:
URL:https://www.heartfulnessinstitute.org/event/saturday-group-meditation-san-antonio-tx/2029-12-01/
LOCATION:Igo Branch Library\, 13330 Kyle Seale Pkwy\, San Antonio\, TX\, 78249\, United States
ATTACH;FMTTYPE=image/jpeg:https://www.heartfulnessinstitute.org/wp-content/uploads/2025/12/Saturday-San-Antonio-Meditation.jpeg
ORGANIZER;CN="San Antonio%2C TX":MAILTO:sanantonio.tx@heartfulness.org
END:VEVENT
BEGIN:VEVENT
DTSTART;TZID=America/Chicago:20291202T110000
DTEND;TZID=America/Chicago:20291202T123000
DTSTAMP:20260425T083313
CREATED:20251219T192408Z
LAST-MODIFIED:20251219T192408Z
UID:990004415-1890903600-1890909000@www.heartfulnessinstitute.org
SUMMARY:Sunday Group Meditation - San Antonio\, TX
DESCRIPTION:
URL:https://www.heartfulnessinstitute.org/event/sunday-group-meditation-san-antonio-tx/2029-12-02/
LOCATION:Parman Branch Library at Stone Oak\, 20735 Wilderness Oak\, San Antonio\, TX\, 78258\, United States
ATTACH;FMTTYPE=image/jpeg:https://www.heartfulnessinstitute.org/wp-content/uploads/2025/12/Sunday-San-Antonio-Meditation.jpeg
ORGANIZER;CN="San Antonio%2C TX":MAILTO:sanantonio.tx@heartfulness.org
END:VEVENT
BEGIN:VEVENT
DTSTART;TZID=America/Chicago:20291208T100000
DTEND;TZID=America/Chicago:20291208T110000
DTSTAMP:20260425T083313
CREATED:20251219T192748Z
LAST-MODIFIED:20251219T192748Z
UID:990004677-1891418400-1891422000@www.heartfulnessinstitute.org
SUMMARY:Saturday Group Meditation - San Antonio\, TX
DESCRIPTION:
URL:https://www.heartfulnessinstitute.org/event/saturday-group-meditation-san-antonio-tx/2029-12-08/
LOCATION:Igo Branch Library\, 13330 Kyle Seale Pkwy\, San Antonio\, TX\, 78249\, United States
ATTACH;FMTTYPE=image/jpeg:https://www.heartfulnessinstitute.org/wp-content/uploads/2025/12/Saturday-San-Antonio-Meditation.jpeg
ORGANIZER;CN="San Antonio%2C TX":MAILTO:sanantonio.tx@heartfulness.org
END:VEVENT
BEGIN:VEVENT
DTSTART;TZID=America/Chicago:20291209T110000
DTEND;TZID=America/Chicago:20291209T123000
DTSTAMP:20260425T083313
CREATED:20251219T192408Z
LAST-MODIFIED:20251219T192408Z
UID:990004416-1891508400-1891513800@www.heartfulnessinstitute.org
SUMMARY:Sunday Group Meditation - San Antonio\, TX
DESCRIPTION:
URL:https://www.heartfulnessinstitute.org/event/sunday-group-meditation-san-antonio-tx/2029-12-09/
LOCATION:Parman Branch Library at Stone Oak\, 20735 Wilderness Oak\, San Antonio\, TX\, 78258\, United States
ATTACH;FMTTYPE=image/jpeg:https://www.heartfulnessinstitute.org/wp-content/uploads/2025/12/Sunday-San-Antonio-Meditation.jpeg
ORGANIZER;CN="San Antonio%2C TX":MAILTO:sanantonio.tx@heartfulness.org
END:VEVENT
BEGIN:VEVENT
DTSTART;TZID=America/Chicago:20291215T100000
DTEND;TZID=America/Chicago:20291215T110000
DTSTAMP:20260425T083313
CREATED:20251219T192748Z
LAST-MODIFIED:20251219T192748Z
UID:990004678-1892023200-1892026800@www.heartfulnessinstitute.org
SUMMARY:Saturday Group Meditation - San Antonio\, TX
DESCRIPTION:
URL:https://www.heartfulnessinstitute.org/event/saturday-group-meditation-san-antonio-tx/2029-12-15/
LOCATION:Igo Branch Library\, 13330 Kyle Seale Pkwy\, San Antonio\, TX\, 78249\, United States
ATTACH;FMTTYPE=image/jpeg:https://www.heartfulnessinstitute.org/wp-content/uploads/2025/12/Saturday-San-Antonio-Meditation.jpeg
ORGANIZER;CN="San Antonio%2C TX":MAILTO:sanantonio.tx@heartfulness.org
END:VEVENT
BEGIN:VEVENT
DTSTART;TZID=America/Chicago:20291216T110000
DTEND;TZID=America/Chicago:20291216T123000
DTSTAMP:20260425T083313
CREATED:20251219T192408Z
LAST-MODIFIED:20251219T192408Z
UID:990004417-1892113200-1892118600@www.heartfulnessinstitute.org
SUMMARY:Sunday Group Meditation - San Antonio\, TX
DESCRIPTION:
URL:https://www.heartfulnessinstitute.org/event/sunday-group-meditation-san-antonio-tx/2029-12-16/
LOCATION:Parman Branch Library at Stone Oak\, 20735 Wilderness Oak\, San Antonio\, TX\, 78258\, United States
ATTACH;FMTTYPE=image/jpeg:https://www.heartfulnessinstitute.org/wp-content/uploads/2025/12/Sunday-San-Antonio-Meditation.jpeg
ORGANIZER;CN="San Antonio%2C TX":MAILTO:sanantonio.tx@heartfulness.org
END:VEVENT
BEGIN:VEVENT
DTSTART;TZID=America/Chicago:20291222T100000
DTEND;TZID=America/Chicago:20291222T110000
DTSTAMP:20260425T083313
CREATED:20251219T192748Z
LAST-MODIFIED:20251219T192748Z
UID:990004679-1892628000-1892631600@www.heartfulnessinstitute.org
SUMMARY:Saturday Group Meditation - San Antonio\, TX
DESCRIPTION:
URL:https://www.heartfulnessinstitute.org/event/saturday-group-meditation-san-antonio-tx/2029-12-22/
LOCATION:Igo Branch Library\, 13330 Kyle Seale Pkwy\, San Antonio\, TX\, 78249\, United States
ATTACH;FMTTYPE=image/jpeg:https://www.heartfulnessinstitute.org/wp-content/uploads/2025/12/Saturday-San-Antonio-Meditation.jpeg
ORGANIZER;CN="San Antonio%2C TX":MAILTO:sanantonio.tx@heartfulness.org
END:VEVENT
BEGIN:VEVENT
DTSTART;TZID=America/Chicago:20291223T110000
DTEND;TZID=America/Chicago:20291223T123000
DTSTAMP:20260425T083313
CREATED:20251219T192408Z
LAST-MODIFIED:20251219T192408Z
UID:990004418-1892718000-1892723400@www.heartfulnessinstitute.org
SUMMARY:Sunday Group Meditation - San Antonio\, TX
DESCRIPTION:
URL:https://www.heartfulnessinstitute.org/event/sunday-group-meditation-san-antonio-tx/2029-12-23/
LOCATION:Parman Branch Library at Stone Oak\, 20735 Wilderness Oak\, San Antonio\, TX\, 78258\, United States
ATTACH;FMTTYPE=image/jpeg:https://www.heartfulnessinstitute.org/wp-content/uploads/2025/12/Sunday-San-Antonio-Meditation.jpeg
ORGANIZER;CN="San Antonio%2C TX":MAILTO:sanantonio.tx@heartfulness.org
END:VEVENT
BEGIN:VEVENT
DTSTART;TZID=America/Chicago:20291229T100000
DTEND;TZID=America/Chicago:20291229T110000
DTSTAMP:20260425T083313
CREATED:20251219T192748Z
LAST-MODIFIED:20251219T192748Z
UID:990004680-1893232800-1893236400@www.heartfulnessinstitute.org
SUMMARY:Saturday Group Meditation - San Antonio\, TX
DESCRIPTION:
URL:https://www.heartfulnessinstitute.org/event/saturday-group-meditation-san-antonio-tx/2029-12-29/
LOCATION:Igo Branch Library\, 13330 Kyle Seale Pkwy\, San Antonio\, TX\, 78249\, United States
ATTACH;FMTTYPE=image/jpeg:https://www.heartfulnessinstitute.org/wp-content/uploads/2025/12/Saturday-San-Antonio-Meditation.jpeg
ORGANIZER;CN="San Antonio%2C TX":MAILTO:sanantonio.tx@heartfulness.org
END:VEVENT
BEGIN:VEVENT
DTSTART;TZID=America/Chicago:20291230T110000
DTEND;TZID=America/Chicago:20291230T123000
DTSTAMP:20260425T083313
CREATED:20251219T192408Z
LAST-MODIFIED:20251219T192408Z
UID:990004419-1893322800-1893328200@www.heartfulnessinstitute.org
SUMMARY:Sunday Group Meditation - San Antonio\, TX
DESCRIPTION:
URL:https://www.heartfulnessinstitute.org/event/sunday-group-meditation-san-antonio-tx/2029-12-30/
LOCATION:Parman Branch Library at Stone Oak\, 20735 Wilderness Oak\, San Antonio\, TX\, 78258\, United States
ATTACH;FMTTYPE=image/jpeg:https://www.heartfulnessinstitute.org/wp-content/uploads/2025/12/Sunday-San-Antonio-Meditation.jpeg
ORGANIZER;CN="San Antonio%2C TX":MAILTO:sanantonio.tx@heartfulness.org
END:VEVENT
BEGIN:VEVENT
DTSTART;TZID=America/Chicago:20300105T100000
DTEND;TZID=America/Chicago:20300105T110000
DTSTAMP:20260425T083313
CREATED:20251219T192748Z
LAST-MODIFIED:20251219T192748Z
UID:990004681-1893837600-1893841200@www.heartfulnessinstitute.org
SUMMARY:Saturday Group Meditation - San Antonio\, TX
DESCRIPTION:
URL:https://www.heartfulnessinstitute.org/event/saturday-group-meditation-san-antonio-tx/2030-01-05/
LOCATION:Igo Branch Library\, 13330 Kyle Seale Pkwy\, San Antonio\, TX\, 78249\, United States
ATTACH;FMTTYPE=image/jpeg:https://www.heartfulnessinstitute.org/wp-content/uploads/2025/12/Saturday-San-Antonio-Meditation.jpeg
ORGANIZER;CN="San Antonio%2C TX":MAILTO:sanantonio.tx@heartfulness.org
END:VEVENT
BEGIN:VEVENT
DTSTART;TZID=America/Chicago:20300106T110000
DTEND;TZID=America/Chicago:20300106T123000
DTSTAMP:20260425T083313
CREATED:20251219T192408Z
LAST-MODIFIED:20251219T192408Z
UID:990004420-1893927600-1893933000@www.heartfulnessinstitute.org
SUMMARY:Sunday Group Meditation - San Antonio\, TX
DESCRIPTION:
URL:https://www.heartfulnessinstitute.org/event/sunday-group-meditation-san-antonio-tx/2030-01-06/
LOCATION:Parman Branch Library at Stone Oak\, 20735 Wilderness Oak\, San Antonio\, TX\, 78258\, United States
ATTACH;FMTTYPE=image/jpeg:https://www.heartfulnessinstitute.org/wp-content/uploads/2025/12/Sunday-San-Antonio-Meditation.jpeg
ORGANIZER;CN="San Antonio%2C TX":MAILTO:sanantonio.tx@heartfulness.org
END:VEVENT
BEGIN:VEVENT
DTSTART;TZID=America/Chicago:20300112T100000
DTEND;TZID=America/Chicago:20300112T110000
DTSTAMP:20260425T083313
CREATED:20251219T192748Z
LAST-MODIFIED:20251219T192748Z
UID:990004682-1894442400-1894446000@www.heartfulnessinstitute.org
SUMMARY:Saturday Group Meditation - San Antonio\, TX
DESCRIPTION:
URL:https://www.heartfulnessinstitute.org/event/saturday-group-meditation-san-antonio-tx/2030-01-12/
LOCATION:Igo Branch Library\, 13330 Kyle Seale Pkwy\, San Antonio\, TX\, 78249\, United States
ATTACH;FMTTYPE=image/jpeg:https://www.heartfulnessinstitute.org/wp-content/uploads/2025/12/Saturday-San-Antonio-Meditation.jpeg
ORGANIZER;CN="San Antonio%2C TX":MAILTO:sanantonio.tx@heartfulness.org
END:VEVENT
BEGIN:VEVENT
DTSTART;TZID=America/Chicago:20300113T110000
DTEND;TZID=America/Chicago:20300113T123000
DTSTAMP:20260425T083313
CREATED:20251219T192408Z
LAST-MODIFIED:20251219T192408Z
UID:990004421-1894532400-1894537800@www.heartfulnessinstitute.org
SUMMARY:Sunday Group Meditation - San Antonio\, TX
DESCRIPTION:
URL:https://www.heartfulnessinstitute.org/event/sunday-group-meditation-san-antonio-tx/2030-01-13/
LOCATION:Parman Branch Library at Stone Oak\, 20735 Wilderness Oak\, San Antonio\, TX\, 78258\, United States
ATTACH;FMTTYPE=image/jpeg:https://www.heartfulnessinstitute.org/wp-content/uploads/2025/12/Sunday-San-Antonio-Meditation.jpeg
ORGANIZER;CN="San Antonio%2C TX":MAILTO:sanantonio.tx@heartfulness.org
END:VEVENT
BEGIN:VEVENT
DTSTART;TZID=America/Chicago:20300119T100000
DTEND;TZID=America/Chicago:20300119T110000
DTSTAMP:20260425T083313
CREATED:20251219T192748Z
LAST-MODIFIED:20251219T192748Z
UID:990004683-1895047200-1895050800@www.heartfulnessinstitute.org
SUMMARY:Saturday Group Meditation - San Antonio\, TX
DESCRIPTION:
URL:https://www.heartfulnessinstitute.org/event/saturday-group-meditation-san-antonio-tx/2030-01-19/
LOCATION:Igo Branch Library\, 13330 Kyle Seale Pkwy\, San Antonio\, TX\, 78249\, United States
ATTACH;FMTTYPE=image/jpeg:https://www.heartfulnessinstitute.org/wp-content/uploads/2025/12/Saturday-San-Antonio-Meditation.jpeg
ORGANIZER;CN="San Antonio%2C TX":MAILTO:sanantonio.tx@heartfulness.org
END:VEVENT
BEGIN:VEVENT
DTSTART;TZID=America/Chicago:20300120T110000
DTEND;TZID=America/Chicago:20300120T123000
DTSTAMP:20260425T083313
CREATED:20251219T192408Z
LAST-MODIFIED:20251219T192408Z
UID:990004422-1895137200-1895142600@www.heartfulnessinstitute.org
SUMMARY:Sunday Group Meditation - San Antonio\, TX
DESCRIPTION:
URL:https://www.heartfulnessinstitute.org/event/sunday-group-meditation-san-antonio-tx/2030-01-20/
LOCATION:Parman Branch Library at Stone Oak\, 20735 Wilderness Oak\, San Antonio\, TX\, 78258\, United States
ATTACH;FMTTYPE=image/jpeg:https://www.heartfulnessinstitute.org/wp-content/uploads/2025/12/Sunday-San-Antonio-Meditation.jpeg
ORGANIZER;CN="San Antonio%2C TX":MAILTO:sanantonio.tx@heartfulness.org
END:VEVENT
BEGIN:VEVENT
DTSTART;TZID=America/Chicago:20300126T100000
DTEND;TZID=America/Chicago:20300126T110000
DTSTAMP:20260425T083313
CREATED:20251219T192748Z
LAST-MODIFIED:20251219T192748Z
UID:990004684-1895652000-1895655600@www.heartfulnessinstitute.org
SUMMARY:Saturday Group Meditation - San Antonio\, TX
DESCRIPTION:
URL:https://www.heartfulnessinstitute.org/event/saturday-group-meditation-san-antonio-tx/2030-01-26/
LOCATION:Igo Branch Library\, 13330 Kyle Seale Pkwy\, San Antonio\, TX\, 78249\, United States
ATTACH;FMTTYPE=image/jpeg:https://www.heartfulnessinstitute.org/wp-content/uploads/2025/12/Saturday-San-Antonio-Meditation.jpeg
ORGANIZER;CN="San Antonio%2C TX":MAILTO:sanantonio.tx@heartfulness.org
END:VEVENT
BEGIN:VEVENT
DTSTART;TZID=America/Chicago:20300127T110000
DTEND;TZID=America/Chicago:20300127T123000
DTSTAMP:20260425T083313
CREATED:20251219T192408Z
LAST-MODIFIED:20251219T192408Z
UID:990004423-1895742000-1895747400@www.heartfulnessinstitute.org
SUMMARY:Sunday Group Meditation - San Antonio\, TX
DESCRIPTION:
URL:https://www.heartfulnessinstitute.org/event/sunday-group-meditation-san-antonio-tx/2030-01-27/
LOCATION:Parman Branch Library at Stone Oak\, 20735 Wilderness Oak\, San Antonio\, TX\, 78258\, United States
ATTACH;FMTTYPE=image/jpeg:https://www.heartfulnessinstitute.org/wp-content/uploads/2025/12/Sunday-San-Antonio-Meditation.jpeg
ORGANIZER;CN="San Antonio%2C TX":MAILTO:sanantonio.tx@heartfulness.org
END:VEVENT
BEGIN:VEVENT
DTSTART;TZID=America/Chicago:20300202T100000
DTEND;TZID=America/Chicago:20300202T110000
DTSTAMP:20260425T083313
CREATED:20251219T192748Z
LAST-MODIFIED:20251219T192748Z
UID:990004685-1896256800-1896260400@www.heartfulnessinstitute.org
SUMMARY:Saturday Group Meditation - San Antonio\, TX
DESCRIPTION:
URL:https://www.heartfulnessinstitute.org/event/saturday-group-meditation-san-antonio-tx/2030-02-02/
LOCATION:Igo Branch Library\, 13330 Kyle Seale Pkwy\, San Antonio\, TX\, 78249\, United States
ATTACH;FMTTYPE=image/jpeg:https://www.heartfulnessinstitute.org/wp-content/uploads/2025/12/Saturday-San-Antonio-Meditation.jpeg
ORGANIZER;CN="San Antonio%2C TX":MAILTO:sanantonio.tx@heartfulness.org
END:VEVENT
BEGIN:VEVENT
DTSTART;TZID=America/Chicago:20300203T110000
DTEND;TZID=America/Chicago:20300203T123000
DTSTAMP:20260425T083313
CREATED:20251219T192408Z
LAST-MODIFIED:20251219T192408Z
UID:990004424-1896346800-1896352200@www.heartfulnessinstitute.org
SUMMARY:Sunday Group Meditation - San Antonio\, TX
DESCRIPTION:
URL:https://www.heartfulnessinstitute.org/event/sunday-group-meditation-san-antonio-tx/2030-02-03/
LOCATION:Parman Branch Library at Stone Oak\, 20735 Wilderness Oak\, San Antonio\, TX\, 78258\, United States
ATTACH;FMTTYPE=image/jpeg:https://www.heartfulnessinstitute.org/wp-content/uploads/2025/12/Sunday-San-Antonio-Meditation.jpeg
ORGANIZER;CN="San Antonio%2C TX":MAILTO:sanantonio.tx@heartfulness.org
END:VEVENT
BEGIN:VEVENT
DTSTART;TZID=America/Chicago:20300209T100000
DTEND;TZID=America/Chicago:20300209T110000
DTSTAMP:20260425T083313
CREATED:20251219T192748Z
LAST-MODIFIED:20251219T192748Z
UID:990004686-1896861600-1896865200@www.heartfulnessinstitute.org
SUMMARY:Saturday Group Meditation - San Antonio\, TX
DESCRIPTION:
URL:https://www.heartfulnessinstitute.org/event/saturday-group-meditation-san-antonio-tx/2030-02-09/
LOCATION:Igo Branch Library\, 13330 Kyle Seale Pkwy\, San Antonio\, TX\, 78249\, United States
ATTACH;FMTTYPE=image/jpeg:https://www.heartfulnessinstitute.org/wp-content/uploads/2025/12/Saturday-San-Antonio-Meditation.jpeg
ORGANIZER;CN="San Antonio%2C TX":MAILTO:sanantonio.tx@heartfulness.org
END:VEVENT
BEGIN:VEVENT
DTSTART;TZID=America/Chicago:20300210T110000
DTEND;TZID=America/Chicago:20300210T123000
DTSTAMP:20260425T083313
CREATED:20251219T192408Z
LAST-MODIFIED:20251219T192408Z
UID:990004425-1896951600-1896957000@www.heartfulnessinstitute.org
SUMMARY:Sunday Group Meditation - San Antonio\, TX
DESCRIPTION:
URL:https://www.heartfulnessinstitute.org/event/sunday-group-meditation-san-antonio-tx/2030-02-10/
LOCATION:Parman Branch Library at Stone Oak\, 20735 Wilderness Oak\, San Antonio\, TX\, 78258\, United States
ATTACH;FMTTYPE=image/jpeg:https://www.heartfulnessinstitute.org/wp-content/uploads/2025/12/Sunday-San-Antonio-Meditation.jpeg
ORGANIZER;CN="San Antonio%2C TX":MAILTO:sanantonio.tx@heartfulness.org
END:VEVENT
BEGIN:VEVENT
DTSTART;TZID=America/Chicago:20300216T100000
DTEND;TZID=America/Chicago:20300216T110000
DTSTAMP:20260425T083313
CREATED:20251219T192748Z
LAST-MODIFIED:20251219T192748Z
UID:990004687-1897466400-1897470000@www.heartfulnessinstitute.org
SUMMARY:Saturday Group Meditation - San Antonio\, TX
DESCRIPTION:
URL:https://www.heartfulnessinstitute.org/event/saturday-group-meditation-san-antonio-tx/2030-02-16/
LOCATION:Igo Branch Library\, 13330 Kyle Seale Pkwy\, San Antonio\, TX\, 78249\, United States
ATTACH;FMTTYPE=image/jpeg:https://www.heartfulnessinstitute.org/wp-content/uploads/2025/12/Saturday-San-Antonio-Meditation.jpeg
ORGANIZER;CN="San Antonio%2C TX":MAILTO:sanantonio.tx@heartfulness.org
END:VEVENT
BEGIN:VEVENT
DTSTART;TZID=America/Chicago:20300217T110000
DTEND;TZID=America/Chicago:20300217T123000
DTSTAMP:20260425T083313
CREATED:20251219T192408Z
LAST-MODIFIED:20251219T192408Z
UID:990004426-1897556400-1897561800@www.heartfulnessinstitute.org
SUMMARY:Sunday Group Meditation - San Antonio\, TX
DESCRIPTION:
URL:https://www.heartfulnessinstitute.org/event/sunday-group-meditation-san-antonio-tx/2030-02-17/
LOCATION:Parman Branch Library at Stone Oak\, 20735 Wilderness Oak\, San Antonio\, TX\, 78258\, United States
ATTACH;FMTTYPE=image/jpeg:https://www.heartfulnessinstitute.org/wp-content/uploads/2025/12/Sunday-San-Antonio-Meditation.jpeg
ORGANIZER;CN="San Antonio%2C TX":MAILTO:sanantonio.tx@heartfulness.org
END:VEVENT
END:VCALENDAR