BEGIN:VCALENDAR
VERSION:2.0
PRODID:-//Heartfulness Institute - ECPv6.15.1.1//NONSGML v1.0//EN
CALSCALE:GREGORIAN
METHOD:PUBLISH
X-ORIGINAL-URL:https://www.heartfulnessinstitute.org
X-WR-CALDESC:Events for Heartfulness Institute
REFRESH-INTERVAL;VALUE=DURATION:PT1H
X-Robots-Tag:noindex
X-PUBLISHED-TTL:PT1H
BEGIN:VTIMEZONE
TZID:America/Chicago
BEGIN:DAYLIGHT
TZOFFSETFROM:-0600
TZOFFSETTO:-0500
TZNAME:CDT
DTSTART:20290311T080000
END:DAYLIGHT
BEGIN:STANDARD
TZOFFSETFROM:-0500
TZOFFSETTO:-0600
TZNAME:CST
DTSTART:20291104T070000
END:STANDARD
END:VTIMEZONE
BEGIN:VEVENT
DTSTART;TZID=America/Chicago:20290623T100000
DTEND;TZID=America/Chicago:20290623T110000
DTSTAMP:20260421T033845
CREATED:20251219T192748Z
LAST-MODIFIED:20251219T192748Z
UID:990004653-1876903200-1876906800@www.heartfulnessinstitute.org
SUMMARY:Saturday Group Meditation - San Antonio\, TX
DESCRIPTION:
URL:https://www.heartfulnessinstitute.org/event/saturday-group-meditation-san-antonio-tx/2029-06-23/
LOCATION:Igo Branch Library\, 13330 Kyle Seale Pkwy\, San Antonio\, TX\, 78249\, United States
ATTACH;FMTTYPE=image/jpeg:https://www.heartfulnessinstitute.org/wp-content/uploads/2025/12/Saturday-San-Antonio-Meditation.jpeg
ORGANIZER;CN="San Antonio%2C TX":MAILTO:sanantonio.tx@heartfulness.org
END:VEVENT
BEGIN:VEVENT
DTSTART;TZID=America/Chicago:20290624T110000
DTEND;TZID=America/Chicago:20290624T123000
DTSTAMP:20260421T033845
CREATED:20251219T192408Z
LAST-MODIFIED:20251219T192408Z
UID:990004392-1876993200-1876998600@www.heartfulnessinstitute.org
SUMMARY:Sunday Group Meditation - San Antonio\, TX
DESCRIPTION:
URL:https://www.heartfulnessinstitute.org/event/sunday-group-meditation-san-antonio-tx/2029-06-24/
LOCATION:Parman Branch Library at Stone Oak\, 20735 Wilderness Oak\, San Antonio\, TX\, 78258\, United States
ATTACH;FMTTYPE=image/jpeg:https://www.heartfulnessinstitute.org/wp-content/uploads/2025/12/Sunday-San-Antonio-Meditation.jpeg
ORGANIZER;CN="San Antonio%2C TX":MAILTO:sanantonio.tx@heartfulness.org
END:VEVENT
BEGIN:VEVENT
DTSTART;TZID=America/Chicago:20290630T100000
DTEND;TZID=America/Chicago:20290630T110000
DTSTAMP:20260421T033845
CREATED:20251219T192748Z
LAST-MODIFIED:20251219T192748Z
UID:990004654-1877508000-1877511600@www.heartfulnessinstitute.org
SUMMARY:Saturday Group Meditation - San Antonio\, TX
DESCRIPTION:
URL:https://www.heartfulnessinstitute.org/event/saturday-group-meditation-san-antonio-tx/2029-06-30/
LOCATION:Igo Branch Library\, 13330 Kyle Seale Pkwy\, San Antonio\, TX\, 78249\, United States
ATTACH;FMTTYPE=image/jpeg:https://www.heartfulnessinstitute.org/wp-content/uploads/2025/12/Saturday-San-Antonio-Meditation.jpeg
ORGANIZER;CN="San Antonio%2C TX":MAILTO:sanantonio.tx@heartfulness.org
END:VEVENT
BEGIN:VEVENT
DTSTART;TZID=America/Chicago:20290701T110000
DTEND;TZID=America/Chicago:20290701T123000
DTSTAMP:20260421T033845
CREATED:20251219T192408Z
LAST-MODIFIED:20251219T192408Z
UID:990004393-1877598000-1877603400@www.heartfulnessinstitute.org
SUMMARY:Sunday Group Meditation - San Antonio\, TX
DESCRIPTION:
URL:https://www.heartfulnessinstitute.org/event/sunday-group-meditation-san-antonio-tx/2029-07-01/
LOCATION:Parman Branch Library at Stone Oak\, 20735 Wilderness Oak\, San Antonio\, TX\, 78258\, United States
ATTACH;FMTTYPE=image/jpeg:https://www.heartfulnessinstitute.org/wp-content/uploads/2025/12/Sunday-San-Antonio-Meditation.jpeg
ORGANIZER;CN="San Antonio%2C TX":MAILTO:sanantonio.tx@heartfulness.org
END:VEVENT
BEGIN:VEVENT
DTSTART;TZID=America/Chicago:20290707T100000
DTEND;TZID=America/Chicago:20290707T110000
DTSTAMP:20260421T033845
CREATED:20251219T192748Z
LAST-MODIFIED:20251219T192748Z
UID:990004655-1878112800-1878116400@www.heartfulnessinstitute.org
SUMMARY:Saturday Group Meditation - San Antonio\, TX
DESCRIPTION:
URL:https://www.heartfulnessinstitute.org/event/saturday-group-meditation-san-antonio-tx/2029-07-07/
LOCATION:Igo Branch Library\, 13330 Kyle Seale Pkwy\, San Antonio\, TX\, 78249\, United States
ATTACH;FMTTYPE=image/jpeg:https://www.heartfulnessinstitute.org/wp-content/uploads/2025/12/Saturday-San-Antonio-Meditation.jpeg
ORGANIZER;CN="San Antonio%2C TX":MAILTO:sanantonio.tx@heartfulness.org
END:VEVENT
BEGIN:VEVENT
DTSTART;TZID=America/Chicago:20290708T110000
DTEND;TZID=America/Chicago:20290708T123000
DTSTAMP:20260421T033845
CREATED:20251219T192408Z
LAST-MODIFIED:20251219T192408Z
UID:990004394-1878202800-1878208200@www.heartfulnessinstitute.org
SUMMARY:Sunday Group Meditation - San Antonio\, TX
DESCRIPTION:
URL:https://www.heartfulnessinstitute.org/event/sunday-group-meditation-san-antonio-tx/2029-07-08/
LOCATION:Parman Branch Library at Stone Oak\, 20735 Wilderness Oak\, San Antonio\, TX\, 78258\, United States
ATTACH;FMTTYPE=image/jpeg:https://www.heartfulnessinstitute.org/wp-content/uploads/2025/12/Sunday-San-Antonio-Meditation.jpeg
ORGANIZER;CN="San Antonio%2C TX":MAILTO:sanantonio.tx@heartfulness.org
END:VEVENT
BEGIN:VEVENT
DTSTART;TZID=America/Chicago:20290714T100000
DTEND;TZID=America/Chicago:20290714T110000
DTSTAMP:20260421T033845
CREATED:20251219T192748Z
LAST-MODIFIED:20251219T192748Z
UID:990004656-1878717600-1878721200@www.heartfulnessinstitute.org
SUMMARY:Saturday Group Meditation - San Antonio\, TX
DESCRIPTION:
URL:https://www.heartfulnessinstitute.org/event/saturday-group-meditation-san-antonio-tx/2029-07-14/
LOCATION:Igo Branch Library\, 13330 Kyle Seale Pkwy\, San Antonio\, TX\, 78249\, United States
ATTACH;FMTTYPE=image/jpeg:https://www.heartfulnessinstitute.org/wp-content/uploads/2025/12/Saturday-San-Antonio-Meditation.jpeg
ORGANIZER;CN="San Antonio%2C TX":MAILTO:sanantonio.tx@heartfulness.org
END:VEVENT
BEGIN:VEVENT
DTSTART;TZID=America/Chicago:20290715T110000
DTEND;TZID=America/Chicago:20290715T123000
DTSTAMP:20260421T033845
CREATED:20251219T192408Z
LAST-MODIFIED:20251219T192408Z
UID:990004395-1878807600-1878813000@www.heartfulnessinstitute.org
SUMMARY:Sunday Group Meditation - San Antonio\, TX
DESCRIPTION:
URL:https://www.heartfulnessinstitute.org/event/sunday-group-meditation-san-antonio-tx/2029-07-15/
LOCATION:Parman Branch Library at Stone Oak\, 20735 Wilderness Oak\, San Antonio\, TX\, 78258\, United States
ATTACH;FMTTYPE=image/jpeg:https://www.heartfulnessinstitute.org/wp-content/uploads/2025/12/Sunday-San-Antonio-Meditation.jpeg
ORGANIZER;CN="San Antonio%2C TX":MAILTO:sanantonio.tx@heartfulness.org
END:VEVENT
BEGIN:VEVENT
DTSTART;TZID=America/Chicago:20290721T100000
DTEND;TZID=America/Chicago:20290721T110000
DTSTAMP:20260421T033845
CREATED:20251219T192748Z
LAST-MODIFIED:20251219T192748Z
UID:990004657-1879322400-1879326000@www.heartfulnessinstitute.org
SUMMARY:Saturday Group Meditation - San Antonio\, TX
DESCRIPTION:
URL:https://www.heartfulnessinstitute.org/event/saturday-group-meditation-san-antonio-tx/2029-07-21/
LOCATION:Igo Branch Library\, 13330 Kyle Seale Pkwy\, San Antonio\, TX\, 78249\, United States
ATTACH;FMTTYPE=image/jpeg:https://www.heartfulnessinstitute.org/wp-content/uploads/2025/12/Saturday-San-Antonio-Meditation.jpeg
ORGANIZER;CN="San Antonio%2C TX":MAILTO:sanantonio.tx@heartfulness.org
END:VEVENT
BEGIN:VEVENT
DTSTART;TZID=America/Chicago:20290722T110000
DTEND;TZID=America/Chicago:20290722T123000
DTSTAMP:20260421T033845
CREATED:20251219T192408Z
LAST-MODIFIED:20251219T192408Z
UID:990004396-1879412400-1879417800@www.heartfulnessinstitute.org
SUMMARY:Sunday Group Meditation - San Antonio\, TX
DESCRIPTION:
URL:https://www.heartfulnessinstitute.org/event/sunday-group-meditation-san-antonio-tx/2029-07-22/
LOCATION:Parman Branch Library at Stone Oak\, 20735 Wilderness Oak\, San Antonio\, TX\, 78258\, United States
ATTACH;FMTTYPE=image/jpeg:https://www.heartfulnessinstitute.org/wp-content/uploads/2025/12/Sunday-San-Antonio-Meditation.jpeg
ORGANIZER;CN="San Antonio%2C TX":MAILTO:sanantonio.tx@heartfulness.org
END:VEVENT
BEGIN:VEVENT
DTSTART;TZID=America/Chicago:20290728T100000
DTEND;TZID=America/Chicago:20290728T110000
DTSTAMP:20260421T033845
CREATED:20251219T192748Z
LAST-MODIFIED:20251219T192748Z
UID:990004658-1879927200-1879930800@www.heartfulnessinstitute.org
SUMMARY:Saturday Group Meditation - San Antonio\, TX
DESCRIPTION:
URL:https://www.heartfulnessinstitute.org/event/saturday-group-meditation-san-antonio-tx/2029-07-28/
LOCATION:Igo Branch Library\, 13330 Kyle Seale Pkwy\, San Antonio\, TX\, 78249\, United States
ATTACH;FMTTYPE=image/jpeg:https://www.heartfulnessinstitute.org/wp-content/uploads/2025/12/Saturday-San-Antonio-Meditation.jpeg
ORGANIZER;CN="San Antonio%2C TX":MAILTO:sanantonio.tx@heartfulness.org
END:VEVENT
BEGIN:VEVENT
DTSTART;TZID=America/Chicago:20290729T110000
DTEND;TZID=America/Chicago:20290729T123000
DTSTAMP:20260421T033845
CREATED:20251219T192408Z
LAST-MODIFIED:20251219T192408Z
UID:990004397-1880017200-1880022600@www.heartfulnessinstitute.org
SUMMARY:Sunday Group Meditation - San Antonio\, TX
DESCRIPTION:
URL:https://www.heartfulnessinstitute.org/event/sunday-group-meditation-san-antonio-tx/2029-07-29/
LOCATION:Parman Branch Library at Stone Oak\, 20735 Wilderness Oak\, San Antonio\, TX\, 78258\, United States
ATTACH;FMTTYPE=image/jpeg:https://www.heartfulnessinstitute.org/wp-content/uploads/2025/12/Sunday-San-Antonio-Meditation.jpeg
ORGANIZER;CN="San Antonio%2C TX":MAILTO:sanantonio.tx@heartfulness.org
END:VEVENT
BEGIN:VEVENT
DTSTART;TZID=America/Chicago:20290804T100000
DTEND;TZID=America/Chicago:20290804T110000
DTSTAMP:20260421T033845
CREATED:20251219T192748Z
LAST-MODIFIED:20251219T192748Z
UID:990004659-1880532000-1880535600@www.heartfulnessinstitute.org
SUMMARY:Saturday Group Meditation - San Antonio\, TX
DESCRIPTION:
URL:https://www.heartfulnessinstitute.org/event/saturday-group-meditation-san-antonio-tx/2029-08-04/
LOCATION:Igo Branch Library\, 13330 Kyle Seale Pkwy\, San Antonio\, TX\, 78249\, United States
ATTACH;FMTTYPE=image/jpeg:https://www.heartfulnessinstitute.org/wp-content/uploads/2025/12/Saturday-San-Antonio-Meditation.jpeg
ORGANIZER;CN="San Antonio%2C TX":MAILTO:sanantonio.tx@heartfulness.org
END:VEVENT
BEGIN:VEVENT
DTSTART;TZID=America/Chicago:20290805T110000
DTEND;TZID=America/Chicago:20290805T123000
DTSTAMP:20260421T033845
CREATED:20251219T192408Z
LAST-MODIFIED:20251219T192408Z
UID:990004398-1880622000-1880627400@www.heartfulnessinstitute.org
SUMMARY:Sunday Group Meditation - San Antonio\, TX
DESCRIPTION:
URL:https://www.heartfulnessinstitute.org/event/sunday-group-meditation-san-antonio-tx/2029-08-05/
LOCATION:Parman Branch Library at Stone Oak\, 20735 Wilderness Oak\, San Antonio\, TX\, 78258\, United States
ATTACH;FMTTYPE=image/jpeg:https://www.heartfulnessinstitute.org/wp-content/uploads/2025/12/Sunday-San-Antonio-Meditation.jpeg
ORGANIZER;CN="San Antonio%2C TX":MAILTO:sanantonio.tx@heartfulness.org
END:VEVENT
BEGIN:VEVENT
DTSTART;TZID=America/Chicago:20290811T100000
DTEND;TZID=America/Chicago:20290811T110000
DTSTAMP:20260421T033845
CREATED:20251219T192748Z
LAST-MODIFIED:20251219T192748Z
UID:990004660-1881136800-1881140400@www.heartfulnessinstitute.org
SUMMARY:Saturday Group Meditation - San Antonio\, TX
DESCRIPTION:
URL:https://www.heartfulnessinstitute.org/event/saturday-group-meditation-san-antonio-tx/2029-08-11/
LOCATION:Igo Branch Library\, 13330 Kyle Seale Pkwy\, San Antonio\, TX\, 78249\, United States
ATTACH;FMTTYPE=image/jpeg:https://www.heartfulnessinstitute.org/wp-content/uploads/2025/12/Saturday-San-Antonio-Meditation.jpeg
ORGANIZER;CN="San Antonio%2C TX":MAILTO:sanantonio.tx@heartfulness.org
END:VEVENT
BEGIN:VEVENT
DTSTART;TZID=America/Chicago:20290812T110000
DTEND;TZID=America/Chicago:20290812T123000
DTSTAMP:20260421T033845
CREATED:20251219T192408Z
LAST-MODIFIED:20251219T192408Z
UID:990004399-1881226800-1881232200@www.heartfulnessinstitute.org
SUMMARY:Sunday Group Meditation - San Antonio\, TX
DESCRIPTION:
URL:https://www.heartfulnessinstitute.org/event/sunday-group-meditation-san-antonio-tx/2029-08-12/
LOCATION:Parman Branch Library at Stone Oak\, 20735 Wilderness Oak\, San Antonio\, TX\, 78258\, United States
ATTACH;FMTTYPE=image/jpeg:https://www.heartfulnessinstitute.org/wp-content/uploads/2025/12/Sunday-San-Antonio-Meditation.jpeg
ORGANIZER;CN="San Antonio%2C TX":MAILTO:sanantonio.tx@heartfulness.org
END:VEVENT
BEGIN:VEVENT
DTSTART;TZID=America/Chicago:20290818T100000
DTEND;TZID=America/Chicago:20290818T110000
DTSTAMP:20260421T033845
CREATED:20251219T192748Z
LAST-MODIFIED:20251219T192748Z
UID:990004661-1881741600-1881745200@www.heartfulnessinstitute.org
SUMMARY:Saturday Group Meditation - San Antonio\, TX
DESCRIPTION:
URL:https://www.heartfulnessinstitute.org/event/saturday-group-meditation-san-antonio-tx/2029-08-18/
LOCATION:Igo Branch Library\, 13330 Kyle Seale Pkwy\, San Antonio\, TX\, 78249\, United States
ATTACH;FMTTYPE=image/jpeg:https://www.heartfulnessinstitute.org/wp-content/uploads/2025/12/Saturday-San-Antonio-Meditation.jpeg
ORGANIZER;CN="San Antonio%2C TX":MAILTO:sanantonio.tx@heartfulness.org
END:VEVENT
BEGIN:VEVENT
DTSTART;TZID=America/Chicago:20290819T110000
DTEND;TZID=America/Chicago:20290819T123000
DTSTAMP:20260421T033845
CREATED:20251219T192408Z
LAST-MODIFIED:20251219T192408Z
UID:990004400-1881831600-1881837000@www.heartfulnessinstitute.org
SUMMARY:Sunday Group Meditation - San Antonio\, TX
DESCRIPTION:
URL:https://www.heartfulnessinstitute.org/event/sunday-group-meditation-san-antonio-tx/2029-08-19/
LOCATION:Parman Branch Library at Stone Oak\, 20735 Wilderness Oak\, San Antonio\, TX\, 78258\, United States
ATTACH;FMTTYPE=image/jpeg:https://www.heartfulnessinstitute.org/wp-content/uploads/2025/12/Sunday-San-Antonio-Meditation.jpeg
ORGANIZER;CN="San Antonio%2C TX":MAILTO:sanantonio.tx@heartfulness.org
END:VEVENT
BEGIN:VEVENT
DTSTART;TZID=America/Chicago:20290825T100000
DTEND;TZID=America/Chicago:20290825T110000
DTSTAMP:20260421T033845
CREATED:20251219T192748Z
LAST-MODIFIED:20251219T192748Z
UID:990004662-1882346400-1882350000@www.heartfulnessinstitute.org
SUMMARY:Saturday Group Meditation - San Antonio\, TX
DESCRIPTION:
URL:https://www.heartfulnessinstitute.org/event/saturday-group-meditation-san-antonio-tx/2029-08-25/
LOCATION:Igo Branch Library\, 13330 Kyle Seale Pkwy\, San Antonio\, TX\, 78249\, United States
ATTACH;FMTTYPE=image/jpeg:https://www.heartfulnessinstitute.org/wp-content/uploads/2025/12/Saturday-San-Antonio-Meditation.jpeg
ORGANIZER;CN="San Antonio%2C TX":MAILTO:sanantonio.tx@heartfulness.org
END:VEVENT
BEGIN:VEVENT
DTSTART;TZID=America/Chicago:20290826T110000
DTEND;TZID=America/Chicago:20290826T123000
DTSTAMP:20260421T033845
CREATED:20251219T192408Z
LAST-MODIFIED:20251219T192408Z
UID:990004401-1882436400-1882441800@www.heartfulnessinstitute.org
SUMMARY:Sunday Group Meditation - San Antonio\, TX
DESCRIPTION:
URL:https://www.heartfulnessinstitute.org/event/sunday-group-meditation-san-antonio-tx/2029-08-26/
LOCATION:Parman Branch Library at Stone Oak\, 20735 Wilderness Oak\, San Antonio\, TX\, 78258\, United States
ATTACH;FMTTYPE=image/jpeg:https://www.heartfulnessinstitute.org/wp-content/uploads/2025/12/Sunday-San-Antonio-Meditation.jpeg
ORGANIZER;CN="San Antonio%2C TX":MAILTO:sanantonio.tx@heartfulness.org
END:VEVENT
BEGIN:VEVENT
DTSTART;TZID=America/Chicago:20290901T100000
DTEND;TZID=America/Chicago:20290901T110000
DTSTAMP:20260421T033845
CREATED:20251219T192748Z
LAST-MODIFIED:20251219T192748Z
UID:990004663-1882951200-1882954800@www.heartfulnessinstitute.org
SUMMARY:Saturday Group Meditation - San Antonio\, TX
DESCRIPTION:
URL:https://www.heartfulnessinstitute.org/event/saturday-group-meditation-san-antonio-tx/2029-09-01/
LOCATION:Igo Branch Library\, 13330 Kyle Seale Pkwy\, San Antonio\, TX\, 78249\, United States
ATTACH;FMTTYPE=image/jpeg:https://www.heartfulnessinstitute.org/wp-content/uploads/2025/12/Saturday-San-Antonio-Meditation.jpeg
ORGANIZER;CN="San Antonio%2C TX":MAILTO:sanantonio.tx@heartfulness.org
END:VEVENT
BEGIN:VEVENT
DTSTART;TZID=America/Chicago:20290902T110000
DTEND;TZID=America/Chicago:20290902T123000
DTSTAMP:20260421T033845
CREATED:20251219T192408Z
LAST-MODIFIED:20251219T192408Z
UID:990004402-1883041200-1883046600@www.heartfulnessinstitute.org
SUMMARY:Sunday Group Meditation - San Antonio\, TX
DESCRIPTION:
URL:https://www.heartfulnessinstitute.org/event/sunday-group-meditation-san-antonio-tx/2029-09-02/
LOCATION:Parman Branch Library at Stone Oak\, 20735 Wilderness Oak\, San Antonio\, TX\, 78258\, United States
ATTACH;FMTTYPE=image/jpeg:https://www.heartfulnessinstitute.org/wp-content/uploads/2025/12/Sunday-San-Antonio-Meditation.jpeg
ORGANIZER;CN="San Antonio%2C TX":MAILTO:sanantonio.tx@heartfulness.org
END:VEVENT
BEGIN:VEVENT
DTSTART;TZID=America/Chicago:20290908T100000
DTEND;TZID=America/Chicago:20290908T110000
DTSTAMP:20260421T033845
CREATED:20251219T192748Z
LAST-MODIFIED:20251219T192748Z
UID:990004664-1883556000-1883559600@www.heartfulnessinstitute.org
SUMMARY:Saturday Group Meditation - San Antonio\, TX
DESCRIPTION:
URL:https://www.heartfulnessinstitute.org/event/saturday-group-meditation-san-antonio-tx/2029-09-08/
LOCATION:Igo Branch Library\, 13330 Kyle Seale Pkwy\, San Antonio\, TX\, 78249\, United States
ATTACH;FMTTYPE=image/jpeg:https://www.heartfulnessinstitute.org/wp-content/uploads/2025/12/Saturday-San-Antonio-Meditation.jpeg
ORGANIZER;CN="San Antonio%2C TX":MAILTO:sanantonio.tx@heartfulness.org
END:VEVENT
BEGIN:VEVENT
DTSTART;TZID=America/Chicago:20290909T110000
DTEND;TZID=America/Chicago:20290909T123000
DTSTAMP:20260421T033845
CREATED:20251219T192408Z
LAST-MODIFIED:20251219T192408Z
UID:990004403-1883646000-1883651400@www.heartfulnessinstitute.org
SUMMARY:Sunday Group Meditation - San Antonio\, TX
DESCRIPTION:
URL:https://www.heartfulnessinstitute.org/event/sunday-group-meditation-san-antonio-tx/2029-09-09/
LOCATION:Parman Branch Library at Stone Oak\, 20735 Wilderness Oak\, San Antonio\, TX\, 78258\, United States
ATTACH;FMTTYPE=image/jpeg:https://www.heartfulnessinstitute.org/wp-content/uploads/2025/12/Sunday-San-Antonio-Meditation.jpeg
ORGANIZER;CN="San Antonio%2C TX":MAILTO:sanantonio.tx@heartfulness.org
END:VEVENT
BEGIN:VEVENT
DTSTART;TZID=America/Chicago:20290915T100000
DTEND;TZID=America/Chicago:20290915T110000
DTSTAMP:20260421T033845
CREATED:20251219T192748Z
LAST-MODIFIED:20251219T192748Z
UID:990004665-1884160800-1884164400@www.heartfulnessinstitute.org
SUMMARY:Saturday Group Meditation - San Antonio\, TX
DESCRIPTION:
URL:https://www.heartfulnessinstitute.org/event/saturday-group-meditation-san-antonio-tx/2029-09-15/
LOCATION:Igo Branch Library\, 13330 Kyle Seale Pkwy\, San Antonio\, TX\, 78249\, United States
ATTACH;FMTTYPE=image/jpeg:https://www.heartfulnessinstitute.org/wp-content/uploads/2025/12/Saturday-San-Antonio-Meditation.jpeg
ORGANIZER;CN="San Antonio%2C TX":MAILTO:sanantonio.tx@heartfulness.org
END:VEVENT
BEGIN:VEVENT
DTSTART;TZID=America/Chicago:20290916T110000
DTEND;TZID=America/Chicago:20290916T123000
DTSTAMP:20260421T033845
CREATED:20251219T192408Z
LAST-MODIFIED:20251219T192408Z
UID:990004404-1884250800-1884256200@www.heartfulnessinstitute.org
SUMMARY:Sunday Group Meditation - San Antonio\, TX
DESCRIPTION:
URL:https://www.heartfulnessinstitute.org/event/sunday-group-meditation-san-antonio-tx/2029-09-16/
LOCATION:Parman Branch Library at Stone Oak\, 20735 Wilderness Oak\, San Antonio\, TX\, 78258\, United States
ATTACH;FMTTYPE=image/jpeg:https://www.heartfulnessinstitute.org/wp-content/uploads/2025/12/Sunday-San-Antonio-Meditation.jpeg
ORGANIZER;CN="San Antonio%2C TX":MAILTO:sanantonio.tx@heartfulness.org
END:VEVENT
BEGIN:VEVENT
DTSTART;TZID=America/Chicago:20290922T100000
DTEND;TZID=America/Chicago:20290922T110000
DTSTAMP:20260421T033845
CREATED:20251219T192748Z
LAST-MODIFIED:20251219T192748Z
UID:990004666-1884765600-1884769200@www.heartfulnessinstitute.org
SUMMARY:Saturday Group Meditation - San Antonio\, TX
DESCRIPTION:
URL:https://www.heartfulnessinstitute.org/event/saturday-group-meditation-san-antonio-tx/2029-09-22/
LOCATION:Igo Branch Library\, 13330 Kyle Seale Pkwy\, San Antonio\, TX\, 78249\, United States
ATTACH;FMTTYPE=image/jpeg:https://www.heartfulnessinstitute.org/wp-content/uploads/2025/12/Saturday-San-Antonio-Meditation.jpeg
ORGANIZER;CN="San Antonio%2C TX":MAILTO:sanantonio.tx@heartfulness.org
END:VEVENT
BEGIN:VEVENT
DTSTART;TZID=America/Chicago:20290923T110000
DTEND;TZID=America/Chicago:20290923T123000
DTSTAMP:20260421T033845
CREATED:20251219T192408Z
LAST-MODIFIED:20251219T192408Z
UID:990004405-1884855600-1884861000@www.heartfulnessinstitute.org
SUMMARY:Sunday Group Meditation - San Antonio\, TX
DESCRIPTION:
URL:https://www.heartfulnessinstitute.org/event/sunday-group-meditation-san-antonio-tx/2029-09-23/
LOCATION:Parman Branch Library at Stone Oak\, 20735 Wilderness Oak\, San Antonio\, TX\, 78258\, United States
ATTACH;FMTTYPE=image/jpeg:https://www.heartfulnessinstitute.org/wp-content/uploads/2025/12/Sunday-San-Antonio-Meditation.jpeg
ORGANIZER;CN="San Antonio%2C TX":MAILTO:sanantonio.tx@heartfulness.org
END:VEVENT
BEGIN:VEVENT
DTSTART;TZID=America/Chicago:20290929T100000
DTEND;TZID=America/Chicago:20290929T110000
DTSTAMP:20260421T033845
CREATED:20251219T192748Z
LAST-MODIFIED:20251219T192748Z
UID:990004667-1885370400-1885374000@www.heartfulnessinstitute.org
SUMMARY:Saturday Group Meditation - San Antonio\, TX
DESCRIPTION:
URL:https://www.heartfulnessinstitute.org/event/saturday-group-meditation-san-antonio-tx/2029-09-29/
LOCATION:Igo Branch Library\, 13330 Kyle Seale Pkwy\, San Antonio\, TX\, 78249\, United States
ATTACH;FMTTYPE=image/jpeg:https://www.heartfulnessinstitute.org/wp-content/uploads/2025/12/Saturday-San-Antonio-Meditation.jpeg
ORGANIZER;CN="San Antonio%2C TX":MAILTO:sanantonio.tx@heartfulness.org
END:VEVENT
BEGIN:VEVENT
DTSTART;TZID=America/Chicago:20290930T110000
DTEND;TZID=America/Chicago:20290930T123000
DTSTAMP:20260421T033845
CREATED:20251219T192408Z
LAST-MODIFIED:20251219T192408Z
UID:990004406-1885460400-1885465800@www.heartfulnessinstitute.org
SUMMARY:Sunday Group Meditation - San Antonio\, TX
DESCRIPTION:
URL:https://www.heartfulnessinstitute.org/event/sunday-group-meditation-san-antonio-tx/2029-09-30/
LOCATION:Parman Branch Library at Stone Oak\, 20735 Wilderness Oak\, San Antonio\, TX\, 78258\, United States
ATTACH;FMTTYPE=image/jpeg:https://www.heartfulnessinstitute.org/wp-content/uploads/2025/12/Sunday-San-Antonio-Meditation.jpeg
ORGANIZER;CN="San Antonio%2C TX":MAILTO:sanantonio.tx@heartfulness.org
END:VEVENT
END:VCALENDAR