BEGIN:VCALENDAR
VERSION:2.0
PRODID:-//Heartfulness Institute - ECPv6.15.1.1//NONSGML v1.0//EN
CALSCALE:GREGORIAN
METHOD:PUBLISH
X-WR-CALNAME:Heartfulness Institute
X-ORIGINAL-URL:https://www.heartfulnessinstitute.org
X-WR-CALDESC:Events for Heartfulness Institute
REFRESH-INTERVAL;VALUE=DURATION:PT1H
X-Robots-Tag:noindex
X-PUBLISHED-TTL:PT1H
BEGIN:VTIMEZONE
TZID:America/New_York
BEGIN:DAYLIGHT
TZOFFSETFROM:-0500
TZOFFSETTO:-0400
TZNAME:EDT
DTSTART:20290311T070000
END:DAYLIGHT
BEGIN:STANDARD
TZOFFSETFROM:-0400
TZOFFSETTO:-0500
TZNAME:EST
DTSTART:20291104T060000
END:STANDARD
END:VTIMEZONE
BEGIN:VEVENT
DTSTART;TZID=America/New_York:20290421T090000
DTEND;TZID=America/New_York:20290421T220000
DTSTAMP:20260421T211548
CREATED:20251022T024011Z
LAST-MODIFIED:20251022T024139Z
UID:990002033-1871456400-1871503200@www.heartfulnessinstitute.org
SUMMARY:Saturday Group Meditation - Monroe\, NJ
DESCRIPTION:Weekly Saturday group meditation event at Monroe\, NJ. \nAgenda \n\nGroup Meditation\nReading
URL:https://www.heartfulnessinstitute.org/event/sat-group-meditation-monroe-nj-2/2029-04-21/
LOCATION:Monroe Heartfulness Meditation Centre\, 48 Halsey Reed Rd\, Monroe Township\, NJ\, 08831\, United States
ORGANIZER;CN="Monroe%2C NJ":MAILTO:monroe@heartfulness.org
END:VEVENT
BEGIN:VEVENT
DTSTART;TZID=America/New_York:20290422T090000
DTEND;TZID=America/New_York:20290422T100000
DTSTAMP:20260421T211548
CREATED:20251022T024303Z
LAST-MODIFIED:20251022T024330Z
UID:990002555-1871542800-1871546400@www.heartfulnessinstitute.org
SUMMARY:Sunday Group Meditation - Monroe\, NJ
DESCRIPTION:Weekly Sunday group meditation event at Monroe\, NJ. \nAgenda \n\nGroup Meditation\nReading
URL:https://www.heartfulnessinstitute.org/event/sun-group-meditation-monroe-nj/2029-04-22/
LOCATION:Monroe Heartfulness Meditation Centre\, 48 Halsey Reed Rd\, Monroe Township\, NJ\, 08831\, United States
ORGANIZER;CN="Monroe%2C NJ":MAILTO:monroe@heartfulness.org
END:VEVENT
BEGIN:VEVENT
DTSTART;TZID=America/New_York:20290425T190000
DTEND;TZID=America/New_York:20290425T200000
DTSTAMP:20260421T211548
CREATED:20260106T012517Z
LAST-MODIFIED:20260106T012519Z
UID:990006477-1871838000-1871841600@www.heartfulnessinstitute.org
SUMMARY:Wednesday Group Meditation - Monroe\, NJ
DESCRIPTION:Weekly Wednesday group meditation event at Monroe\, NJ. \nAgenda \n\nGroup Meditation\nReading
URL:https://www.heartfulnessinstitute.org/event/wed-group-meditation-monroe-nj-2/2029-04-25/
LOCATION:Monroe Heartfulness Meditation Centre\, 48 Halsey Reed Rd\, Monroe Township\, NJ\, 08831\, United States
ORGANIZER;CN="Monroe%2C NJ":MAILTO:monroe@heartfulness.org
END:VEVENT
BEGIN:VEVENT
DTSTART;TZID=America/New_York:20290428T090000
DTEND;TZID=America/New_York:20290428T220000
DTSTAMP:20260421T211548
CREATED:20251022T024011Z
LAST-MODIFIED:20251022T024139Z
UID:990002034-1872061200-1872108000@www.heartfulnessinstitute.org
SUMMARY:Saturday Group Meditation - Monroe\, NJ
DESCRIPTION:Weekly Saturday group meditation event at Monroe\, NJ. \nAgenda \n\nGroup Meditation\nReading
URL:https://www.heartfulnessinstitute.org/event/sat-group-meditation-monroe-nj-2/2029-04-28/
LOCATION:Monroe Heartfulness Meditation Centre\, 48 Halsey Reed Rd\, Monroe Township\, NJ\, 08831\, United States
ORGANIZER;CN="Monroe%2C NJ":MAILTO:monroe@heartfulness.org
END:VEVENT
BEGIN:VEVENT
DTSTART;TZID=America/New_York:20290429T090000
DTEND;TZID=America/New_York:20290429T100000
DTSTAMP:20260421T211548
CREATED:20251022T024303Z
LAST-MODIFIED:20251022T024330Z
UID:990002556-1872147600-1872151200@www.heartfulnessinstitute.org
SUMMARY:Sunday Group Meditation - Monroe\, NJ
DESCRIPTION:Weekly Sunday group meditation event at Monroe\, NJ. \nAgenda \n\nGroup Meditation\nReading
URL:https://www.heartfulnessinstitute.org/event/sun-group-meditation-monroe-nj/2029-04-29/
LOCATION:Monroe Heartfulness Meditation Centre\, 48 Halsey Reed Rd\, Monroe Township\, NJ\, 08831\, United States
ORGANIZER;CN="Monroe%2C NJ":MAILTO:monroe@heartfulness.org
END:VEVENT
BEGIN:VEVENT
DTSTART;TZID=America/New_York:20290502T190000
DTEND;TZID=America/New_York:20290502T200000
DTSTAMP:20260421T211548
CREATED:20260106T012517Z
LAST-MODIFIED:20260106T012519Z
UID:990006478-1872442800-1872446400@www.heartfulnessinstitute.org
SUMMARY:Wednesday Group Meditation - Monroe\, NJ
DESCRIPTION:Weekly Wednesday group meditation event at Monroe\, NJ. \nAgenda \n\nGroup Meditation\nReading
URL:https://www.heartfulnessinstitute.org/event/wed-group-meditation-monroe-nj-2/2029-05-02/
LOCATION:Monroe Heartfulness Meditation Centre\, 48 Halsey Reed Rd\, Monroe Township\, NJ\, 08831\, United States
ORGANIZER;CN="Monroe%2C NJ":MAILTO:monroe@heartfulness.org
END:VEVENT
BEGIN:VEVENT
DTSTART;TZID=America/New_York:20290505T090000
DTEND;TZID=America/New_York:20290505T220000
DTSTAMP:20260421T211548
CREATED:20251022T024011Z
LAST-MODIFIED:20251022T024139Z
UID:990002035-1872666000-1872712800@www.heartfulnessinstitute.org
SUMMARY:Saturday Group Meditation - Monroe\, NJ
DESCRIPTION:Weekly Saturday group meditation event at Monroe\, NJ. \nAgenda \n\nGroup Meditation\nReading
URL:https://www.heartfulnessinstitute.org/event/sat-group-meditation-monroe-nj-2/2029-05-05/
LOCATION:Monroe Heartfulness Meditation Centre\, 48 Halsey Reed Rd\, Monroe Township\, NJ\, 08831\, United States
ORGANIZER;CN="Monroe%2C NJ":MAILTO:monroe@heartfulness.org
END:VEVENT
BEGIN:VEVENT
DTSTART;TZID=America/New_York:20290506T090000
DTEND;TZID=America/New_York:20290506T100000
DTSTAMP:20260421T211548
CREATED:20251022T024303Z
LAST-MODIFIED:20251022T024330Z
UID:990002557-1872752400-1872756000@www.heartfulnessinstitute.org
SUMMARY:Sunday Group Meditation - Monroe\, NJ
DESCRIPTION:Weekly Sunday group meditation event at Monroe\, NJ. \nAgenda \n\nGroup Meditation\nReading
URL:https://www.heartfulnessinstitute.org/event/sun-group-meditation-monroe-nj/2029-05-06/
LOCATION:Monroe Heartfulness Meditation Centre\, 48 Halsey Reed Rd\, Monroe Township\, NJ\, 08831\, United States
ORGANIZER;CN="Monroe%2C NJ":MAILTO:monroe@heartfulness.org
END:VEVENT
BEGIN:VEVENT
DTSTART;TZID=America/New_York:20290509T190000
DTEND;TZID=America/New_York:20290509T200000
DTSTAMP:20260421T211548
CREATED:20260106T012517Z
LAST-MODIFIED:20260106T012519Z
UID:990006479-1873047600-1873051200@www.heartfulnessinstitute.org
SUMMARY:Wednesday Group Meditation - Monroe\, NJ
DESCRIPTION:Weekly Wednesday group meditation event at Monroe\, NJ. \nAgenda \n\nGroup Meditation\nReading
URL:https://www.heartfulnessinstitute.org/event/wed-group-meditation-monroe-nj-2/2029-05-09/
LOCATION:Monroe Heartfulness Meditation Centre\, 48 Halsey Reed Rd\, Monroe Township\, NJ\, 08831\, United States
ORGANIZER;CN="Monroe%2C NJ":MAILTO:monroe@heartfulness.org
END:VEVENT
BEGIN:VEVENT
DTSTART;TZID=America/New_York:20290512T090000
DTEND;TZID=America/New_York:20290512T220000
DTSTAMP:20260421T211548
CREATED:20251022T024011Z
LAST-MODIFIED:20251022T024139Z
UID:990002036-1873270800-1873317600@www.heartfulnessinstitute.org
SUMMARY:Saturday Group Meditation - Monroe\, NJ
DESCRIPTION:Weekly Saturday group meditation event at Monroe\, NJ. \nAgenda \n\nGroup Meditation\nReading
URL:https://www.heartfulnessinstitute.org/event/sat-group-meditation-monroe-nj-2/2029-05-12/
LOCATION:Monroe Heartfulness Meditation Centre\, 48 Halsey Reed Rd\, Monroe Township\, NJ\, 08831\, United States
ORGANIZER;CN="Monroe%2C NJ":MAILTO:monroe@heartfulness.org
END:VEVENT
BEGIN:VEVENT
DTSTART;TZID=America/New_York:20290513T090000
DTEND;TZID=America/New_York:20290513T100000
DTSTAMP:20260421T211548
CREATED:20251022T024303Z
LAST-MODIFIED:20251022T024330Z
UID:990002558-1873357200-1873360800@www.heartfulnessinstitute.org
SUMMARY:Sunday Group Meditation - Monroe\, NJ
DESCRIPTION:Weekly Sunday group meditation event at Monroe\, NJ. \nAgenda \n\nGroup Meditation\nReading
URL:https://www.heartfulnessinstitute.org/event/sun-group-meditation-monroe-nj/2029-05-13/
LOCATION:Monroe Heartfulness Meditation Centre\, 48 Halsey Reed Rd\, Monroe Township\, NJ\, 08831\, United States
ORGANIZER;CN="Monroe%2C NJ":MAILTO:monroe@heartfulness.org
END:VEVENT
BEGIN:VEVENT
DTSTART;TZID=America/New_York:20290516T190000
DTEND;TZID=America/New_York:20290516T200000
DTSTAMP:20260421T211548
CREATED:20260106T012517Z
LAST-MODIFIED:20260106T012519Z
UID:990006480-1873652400-1873656000@www.heartfulnessinstitute.org
SUMMARY:Wednesday Group Meditation - Monroe\, NJ
DESCRIPTION:Weekly Wednesday group meditation event at Monroe\, NJ. \nAgenda \n\nGroup Meditation\nReading
URL:https://www.heartfulnessinstitute.org/event/wed-group-meditation-monroe-nj-2/2029-05-16/
LOCATION:Monroe Heartfulness Meditation Centre\, 48 Halsey Reed Rd\, Monroe Township\, NJ\, 08831\, United States
ORGANIZER;CN="Monroe%2C NJ":MAILTO:monroe@heartfulness.org
END:VEVENT
BEGIN:VEVENT
DTSTART;TZID=America/New_York:20290519T090000
DTEND;TZID=America/New_York:20290519T220000
DTSTAMP:20260421T211548
CREATED:20251022T024011Z
LAST-MODIFIED:20251022T024139Z
UID:990002037-1873875600-1873922400@www.heartfulnessinstitute.org
SUMMARY:Saturday Group Meditation - Monroe\, NJ
DESCRIPTION:Weekly Saturday group meditation event at Monroe\, NJ. \nAgenda \n\nGroup Meditation\nReading
URL:https://www.heartfulnessinstitute.org/event/sat-group-meditation-monroe-nj-2/2029-05-19/
LOCATION:Monroe Heartfulness Meditation Centre\, 48 Halsey Reed Rd\, Monroe Township\, NJ\, 08831\, United States
ORGANIZER;CN="Monroe%2C NJ":MAILTO:monroe@heartfulness.org
END:VEVENT
BEGIN:VEVENT
DTSTART;TZID=America/New_York:20290520T090000
DTEND;TZID=America/New_York:20290520T100000
DTSTAMP:20260421T211548
CREATED:20251022T024303Z
LAST-MODIFIED:20251022T024330Z
UID:990002559-1873962000-1873965600@www.heartfulnessinstitute.org
SUMMARY:Sunday Group Meditation - Monroe\, NJ
DESCRIPTION:Weekly Sunday group meditation event at Monroe\, NJ. \nAgenda \n\nGroup Meditation\nReading
URL:https://www.heartfulnessinstitute.org/event/sun-group-meditation-monroe-nj/2029-05-20/
LOCATION:Monroe Heartfulness Meditation Centre\, 48 Halsey Reed Rd\, Monroe Township\, NJ\, 08831\, United States
ORGANIZER;CN="Monroe%2C NJ":MAILTO:monroe@heartfulness.org
END:VEVENT
BEGIN:VEVENT
DTSTART;TZID=America/New_York:20290523T190000
DTEND;TZID=America/New_York:20290523T200000
DTSTAMP:20260421T211548
CREATED:20260106T012517Z
LAST-MODIFIED:20260106T012519Z
UID:990006481-1874257200-1874260800@www.heartfulnessinstitute.org
SUMMARY:Wednesday Group Meditation - Monroe\, NJ
DESCRIPTION:Weekly Wednesday group meditation event at Monroe\, NJ. \nAgenda \n\nGroup Meditation\nReading
URL:https://www.heartfulnessinstitute.org/event/wed-group-meditation-monroe-nj-2/2029-05-23/
LOCATION:Monroe Heartfulness Meditation Centre\, 48 Halsey Reed Rd\, Monroe Township\, NJ\, 08831\, United States
ORGANIZER;CN="Monroe%2C NJ":MAILTO:monroe@heartfulness.org
END:VEVENT
BEGIN:VEVENT
DTSTART;TZID=America/New_York:20290526T090000
DTEND;TZID=America/New_York:20290526T220000
DTSTAMP:20260421T211548
CREATED:20251022T024011Z
LAST-MODIFIED:20251022T024139Z
UID:990002038-1874480400-1874527200@www.heartfulnessinstitute.org
SUMMARY:Saturday Group Meditation - Monroe\, NJ
DESCRIPTION:Weekly Saturday group meditation event at Monroe\, NJ. \nAgenda \n\nGroup Meditation\nReading
URL:https://www.heartfulnessinstitute.org/event/sat-group-meditation-monroe-nj-2/2029-05-26/
LOCATION:Monroe Heartfulness Meditation Centre\, 48 Halsey Reed Rd\, Monroe Township\, NJ\, 08831\, United States
ORGANIZER;CN="Monroe%2C NJ":MAILTO:monroe@heartfulness.org
END:VEVENT
BEGIN:VEVENT
DTSTART;TZID=America/New_York:20290527T090000
DTEND;TZID=America/New_York:20290527T100000
DTSTAMP:20260421T211548
CREATED:20251022T024303Z
LAST-MODIFIED:20251022T024330Z
UID:990002560-1874566800-1874570400@www.heartfulnessinstitute.org
SUMMARY:Sunday Group Meditation - Monroe\, NJ
DESCRIPTION:Weekly Sunday group meditation event at Monroe\, NJ. \nAgenda \n\nGroup Meditation\nReading
URL:https://www.heartfulnessinstitute.org/event/sun-group-meditation-monroe-nj/2029-05-27/
LOCATION:Monroe Heartfulness Meditation Centre\, 48 Halsey Reed Rd\, Monroe Township\, NJ\, 08831\, United States
ORGANIZER;CN="Monroe%2C NJ":MAILTO:monroe@heartfulness.org
END:VEVENT
BEGIN:VEVENT
DTSTART;TZID=America/New_York:20290530T190000
DTEND;TZID=America/New_York:20290530T200000
DTSTAMP:20260421T211548
CREATED:20260106T012517Z
LAST-MODIFIED:20260106T012519Z
UID:990006482-1874862000-1874865600@www.heartfulnessinstitute.org
SUMMARY:Wednesday Group Meditation - Monroe\, NJ
DESCRIPTION:Weekly Wednesday group meditation event at Monroe\, NJ. \nAgenda \n\nGroup Meditation\nReading
URL:https://www.heartfulnessinstitute.org/event/wed-group-meditation-monroe-nj-2/2029-05-30/
LOCATION:Monroe Heartfulness Meditation Centre\, 48 Halsey Reed Rd\, Monroe Township\, NJ\, 08831\, United States
ORGANIZER;CN="Monroe%2C NJ":MAILTO:monroe@heartfulness.org
END:VEVENT
BEGIN:VEVENT
DTSTART;TZID=America/New_York:20290602T090000
DTEND;TZID=America/New_York:20290602T220000
DTSTAMP:20260421T211548
CREATED:20251022T024011Z
LAST-MODIFIED:20251022T024139Z
UID:990002039-1875085200-1875132000@www.heartfulnessinstitute.org
SUMMARY:Saturday Group Meditation - Monroe\, NJ
DESCRIPTION:Weekly Saturday group meditation event at Monroe\, NJ. \nAgenda \n\nGroup Meditation\nReading
URL:https://www.heartfulnessinstitute.org/event/sat-group-meditation-monroe-nj-2/2029-06-02/
LOCATION:Monroe Heartfulness Meditation Centre\, 48 Halsey Reed Rd\, Monroe Township\, NJ\, 08831\, United States
ORGANIZER;CN="Monroe%2C NJ":MAILTO:monroe@heartfulness.org
END:VEVENT
BEGIN:VEVENT
DTSTART;TZID=America/New_York:20290603T090000
DTEND;TZID=America/New_York:20290603T100000
DTSTAMP:20260421T211548
CREATED:20251022T024303Z
LAST-MODIFIED:20251022T024330Z
UID:990002561-1875171600-1875175200@www.heartfulnessinstitute.org
SUMMARY:Sunday Group Meditation - Monroe\, NJ
DESCRIPTION:Weekly Sunday group meditation event at Monroe\, NJ. \nAgenda \n\nGroup Meditation\nReading
URL:https://www.heartfulnessinstitute.org/event/sun-group-meditation-monroe-nj/2029-06-03/
LOCATION:Monroe Heartfulness Meditation Centre\, 48 Halsey Reed Rd\, Monroe Township\, NJ\, 08831\, United States
ORGANIZER;CN="Monroe%2C NJ":MAILTO:monroe@heartfulness.org
END:VEVENT
BEGIN:VEVENT
DTSTART;TZID=America/New_York:20290606T190000
DTEND;TZID=America/New_York:20290606T200000
DTSTAMP:20260421T211548
CREATED:20260106T012517Z
LAST-MODIFIED:20260106T012519Z
UID:990006483-1875466800-1875470400@www.heartfulnessinstitute.org
SUMMARY:Wednesday Group Meditation - Monroe\, NJ
DESCRIPTION:Weekly Wednesday group meditation event at Monroe\, NJ. \nAgenda \n\nGroup Meditation\nReading
URL:https://www.heartfulnessinstitute.org/event/wed-group-meditation-monroe-nj-2/2029-06-06/
LOCATION:Monroe Heartfulness Meditation Centre\, 48 Halsey Reed Rd\, Monroe Township\, NJ\, 08831\, United States
ORGANIZER;CN="Monroe%2C NJ":MAILTO:monroe@heartfulness.org
END:VEVENT
BEGIN:VEVENT
DTSTART;TZID=America/New_York:20290609T090000
DTEND;TZID=America/New_York:20290609T220000
DTSTAMP:20260421T211548
CREATED:20251022T024011Z
LAST-MODIFIED:20251022T024139Z
UID:990002040-1875690000-1875736800@www.heartfulnessinstitute.org
SUMMARY:Saturday Group Meditation - Monroe\, NJ
DESCRIPTION:Weekly Saturday group meditation event at Monroe\, NJ. \nAgenda \n\nGroup Meditation\nReading
URL:https://www.heartfulnessinstitute.org/event/sat-group-meditation-monroe-nj-2/2029-06-09/
LOCATION:Monroe Heartfulness Meditation Centre\, 48 Halsey Reed Rd\, Monroe Township\, NJ\, 08831\, United States
ORGANIZER;CN="Monroe%2C NJ":MAILTO:monroe@heartfulness.org
END:VEVENT
BEGIN:VEVENT
DTSTART;TZID=America/New_York:20290610T090000
DTEND;TZID=America/New_York:20290610T100000
DTSTAMP:20260421T211548
CREATED:20251022T024303Z
LAST-MODIFIED:20251022T024330Z
UID:990002562-1875776400-1875780000@www.heartfulnessinstitute.org
SUMMARY:Sunday Group Meditation - Monroe\, NJ
DESCRIPTION:Weekly Sunday group meditation event at Monroe\, NJ. \nAgenda \n\nGroup Meditation\nReading
URL:https://www.heartfulnessinstitute.org/event/sun-group-meditation-monroe-nj/2029-06-10/
LOCATION:Monroe Heartfulness Meditation Centre\, 48 Halsey Reed Rd\, Monroe Township\, NJ\, 08831\, United States
ORGANIZER;CN="Monroe%2C NJ":MAILTO:monroe@heartfulness.org
END:VEVENT
BEGIN:VEVENT
DTSTART;TZID=America/New_York:20290613T190000
DTEND;TZID=America/New_York:20290613T200000
DTSTAMP:20260421T211548
CREATED:20260106T012517Z
LAST-MODIFIED:20260106T012519Z
UID:990006484-1876071600-1876075200@www.heartfulnessinstitute.org
SUMMARY:Wednesday Group Meditation - Monroe\, NJ
DESCRIPTION:Weekly Wednesday group meditation event at Monroe\, NJ. \nAgenda \n\nGroup Meditation\nReading
URL:https://www.heartfulnessinstitute.org/event/wed-group-meditation-monroe-nj-2/2029-06-13/
LOCATION:Monroe Heartfulness Meditation Centre\, 48 Halsey Reed Rd\, Monroe Township\, NJ\, 08831\, United States
ORGANIZER;CN="Monroe%2C NJ":MAILTO:monroe@heartfulness.org
END:VEVENT
BEGIN:VEVENT
DTSTART;TZID=America/New_York:20290616T090000
DTEND;TZID=America/New_York:20290616T220000
DTSTAMP:20260421T211548
CREATED:20251022T024011Z
LAST-MODIFIED:20251022T024139Z
UID:990002041-1876294800-1876341600@www.heartfulnessinstitute.org
SUMMARY:Saturday Group Meditation - Monroe\, NJ
DESCRIPTION:Weekly Saturday group meditation event at Monroe\, NJ. \nAgenda \n\nGroup Meditation\nReading
URL:https://www.heartfulnessinstitute.org/event/sat-group-meditation-monroe-nj-2/2029-06-16/
LOCATION:Monroe Heartfulness Meditation Centre\, 48 Halsey Reed Rd\, Monroe Township\, NJ\, 08831\, United States
ORGANIZER;CN="Monroe%2C NJ":MAILTO:monroe@heartfulness.org
END:VEVENT
BEGIN:VEVENT
DTSTART;TZID=America/New_York:20290617T090000
DTEND;TZID=America/New_York:20290617T100000
DTSTAMP:20260421T211548
CREATED:20251022T024303Z
LAST-MODIFIED:20251022T024330Z
UID:990002563-1876381200-1876384800@www.heartfulnessinstitute.org
SUMMARY:Sunday Group Meditation - Monroe\, NJ
DESCRIPTION:Weekly Sunday group meditation event at Monroe\, NJ. \nAgenda \n\nGroup Meditation\nReading
URL:https://www.heartfulnessinstitute.org/event/sun-group-meditation-monroe-nj/2029-06-17/
LOCATION:Monroe Heartfulness Meditation Centre\, 48 Halsey Reed Rd\, Monroe Township\, NJ\, 08831\, United States
ORGANIZER;CN="Monroe%2C NJ":MAILTO:monroe@heartfulness.org
END:VEVENT
BEGIN:VEVENT
DTSTART;TZID=America/New_York:20290620T190000
DTEND;TZID=America/New_York:20290620T200000
DTSTAMP:20260421T211548
CREATED:20260106T012517Z
LAST-MODIFIED:20260106T012519Z
UID:990006485-1876676400-1876680000@www.heartfulnessinstitute.org
SUMMARY:Wednesday Group Meditation - Monroe\, NJ
DESCRIPTION:Weekly Wednesday group meditation event at Monroe\, NJ. \nAgenda \n\nGroup Meditation\nReading
URL:https://www.heartfulnessinstitute.org/event/wed-group-meditation-monroe-nj-2/2029-06-20/
LOCATION:Monroe Heartfulness Meditation Centre\, 48 Halsey Reed Rd\, Monroe Township\, NJ\, 08831\, United States
ORGANIZER;CN="Monroe%2C NJ":MAILTO:monroe@heartfulness.org
END:VEVENT
BEGIN:VEVENT
DTSTART;TZID=America/New_York:20290623T090000
DTEND;TZID=America/New_York:20290623T220000
DTSTAMP:20260421T211548
CREATED:20251022T024011Z
LAST-MODIFIED:20251022T024139Z
UID:990002042-1876899600-1876946400@www.heartfulnessinstitute.org
SUMMARY:Saturday Group Meditation - Monroe\, NJ
DESCRIPTION:Weekly Saturday group meditation event at Monroe\, NJ. \nAgenda \n\nGroup Meditation\nReading
URL:https://www.heartfulnessinstitute.org/event/sat-group-meditation-monroe-nj-2/2029-06-23/
LOCATION:Monroe Heartfulness Meditation Centre\, 48 Halsey Reed Rd\, Monroe Township\, NJ\, 08831\, United States
ORGANIZER;CN="Monroe%2C NJ":MAILTO:monroe@heartfulness.org
END:VEVENT
BEGIN:VEVENT
DTSTART;TZID=America/New_York:20290624T090000
DTEND;TZID=America/New_York:20290624T100000
DTSTAMP:20260421T211548
CREATED:20251022T024303Z
LAST-MODIFIED:20251022T024330Z
UID:990002564-1876986000-1876989600@www.heartfulnessinstitute.org
SUMMARY:Sunday Group Meditation - Monroe\, NJ
DESCRIPTION:Weekly Sunday group meditation event at Monroe\, NJ. \nAgenda \n\nGroup Meditation\nReading
URL:https://www.heartfulnessinstitute.org/event/sun-group-meditation-monroe-nj/2029-06-24/
LOCATION:Monroe Heartfulness Meditation Centre\, 48 Halsey Reed Rd\, Monroe Township\, NJ\, 08831\, United States
ORGANIZER;CN="Monroe%2C NJ":MAILTO:monroe@heartfulness.org
END:VEVENT
BEGIN:VEVENT
DTSTART;TZID=America/New_York:20290627T190000
DTEND;TZID=America/New_York:20290627T200000
DTSTAMP:20260421T211548
CREATED:20260106T012517Z
LAST-MODIFIED:20260106T012519Z
UID:990006486-1877281200-1877284800@www.heartfulnessinstitute.org
SUMMARY:Wednesday Group Meditation - Monroe\, NJ
DESCRIPTION:Weekly Wednesday group meditation event at Monroe\, NJ. \nAgenda \n\nGroup Meditation\nReading
URL:https://www.heartfulnessinstitute.org/event/wed-group-meditation-monroe-nj-2/2029-06-27/
LOCATION:Monroe Heartfulness Meditation Centre\, 48 Halsey Reed Rd\, Monroe Township\, NJ\, 08831\, United States
ORGANIZER;CN="Monroe%2C NJ":MAILTO:monroe@heartfulness.org
END:VEVENT
END:VCALENDAR