BEGIN:VCALENDAR
VERSION:2.0
PRODID:-//Heartfulness Institute - ECPv6.15.1.1//NONSGML v1.0//EN
CALSCALE:GREGORIAN
METHOD:PUBLISH
X-ORIGINAL-URL:https://www.heartfulnessinstitute.org
X-WR-CALDESC:Events for Heartfulness Institute
REFRESH-INTERVAL;VALUE=DURATION:PT1H
X-Robots-Tag:noindex
X-PUBLISHED-TTL:PT1H
BEGIN:VTIMEZONE
TZID:America/New_York
BEGIN:DAYLIGHT
TZOFFSETFROM:-0500
TZOFFSETTO:-0400
TZNAME:EDT
DTSTART:20290311T070000
END:DAYLIGHT
BEGIN:STANDARD
TZOFFSETFROM:-0400
TZOFFSETTO:-0500
TZNAME:EST
DTSTART:20291104T060000
END:STANDARD
END:VTIMEZONE
BEGIN:VEVENT
DTSTART;TZID=America/New_York:20290304T090000
DTEND;TZID=America/New_York:20290304T100000
DTSTAMP:20260421T132649
CREATED:20251022T024303Z
LAST-MODIFIED:20251022T024330Z
UID:990002548-1867309200-1867312800@www.heartfulnessinstitute.org
SUMMARY:Sunday Group Meditation - Monroe\, NJ
DESCRIPTION:Weekly Sunday group meditation event at Monroe\, NJ. \nAgenda \n\nGroup Meditation\nReading
URL:https://www.heartfulnessinstitute.org/event/sun-group-meditation-monroe-nj/2029-03-04/
LOCATION:Monroe Heartfulness Meditation Centre\, 48 Halsey Reed Rd\, Monroe Township\, NJ\, 08831\, United States
ORGANIZER;CN="Monroe%2C NJ":MAILTO:monroe@heartfulness.org
END:VEVENT
BEGIN:VEVENT
DTSTART;TZID=America/New_York:20290307T190000
DTEND;TZID=America/New_York:20290307T200000
DTSTAMP:20260421T132649
CREATED:20260106T012517Z
LAST-MODIFIED:20260106T012519Z
UID:990006470-1867604400-1867608000@www.heartfulnessinstitute.org
SUMMARY:Wednesday Group Meditation - Monroe\, NJ
DESCRIPTION:Weekly Wednesday group meditation event at Monroe\, NJ. \nAgenda \n\nGroup Meditation\nReading
URL:https://www.heartfulnessinstitute.org/event/wed-group-meditation-monroe-nj-2/2029-03-07/
LOCATION:Monroe Heartfulness Meditation Centre\, 48 Halsey Reed Rd\, Monroe Township\, NJ\, 08831\, United States
ORGANIZER;CN="Monroe%2C NJ":MAILTO:monroe@heartfulness.org
END:VEVENT
BEGIN:VEVENT
DTSTART;TZID=America/New_York:20290310T090000
DTEND;TZID=America/New_York:20290310T220000
DTSTAMP:20260421T132649
CREATED:20251022T024011Z
LAST-MODIFIED:20251022T024139Z
UID:990002027-1867827600-1867874400@www.heartfulnessinstitute.org
SUMMARY:Saturday Group Meditation - Monroe\, NJ
DESCRIPTION:Weekly Saturday group meditation event at Monroe\, NJ. \nAgenda \n\nGroup Meditation\nReading
URL:https://www.heartfulnessinstitute.org/event/sat-group-meditation-monroe-nj-2/2029-03-10/
LOCATION:Monroe Heartfulness Meditation Centre\, 48 Halsey Reed Rd\, Monroe Township\, NJ\, 08831\, United States
ORGANIZER;CN="Monroe%2C NJ":MAILTO:monroe@heartfulness.org
END:VEVENT
BEGIN:VEVENT
DTSTART;TZID=America/New_York:20290311T090000
DTEND;TZID=America/New_York:20290311T100000
DTSTAMP:20260421T132649
CREATED:20251022T024303Z
LAST-MODIFIED:20251022T024330Z
UID:990002549-1867914000-1867917600@www.heartfulnessinstitute.org
SUMMARY:Sunday Group Meditation - Monroe\, NJ
DESCRIPTION:Weekly Sunday group meditation event at Monroe\, NJ. \nAgenda \n\nGroup Meditation\nReading
URL:https://www.heartfulnessinstitute.org/event/sun-group-meditation-monroe-nj/2029-03-11/
LOCATION:Monroe Heartfulness Meditation Centre\, 48 Halsey Reed Rd\, Monroe Township\, NJ\, 08831\, United States
ORGANIZER;CN="Monroe%2C NJ":MAILTO:monroe@heartfulness.org
END:VEVENT
BEGIN:VEVENT
DTSTART;TZID=America/New_York:20290314T190000
DTEND;TZID=America/New_York:20290314T200000
DTSTAMP:20260421T132649
CREATED:20260106T012517Z
LAST-MODIFIED:20260106T012519Z
UID:990006471-1868209200-1868212800@www.heartfulnessinstitute.org
SUMMARY:Wednesday Group Meditation - Monroe\, NJ
DESCRIPTION:Weekly Wednesday group meditation event at Monroe\, NJ. \nAgenda \n\nGroup Meditation\nReading
URL:https://www.heartfulnessinstitute.org/event/wed-group-meditation-monroe-nj-2/2029-03-14/
LOCATION:Monroe Heartfulness Meditation Centre\, 48 Halsey Reed Rd\, Monroe Township\, NJ\, 08831\, United States
ORGANIZER;CN="Monroe%2C NJ":MAILTO:monroe@heartfulness.org
END:VEVENT
BEGIN:VEVENT
DTSTART;TZID=America/New_York:20290317T090000
DTEND;TZID=America/New_York:20290317T220000
DTSTAMP:20260421T132649
CREATED:20251022T024011Z
LAST-MODIFIED:20251022T024139Z
UID:990002028-1868432400-1868479200@www.heartfulnessinstitute.org
SUMMARY:Saturday Group Meditation - Monroe\, NJ
DESCRIPTION:Weekly Saturday group meditation event at Monroe\, NJ. \nAgenda \n\nGroup Meditation\nReading
URL:https://www.heartfulnessinstitute.org/event/sat-group-meditation-monroe-nj-2/2029-03-17/
LOCATION:Monroe Heartfulness Meditation Centre\, 48 Halsey Reed Rd\, Monroe Township\, NJ\, 08831\, United States
ORGANIZER;CN="Monroe%2C NJ":MAILTO:monroe@heartfulness.org
END:VEVENT
BEGIN:VEVENT
DTSTART;TZID=America/New_York:20290318T090000
DTEND;TZID=America/New_York:20290318T100000
DTSTAMP:20260421T132649
CREATED:20251022T024303Z
LAST-MODIFIED:20251022T024330Z
UID:990002550-1868518800-1868522400@www.heartfulnessinstitute.org
SUMMARY:Sunday Group Meditation - Monroe\, NJ
DESCRIPTION:Weekly Sunday group meditation event at Monroe\, NJ. \nAgenda \n\nGroup Meditation\nReading
URL:https://www.heartfulnessinstitute.org/event/sun-group-meditation-monroe-nj/2029-03-18/
LOCATION:Monroe Heartfulness Meditation Centre\, 48 Halsey Reed Rd\, Monroe Township\, NJ\, 08831\, United States
ORGANIZER;CN="Monroe%2C NJ":MAILTO:monroe@heartfulness.org
END:VEVENT
BEGIN:VEVENT
DTSTART;TZID=America/New_York:20290321T190000
DTEND;TZID=America/New_York:20290321T200000
DTSTAMP:20260421T132649
CREATED:20260106T012517Z
LAST-MODIFIED:20260106T012519Z
UID:990006472-1868814000-1868817600@www.heartfulnessinstitute.org
SUMMARY:Wednesday Group Meditation - Monroe\, NJ
DESCRIPTION:Weekly Wednesday group meditation event at Monroe\, NJ. \nAgenda \n\nGroup Meditation\nReading
URL:https://www.heartfulnessinstitute.org/event/wed-group-meditation-monroe-nj-2/2029-03-21/
LOCATION:Monroe Heartfulness Meditation Centre\, 48 Halsey Reed Rd\, Monroe Township\, NJ\, 08831\, United States
ORGANIZER;CN="Monroe%2C NJ":MAILTO:monroe@heartfulness.org
END:VEVENT
BEGIN:VEVENT
DTSTART;TZID=America/New_York:20290324T090000
DTEND;TZID=America/New_York:20290324T220000
DTSTAMP:20260421T132649
CREATED:20251022T024011Z
LAST-MODIFIED:20251022T024139Z
UID:990002029-1869037200-1869084000@www.heartfulnessinstitute.org
SUMMARY:Saturday Group Meditation - Monroe\, NJ
DESCRIPTION:Weekly Saturday group meditation event at Monroe\, NJ. \nAgenda \n\nGroup Meditation\nReading
URL:https://www.heartfulnessinstitute.org/event/sat-group-meditation-monroe-nj-2/2029-03-24/
LOCATION:Monroe Heartfulness Meditation Centre\, 48 Halsey Reed Rd\, Monroe Township\, NJ\, 08831\, United States
ORGANIZER;CN="Monroe%2C NJ":MAILTO:monroe@heartfulness.org
END:VEVENT
BEGIN:VEVENT
DTSTART;TZID=America/New_York:20290325T090000
DTEND;TZID=America/New_York:20290325T100000
DTSTAMP:20260421T132649
CREATED:20251022T024303Z
LAST-MODIFIED:20251022T024330Z
UID:990002551-1869123600-1869127200@www.heartfulnessinstitute.org
SUMMARY:Sunday Group Meditation - Monroe\, NJ
DESCRIPTION:Weekly Sunday group meditation event at Monroe\, NJ. \nAgenda \n\nGroup Meditation\nReading
URL:https://www.heartfulnessinstitute.org/event/sun-group-meditation-monroe-nj/2029-03-25/
LOCATION:Monroe Heartfulness Meditation Centre\, 48 Halsey Reed Rd\, Monroe Township\, NJ\, 08831\, United States
ORGANIZER;CN="Monroe%2C NJ":MAILTO:monroe@heartfulness.org
END:VEVENT
BEGIN:VEVENT
DTSTART;TZID=America/New_York:20290328T190000
DTEND;TZID=America/New_York:20290328T200000
DTSTAMP:20260421T132649
CREATED:20260106T012517Z
LAST-MODIFIED:20260106T012519Z
UID:990006473-1869418800-1869422400@www.heartfulnessinstitute.org
SUMMARY:Wednesday Group Meditation - Monroe\, NJ
DESCRIPTION:Weekly Wednesday group meditation event at Monroe\, NJ. \nAgenda \n\nGroup Meditation\nReading
URL:https://www.heartfulnessinstitute.org/event/wed-group-meditation-monroe-nj-2/2029-03-28/
LOCATION:Monroe Heartfulness Meditation Centre\, 48 Halsey Reed Rd\, Monroe Township\, NJ\, 08831\, United States
ORGANIZER;CN="Monroe%2C NJ":MAILTO:monroe@heartfulness.org
END:VEVENT
BEGIN:VEVENT
DTSTART;TZID=America/New_York:20290331T090000
DTEND;TZID=America/New_York:20290331T220000
DTSTAMP:20260421T132649
CREATED:20251022T024011Z
LAST-MODIFIED:20251022T024139Z
UID:990002030-1869642000-1869688800@www.heartfulnessinstitute.org
SUMMARY:Saturday Group Meditation - Monroe\, NJ
DESCRIPTION:Weekly Saturday group meditation event at Monroe\, NJ. \nAgenda \n\nGroup Meditation\nReading
URL:https://www.heartfulnessinstitute.org/event/sat-group-meditation-monroe-nj-2/2029-03-31/
LOCATION:Monroe Heartfulness Meditation Centre\, 48 Halsey Reed Rd\, Monroe Township\, NJ\, 08831\, United States
ORGANIZER;CN="Monroe%2C NJ":MAILTO:monroe@heartfulness.org
END:VEVENT
BEGIN:VEVENT
DTSTART;TZID=America/New_York:20290401T090000
DTEND;TZID=America/New_York:20290401T100000
DTSTAMP:20260421T132649
CREATED:20251022T024303Z
LAST-MODIFIED:20251022T024330Z
UID:990002552-1869728400-1869732000@www.heartfulnessinstitute.org
SUMMARY:Sunday Group Meditation - Monroe\, NJ
DESCRIPTION:Weekly Sunday group meditation event at Monroe\, NJ. \nAgenda \n\nGroup Meditation\nReading
URL:https://www.heartfulnessinstitute.org/event/sun-group-meditation-monroe-nj/2029-04-01/
LOCATION:Monroe Heartfulness Meditation Centre\, 48 Halsey Reed Rd\, Monroe Township\, NJ\, 08831\, United States
ORGANIZER;CN="Monroe%2C NJ":MAILTO:monroe@heartfulness.org
END:VEVENT
BEGIN:VEVENT
DTSTART;TZID=America/New_York:20290404T190000
DTEND;TZID=America/New_York:20290404T200000
DTSTAMP:20260421T132649
CREATED:20260106T012517Z
LAST-MODIFIED:20260106T012519Z
UID:990006474-1870023600-1870027200@www.heartfulnessinstitute.org
SUMMARY:Wednesday Group Meditation - Monroe\, NJ
DESCRIPTION:Weekly Wednesday group meditation event at Monroe\, NJ. \nAgenda \n\nGroup Meditation\nReading
URL:https://www.heartfulnessinstitute.org/event/wed-group-meditation-monroe-nj-2/2029-04-04/
LOCATION:Monroe Heartfulness Meditation Centre\, 48 Halsey Reed Rd\, Monroe Township\, NJ\, 08831\, United States
ORGANIZER;CN="Monroe%2C NJ":MAILTO:monroe@heartfulness.org
END:VEVENT
BEGIN:VEVENT
DTSTART;TZID=America/New_York:20290407T090000
DTEND;TZID=America/New_York:20290407T220000
DTSTAMP:20260421T132649
CREATED:20251022T024011Z
LAST-MODIFIED:20251022T024139Z
UID:990002031-1870246800-1870293600@www.heartfulnessinstitute.org
SUMMARY:Saturday Group Meditation - Monroe\, NJ
DESCRIPTION:Weekly Saturday group meditation event at Monroe\, NJ. \nAgenda \n\nGroup Meditation\nReading
URL:https://www.heartfulnessinstitute.org/event/sat-group-meditation-monroe-nj-2/2029-04-07/
LOCATION:Monroe Heartfulness Meditation Centre\, 48 Halsey Reed Rd\, Monroe Township\, NJ\, 08831\, United States
ORGANIZER;CN="Monroe%2C NJ":MAILTO:monroe@heartfulness.org
END:VEVENT
BEGIN:VEVENT
DTSTART;TZID=America/New_York:20290408T090000
DTEND;TZID=America/New_York:20290408T100000
DTSTAMP:20260421T132649
CREATED:20251022T024303Z
LAST-MODIFIED:20251022T024330Z
UID:990002553-1870333200-1870336800@www.heartfulnessinstitute.org
SUMMARY:Sunday Group Meditation - Monroe\, NJ
DESCRIPTION:Weekly Sunday group meditation event at Monroe\, NJ. \nAgenda \n\nGroup Meditation\nReading
URL:https://www.heartfulnessinstitute.org/event/sun-group-meditation-monroe-nj/2029-04-08/
LOCATION:Monroe Heartfulness Meditation Centre\, 48 Halsey Reed Rd\, Monroe Township\, NJ\, 08831\, United States
ORGANIZER;CN="Monroe%2C NJ":MAILTO:monroe@heartfulness.org
END:VEVENT
BEGIN:VEVENT
DTSTART;TZID=America/New_York:20290411T190000
DTEND;TZID=America/New_York:20290411T200000
DTSTAMP:20260421T132649
CREATED:20260106T012517Z
LAST-MODIFIED:20260106T012519Z
UID:990006475-1870628400-1870632000@www.heartfulnessinstitute.org
SUMMARY:Wednesday Group Meditation - Monroe\, NJ
DESCRIPTION:Weekly Wednesday group meditation event at Monroe\, NJ. \nAgenda \n\nGroup Meditation\nReading
URL:https://www.heartfulnessinstitute.org/event/wed-group-meditation-monroe-nj-2/2029-04-11/
LOCATION:Monroe Heartfulness Meditation Centre\, 48 Halsey Reed Rd\, Monroe Township\, NJ\, 08831\, United States
ORGANIZER;CN="Monroe%2C NJ":MAILTO:monroe@heartfulness.org
END:VEVENT
BEGIN:VEVENT
DTSTART;TZID=America/New_York:20290414T090000
DTEND;TZID=America/New_York:20290414T220000
DTSTAMP:20260421T132649
CREATED:20251022T024011Z
LAST-MODIFIED:20251022T024139Z
UID:990002032-1870851600-1870898400@www.heartfulnessinstitute.org
SUMMARY:Saturday Group Meditation - Monroe\, NJ
DESCRIPTION:Weekly Saturday group meditation event at Monroe\, NJ. \nAgenda \n\nGroup Meditation\nReading
URL:https://www.heartfulnessinstitute.org/event/sat-group-meditation-monroe-nj-2/2029-04-14/
LOCATION:Monroe Heartfulness Meditation Centre\, 48 Halsey Reed Rd\, Monroe Township\, NJ\, 08831\, United States
ORGANIZER;CN="Monroe%2C NJ":MAILTO:monroe@heartfulness.org
END:VEVENT
BEGIN:VEVENT
DTSTART;TZID=America/New_York:20290415T090000
DTEND;TZID=America/New_York:20290415T100000
DTSTAMP:20260421T132649
CREATED:20251022T024303Z
LAST-MODIFIED:20251022T024330Z
UID:990002554-1870938000-1870941600@www.heartfulnessinstitute.org
SUMMARY:Sunday Group Meditation - Monroe\, NJ
DESCRIPTION:Weekly Sunday group meditation event at Monroe\, NJ. \nAgenda \n\nGroup Meditation\nReading
URL:https://www.heartfulnessinstitute.org/event/sun-group-meditation-monroe-nj/2029-04-15/
LOCATION:Monroe Heartfulness Meditation Centre\, 48 Halsey Reed Rd\, Monroe Township\, NJ\, 08831\, United States
ORGANIZER;CN="Monroe%2C NJ":MAILTO:monroe@heartfulness.org
END:VEVENT
BEGIN:VEVENT
DTSTART;TZID=America/New_York:20290418T190000
DTEND;TZID=America/New_York:20290418T200000
DTSTAMP:20260421T132649
CREATED:20260106T012517Z
LAST-MODIFIED:20260106T012519Z
UID:990006476-1871233200-1871236800@www.heartfulnessinstitute.org
SUMMARY:Wednesday Group Meditation - Monroe\, NJ
DESCRIPTION:Weekly Wednesday group meditation event at Monroe\, NJ. \nAgenda \n\nGroup Meditation\nReading
URL:https://www.heartfulnessinstitute.org/event/wed-group-meditation-monroe-nj-2/2029-04-18/
LOCATION:Monroe Heartfulness Meditation Centre\, 48 Halsey Reed Rd\, Monroe Township\, NJ\, 08831\, United States
ORGANIZER;CN="Monroe%2C NJ":MAILTO:monroe@heartfulness.org
END:VEVENT
BEGIN:VEVENT
DTSTART;TZID=America/New_York:20290421T090000
DTEND;TZID=America/New_York:20290421T220000
DTSTAMP:20260421T132649
CREATED:20251022T024011Z
LAST-MODIFIED:20251022T024139Z
UID:990002033-1871456400-1871503200@www.heartfulnessinstitute.org
SUMMARY:Saturday Group Meditation - Monroe\, NJ
DESCRIPTION:Weekly Saturday group meditation event at Monroe\, NJ. \nAgenda \n\nGroup Meditation\nReading
URL:https://www.heartfulnessinstitute.org/event/sat-group-meditation-monroe-nj-2/2029-04-21/
LOCATION:Monroe Heartfulness Meditation Centre\, 48 Halsey Reed Rd\, Monroe Township\, NJ\, 08831\, United States
ORGANIZER;CN="Monroe%2C NJ":MAILTO:monroe@heartfulness.org
END:VEVENT
BEGIN:VEVENT
DTSTART;TZID=America/New_York:20290422T090000
DTEND;TZID=America/New_York:20290422T100000
DTSTAMP:20260421T132649
CREATED:20251022T024303Z
LAST-MODIFIED:20251022T024330Z
UID:990002555-1871542800-1871546400@www.heartfulnessinstitute.org
SUMMARY:Sunday Group Meditation - Monroe\, NJ
DESCRIPTION:Weekly Sunday group meditation event at Monroe\, NJ. \nAgenda \n\nGroup Meditation\nReading
URL:https://www.heartfulnessinstitute.org/event/sun-group-meditation-monroe-nj/2029-04-22/
LOCATION:Monroe Heartfulness Meditation Centre\, 48 Halsey Reed Rd\, Monroe Township\, NJ\, 08831\, United States
ORGANIZER;CN="Monroe%2C NJ":MAILTO:monroe@heartfulness.org
END:VEVENT
BEGIN:VEVENT
DTSTART;TZID=America/New_York:20290425T190000
DTEND;TZID=America/New_York:20290425T200000
DTSTAMP:20260421T132649
CREATED:20260106T012517Z
LAST-MODIFIED:20260106T012519Z
UID:990006477-1871838000-1871841600@www.heartfulnessinstitute.org
SUMMARY:Wednesday Group Meditation - Monroe\, NJ
DESCRIPTION:Weekly Wednesday group meditation event at Monroe\, NJ. \nAgenda \n\nGroup Meditation\nReading
URL:https://www.heartfulnessinstitute.org/event/wed-group-meditation-monroe-nj-2/2029-04-25/
LOCATION:Monroe Heartfulness Meditation Centre\, 48 Halsey Reed Rd\, Monroe Township\, NJ\, 08831\, United States
ORGANIZER;CN="Monroe%2C NJ":MAILTO:monroe@heartfulness.org
END:VEVENT
BEGIN:VEVENT
DTSTART;TZID=America/New_York:20290428T090000
DTEND;TZID=America/New_York:20290428T220000
DTSTAMP:20260421T132649
CREATED:20251022T024011Z
LAST-MODIFIED:20251022T024139Z
UID:990002034-1872061200-1872108000@www.heartfulnessinstitute.org
SUMMARY:Saturday Group Meditation - Monroe\, NJ
DESCRIPTION:Weekly Saturday group meditation event at Monroe\, NJ. \nAgenda \n\nGroup Meditation\nReading
URL:https://www.heartfulnessinstitute.org/event/sat-group-meditation-monroe-nj-2/2029-04-28/
LOCATION:Monroe Heartfulness Meditation Centre\, 48 Halsey Reed Rd\, Monroe Township\, NJ\, 08831\, United States
ORGANIZER;CN="Monroe%2C NJ":MAILTO:monroe@heartfulness.org
END:VEVENT
BEGIN:VEVENT
DTSTART;TZID=America/New_York:20290429T090000
DTEND;TZID=America/New_York:20290429T100000
DTSTAMP:20260421T132649
CREATED:20251022T024303Z
LAST-MODIFIED:20251022T024330Z
UID:990002556-1872147600-1872151200@www.heartfulnessinstitute.org
SUMMARY:Sunday Group Meditation - Monroe\, NJ
DESCRIPTION:Weekly Sunday group meditation event at Monroe\, NJ. \nAgenda \n\nGroup Meditation\nReading
URL:https://www.heartfulnessinstitute.org/event/sun-group-meditation-monroe-nj/2029-04-29/
LOCATION:Monroe Heartfulness Meditation Centre\, 48 Halsey Reed Rd\, Monroe Township\, NJ\, 08831\, United States
ORGANIZER;CN="Monroe%2C NJ":MAILTO:monroe@heartfulness.org
END:VEVENT
BEGIN:VEVENT
DTSTART;TZID=America/New_York:20290502T190000
DTEND;TZID=America/New_York:20290502T200000
DTSTAMP:20260421T132649
CREATED:20260106T012517Z
LAST-MODIFIED:20260106T012519Z
UID:990006478-1872442800-1872446400@www.heartfulnessinstitute.org
SUMMARY:Wednesday Group Meditation - Monroe\, NJ
DESCRIPTION:Weekly Wednesday group meditation event at Monroe\, NJ. \nAgenda \n\nGroup Meditation\nReading
URL:https://www.heartfulnessinstitute.org/event/wed-group-meditation-monroe-nj-2/2029-05-02/
LOCATION:Monroe Heartfulness Meditation Centre\, 48 Halsey Reed Rd\, Monroe Township\, NJ\, 08831\, United States
ORGANIZER;CN="Monroe%2C NJ":MAILTO:monroe@heartfulness.org
END:VEVENT
BEGIN:VEVENT
DTSTART;TZID=America/New_York:20290505T090000
DTEND;TZID=America/New_York:20290505T220000
DTSTAMP:20260421T132649
CREATED:20251022T024011Z
LAST-MODIFIED:20251022T024139Z
UID:990002035-1872666000-1872712800@www.heartfulnessinstitute.org
SUMMARY:Saturday Group Meditation - Monroe\, NJ
DESCRIPTION:Weekly Saturday group meditation event at Monroe\, NJ. \nAgenda \n\nGroup Meditation\nReading
URL:https://www.heartfulnessinstitute.org/event/sat-group-meditation-monroe-nj-2/2029-05-05/
LOCATION:Monroe Heartfulness Meditation Centre\, 48 Halsey Reed Rd\, Monroe Township\, NJ\, 08831\, United States
ORGANIZER;CN="Monroe%2C NJ":MAILTO:monroe@heartfulness.org
END:VEVENT
BEGIN:VEVENT
DTSTART;TZID=America/New_York:20290506T090000
DTEND;TZID=America/New_York:20290506T100000
DTSTAMP:20260421T132649
CREATED:20251022T024303Z
LAST-MODIFIED:20251022T024330Z
UID:990002557-1872752400-1872756000@www.heartfulnessinstitute.org
SUMMARY:Sunday Group Meditation - Monroe\, NJ
DESCRIPTION:Weekly Sunday group meditation event at Monroe\, NJ. \nAgenda \n\nGroup Meditation\nReading
URL:https://www.heartfulnessinstitute.org/event/sun-group-meditation-monroe-nj/2029-05-06/
LOCATION:Monroe Heartfulness Meditation Centre\, 48 Halsey Reed Rd\, Monroe Township\, NJ\, 08831\, United States
ORGANIZER;CN="Monroe%2C NJ":MAILTO:monroe@heartfulness.org
END:VEVENT
BEGIN:VEVENT
DTSTART;TZID=America/New_York:20290509T190000
DTEND;TZID=America/New_York:20290509T200000
DTSTAMP:20260421T132649
CREATED:20260106T012517Z
LAST-MODIFIED:20260106T012519Z
UID:990006479-1873047600-1873051200@www.heartfulnessinstitute.org
SUMMARY:Wednesday Group Meditation - Monroe\, NJ
DESCRIPTION:Weekly Wednesday group meditation event at Monroe\, NJ. \nAgenda \n\nGroup Meditation\nReading
URL:https://www.heartfulnessinstitute.org/event/wed-group-meditation-monroe-nj-2/2029-05-09/
LOCATION:Monroe Heartfulness Meditation Centre\, 48 Halsey Reed Rd\, Monroe Township\, NJ\, 08831\, United States
ORGANIZER;CN="Monroe%2C NJ":MAILTO:monroe@heartfulness.org
END:VEVENT
BEGIN:VEVENT
DTSTART;TZID=America/New_York:20290512T090000
DTEND;TZID=America/New_York:20290512T220000
DTSTAMP:20260421T132649
CREATED:20251022T024011Z
LAST-MODIFIED:20251022T024139Z
UID:990002036-1873270800-1873317600@www.heartfulnessinstitute.org
SUMMARY:Saturday Group Meditation - Monroe\, NJ
DESCRIPTION:Weekly Saturday group meditation event at Monroe\, NJ. \nAgenda \n\nGroup Meditation\nReading
URL:https://www.heartfulnessinstitute.org/event/sat-group-meditation-monroe-nj-2/2029-05-12/
LOCATION:Monroe Heartfulness Meditation Centre\, 48 Halsey Reed Rd\, Monroe Township\, NJ\, 08831\, United States
ORGANIZER;CN="Monroe%2C NJ":MAILTO:monroe@heartfulness.org
END:VEVENT
END:VCALENDAR