BEGIN:VCALENDAR
VERSION:2.0
PRODID:-//Heartfulness Institute - ECPv6.15.1.1//NONSGML v1.0//EN
CALSCALE:GREGORIAN
METHOD:PUBLISH
X-ORIGINAL-URL:https://www.heartfulnessinstitute.org
X-WR-CALDESC:Events for Heartfulness Institute
REFRESH-INTERVAL;VALUE=DURATION:PT1H
X-Robots-Tag:noindex
X-PUBLISHED-TTL:PT1H
BEGIN:VTIMEZONE
TZID:America/New_York
BEGIN:DAYLIGHT
TZOFFSETFROM:-0500
TZOFFSETTO:-0400
TZNAME:EDT
DTSTART:20260308T070000
END:DAYLIGHT
BEGIN:STANDARD
TZOFFSETFROM:-0400
TZOFFSETTO:-0500
TZNAME:EST
DTSTART:20261101T060000
END:STANDARD
BEGIN:DAYLIGHT
TZOFFSETFROM:-0500
TZOFFSETTO:-0400
TZNAME:EDT
DTSTART:20270314T070000
END:DAYLIGHT
BEGIN:STANDARD
TZOFFSETFROM:-0400
TZOFFSETTO:-0500
TZNAME:EST
DTSTART:20271107T060000
END:STANDARD
END:VTIMEZONE
BEGIN:VTIMEZONE
TZID:America/Los_Angeles
BEGIN:DAYLIGHT
TZOFFSETFROM:-0800
TZOFFSETTO:-0700
TZNAME:PDT
DTSTART:20260308T100000
END:DAYLIGHT
BEGIN:STANDARD
TZOFFSETFROM:-0700
TZOFFSETTO:-0800
TZNAME:PST
DTSTART:20261101T090000
END:STANDARD
BEGIN:DAYLIGHT
TZOFFSETFROM:-0800
TZOFFSETTO:-0700
TZNAME:PDT
DTSTART:20270314T100000
END:DAYLIGHT
BEGIN:STANDARD
TZOFFSETFROM:-0700
TZOFFSETTO:-0800
TZNAME:PST
DTSTART:20271107T090000
END:STANDARD
END:VTIMEZONE
BEGIN:VEVENT
DTSTART;TZID=America/New_York:20261129T090000
DTEND;TZID=America/New_York:20261129T100000
DTSTAMP:20260422T092943
CREATED:20251220T033233Z
LAST-MODIFIED:20251220T033233Z
UID:990004781-1795942800-1795946400@www.heartfulnessinstitute.org
SUMMARY:Sunday Group Meditation\, Troy\, MI
DESCRIPTION:Sunday Group Meditation at 3270 West Big Beaver Road\, HTC Building\, 4th Floor\, Troy\, MI 48084
URL:https://www.heartfulnessinstitute.org/event/sunday-group-meditation-troy-mi/2026-11-29/
LOCATION:HTC Building\, Troy\, 3270 West Big Beaver Road\, HTC Building\, 4th Floor\, Troy\, MI\, 48084\, United States
ORGANIZER;CN="Metro Detroit%2C MI":MAILTO:metrodetroit@heartfulness.org
END:VEVENT
BEGIN:VEVENT
DTSTART;TZID=America/New_York:20261129T090000
DTEND;TZID=America/New_York:20261129T100000
DTSTAMP:20260422T092943
CREATED:20251221T034256Z
LAST-MODIFIED:20251221T034256Z
UID:990005563-1795942800-1795946400@www.heartfulnessinstitute.org
SUMMARY:Sunday Group Meditation\, Canton\, MI
DESCRIPTION:Sunday Group Meditation\, at 7380 Burgundy Street\, Canton\, MI 48187
URL:https://www.heartfulnessinstitute.org/event/sunday-group-meditation-canton-mi/2026-11-29/
LOCATION:Canton\, MI\, 7380 Burgundy Street\, Canton\, MI\, 48187\, United States
ORGANIZER;CN="Metro Detroit%2C MI":MAILTO:metrodetroit@heartfulness.org
END:VEVENT
BEGIN:VEVENT
DTSTART;TZID=America/New_York:20261202T190000
DTEND;TZID=America/New_York:20261202T200000
DTSTAMP:20260422T092943
CREATED:20251221T032917Z
LAST-MODIFIED:20251221T032917Z
UID:990005042-1796238000-1796241600@www.heartfulnessinstitute.org
SUMMARY:Wednesday Group Meditation\, Troy\, MI
DESCRIPTION:Wednesday Group Meditation at 3270 West Big Beaver Road\, HTC Building\, 4th Floor\, Troy\, MI 48084
URL:https://www.heartfulnessinstitute.org/event/wednesday-group-meditation-troy-mi/2026-12-02/
LOCATION:HTC Building\, Troy\, 3270 West Big Beaver Road\, HTC Building\, 4th Floor\, Troy\, MI\, 48084\, United States
ORGANIZER;CN="Metro Detroit%2C MI":MAILTO:metrodetroit@heartfulness.org
END:VEVENT
BEGIN:VEVENT
DTSTART;TZID=America/New_York:20261203T190000
DTEND;TZID=America/New_York:20261203T200000
DTSTAMP:20260422T092943
CREATED:20251221T034649Z
LAST-MODIFIED:20251221T034649Z
UID:990005824-1796324400-1796328000@www.heartfulnessinstitute.org
SUMMARY:Thursday Group Meditation\, Farmington Hills\, MI
DESCRIPTION:Thursday Group Meditation at 28745 Hidden Trail\, Farmington Hills\, MI 48331
URL:https://www.heartfulnessinstitute.org/event/thursday-group-meditation-farmington-hills-mi/2026-12-03/
LOCATION:Farmington Hills\, MI\, 28745 Hidden Trail\, Farmington Hills\, MI\, 48331\, United States
ORGANIZER;CN="Metro Detroit%2C MI":MAILTO:metrodetroit@heartfulness.org
END:VEVENT
BEGIN:VEVENT
DTSTART;TZID=America/New_York:20261204T190000
DTEND;TZID=America/New_York:20261204T200000
DTSTAMP:20260422T092943
CREATED:20251221T035033Z
LAST-MODIFIED:20251221T035033Z
UID:990006085-1796410800-1796414400@www.heartfulnessinstitute.org
SUMMARY:Friday Group Meditation\, Ann Arbor\, MI
DESCRIPTION:Friday Group Meditation at Ann Arbor\, MI 4092 East Huron River Service Drive\, Ann Arbor\, MI 48104
URL:https://www.heartfulnessinstitute.org/event/friday-group-meditation-ann-arbor-mi/2026-12-04/
LOCATION:Ann Arbor\, MI\, 4092 East Huron River Service Drive\, Ann Arbor\, MI\, 48104\, United States
ORGANIZER;CN="Metro Detroit%2C MI":MAILTO:metrodetroit@heartfulness.org
END:VEVENT
BEGIN:VEVENT
DTSTART;TZID=America/Los_Angeles:20261205T090000
DTEND;TZID=America/Los_Angeles:20261205T110000
DTSTAMP:20260422T092943
CREATED:20251221T033106Z
LAST-MODIFIED:20251221T033106Z
UID:990005303-1796461200-1796468400@www.heartfulnessinstitute.org
SUMMARY:Satruday 1-1 Meditation\, Troy\, MI
DESCRIPTION:Saturday 1-1 Meditation at 3270 West Big Beaver Road\, HTC Building\, 4th Floor\, Troy\, MI 48084
URL:https://www.heartfulnessinstitute.org/event/satruday-1-1-meditation-troy-mi/2026-12-05/
LOCATION:HTC Building\, Troy\, 3270 West Big Beaver Road\, HTC Building\, 4th Floor\, Troy\, MI\, 48084\, United States
ORGANIZER;CN="Metro Detroit%2C MI":MAILTO:metrodetroit@heartfulness.org
END:VEVENT
BEGIN:VEVENT
DTSTART;TZID=America/New_York:20261206T090000
DTEND;TZID=America/New_York:20261206T100000
DTSTAMP:20260422T092943
CREATED:20251220T033233Z
LAST-MODIFIED:20251220T033233Z
UID:990004782-1796547600-1796551200@www.heartfulnessinstitute.org
SUMMARY:Sunday Group Meditation\, Troy\, MI
DESCRIPTION:Sunday Group Meditation at 3270 West Big Beaver Road\, HTC Building\, 4th Floor\, Troy\, MI 48084
URL:https://www.heartfulnessinstitute.org/event/sunday-group-meditation-troy-mi/2026-12-06/
LOCATION:HTC Building\, Troy\, 3270 West Big Beaver Road\, HTC Building\, 4th Floor\, Troy\, MI\, 48084\, United States
ORGANIZER;CN="Metro Detroit%2C MI":MAILTO:metrodetroit@heartfulness.org
END:VEVENT
BEGIN:VEVENT
DTSTART;TZID=America/New_York:20261206T090000
DTEND;TZID=America/New_York:20261206T100000
DTSTAMP:20260422T092943
CREATED:20251221T034256Z
LAST-MODIFIED:20251221T034256Z
UID:990005564-1796547600-1796551200@www.heartfulnessinstitute.org
SUMMARY:Sunday Group Meditation\, Canton\, MI
DESCRIPTION:Sunday Group Meditation\, at 7380 Burgundy Street\, Canton\, MI 48187
URL:https://www.heartfulnessinstitute.org/event/sunday-group-meditation-canton-mi/2026-12-06/
LOCATION:Canton\, MI\, 7380 Burgundy Street\, Canton\, MI\, 48187\, United States
ORGANIZER;CN="Metro Detroit%2C MI":MAILTO:metrodetroit@heartfulness.org
END:VEVENT
BEGIN:VEVENT
DTSTART;TZID=America/New_York:20261209T190000
DTEND;TZID=America/New_York:20261209T200000
DTSTAMP:20260422T092943
CREATED:20251221T032917Z
LAST-MODIFIED:20251221T032917Z
UID:990005043-1796842800-1796846400@www.heartfulnessinstitute.org
SUMMARY:Wednesday Group Meditation\, Troy\, MI
DESCRIPTION:Wednesday Group Meditation at 3270 West Big Beaver Road\, HTC Building\, 4th Floor\, Troy\, MI 48084
URL:https://www.heartfulnessinstitute.org/event/wednesday-group-meditation-troy-mi/2026-12-09/
LOCATION:HTC Building\, Troy\, 3270 West Big Beaver Road\, HTC Building\, 4th Floor\, Troy\, MI\, 48084\, United States
ORGANIZER;CN="Metro Detroit%2C MI":MAILTO:metrodetroit@heartfulness.org
END:VEVENT
BEGIN:VEVENT
DTSTART;TZID=America/New_York:20261210T190000
DTEND;TZID=America/New_York:20261210T200000
DTSTAMP:20260422T092943
CREATED:20251221T034649Z
LAST-MODIFIED:20251221T034649Z
UID:990005825-1796929200-1796932800@www.heartfulnessinstitute.org
SUMMARY:Thursday Group Meditation\, Farmington Hills\, MI
DESCRIPTION:Thursday Group Meditation at 28745 Hidden Trail\, Farmington Hills\, MI 48331
URL:https://www.heartfulnessinstitute.org/event/thursday-group-meditation-farmington-hills-mi/2026-12-10/
LOCATION:Farmington Hills\, MI\, 28745 Hidden Trail\, Farmington Hills\, MI\, 48331\, United States
ORGANIZER;CN="Metro Detroit%2C MI":MAILTO:metrodetroit@heartfulness.org
END:VEVENT
BEGIN:VEVENT
DTSTART;TZID=America/New_York:20261211T190000
DTEND;TZID=America/New_York:20261211T200000
DTSTAMP:20260422T092943
CREATED:20251221T035033Z
LAST-MODIFIED:20251221T035033Z
UID:990006086-1797015600-1797019200@www.heartfulnessinstitute.org
SUMMARY:Friday Group Meditation\, Ann Arbor\, MI
DESCRIPTION:Friday Group Meditation at Ann Arbor\, MI 4092 East Huron River Service Drive\, Ann Arbor\, MI 48104
URL:https://www.heartfulnessinstitute.org/event/friday-group-meditation-ann-arbor-mi/2026-12-11/
LOCATION:Ann Arbor\, MI\, 4092 East Huron River Service Drive\, Ann Arbor\, MI\, 48104\, United States
ORGANIZER;CN="Metro Detroit%2C MI":MAILTO:metrodetroit@heartfulness.org
END:VEVENT
BEGIN:VEVENT
DTSTART;TZID=America/Los_Angeles:20261212T090000
DTEND;TZID=America/Los_Angeles:20261212T110000
DTSTAMP:20260422T092943
CREATED:20251221T033106Z
LAST-MODIFIED:20251221T033106Z
UID:990005304-1797066000-1797073200@www.heartfulnessinstitute.org
SUMMARY:Satruday 1-1 Meditation\, Troy\, MI
DESCRIPTION:Saturday 1-1 Meditation at 3270 West Big Beaver Road\, HTC Building\, 4th Floor\, Troy\, MI 48084
URL:https://www.heartfulnessinstitute.org/event/satruday-1-1-meditation-troy-mi/2026-12-12/
LOCATION:HTC Building\, Troy\, 3270 West Big Beaver Road\, HTC Building\, 4th Floor\, Troy\, MI\, 48084\, United States
ORGANIZER;CN="Metro Detroit%2C MI":MAILTO:metrodetroit@heartfulness.org
END:VEVENT
BEGIN:VEVENT
DTSTART;TZID=America/New_York:20261213T090000
DTEND;TZID=America/New_York:20261213T100000
DTSTAMP:20260422T092944
CREATED:20251220T033233Z
LAST-MODIFIED:20251220T033233Z
UID:990004783-1797152400-1797156000@www.heartfulnessinstitute.org
SUMMARY:Sunday Group Meditation\, Troy\, MI
DESCRIPTION:Sunday Group Meditation at 3270 West Big Beaver Road\, HTC Building\, 4th Floor\, Troy\, MI 48084
URL:https://www.heartfulnessinstitute.org/event/sunday-group-meditation-troy-mi/2026-12-13/
LOCATION:HTC Building\, Troy\, 3270 West Big Beaver Road\, HTC Building\, 4th Floor\, Troy\, MI\, 48084\, United States
ORGANIZER;CN="Metro Detroit%2C MI":MAILTO:metrodetroit@heartfulness.org
END:VEVENT
BEGIN:VEVENT
DTSTART;TZID=America/New_York:20261213T090000
DTEND;TZID=America/New_York:20261213T100000
DTSTAMP:20260422T092944
CREATED:20251221T034256Z
LAST-MODIFIED:20251221T034256Z
UID:990005565-1797152400-1797156000@www.heartfulnessinstitute.org
SUMMARY:Sunday Group Meditation\, Canton\, MI
DESCRIPTION:Sunday Group Meditation\, at 7380 Burgundy Street\, Canton\, MI 48187
URL:https://www.heartfulnessinstitute.org/event/sunday-group-meditation-canton-mi/2026-12-13/
LOCATION:Canton\, MI\, 7380 Burgundy Street\, Canton\, MI\, 48187\, United States
ORGANIZER;CN="Metro Detroit%2C MI":MAILTO:metrodetroit@heartfulness.org
END:VEVENT
BEGIN:VEVENT
DTSTART;TZID=America/New_York:20261216T190000
DTEND;TZID=America/New_York:20261216T200000
DTSTAMP:20260422T092944
CREATED:20251221T032917Z
LAST-MODIFIED:20251221T032917Z
UID:990005044-1797447600-1797451200@www.heartfulnessinstitute.org
SUMMARY:Wednesday Group Meditation\, Troy\, MI
DESCRIPTION:Wednesday Group Meditation at 3270 West Big Beaver Road\, HTC Building\, 4th Floor\, Troy\, MI 48084
URL:https://www.heartfulnessinstitute.org/event/wednesday-group-meditation-troy-mi/2026-12-16/
LOCATION:HTC Building\, Troy\, 3270 West Big Beaver Road\, HTC Building\, 4th Floor\, Troy\, MI\, 48084\, United States
ORGANIZER;CN="Metro Detroit%2C MI":MAILTO:metrodetroit@heartfulness.org
END:VEVENT
BEGIN:VEVENT
DTSTART;TZID=America/New_York:20261217T190000
DTEND;TZID=America/New_York:20261217T200000
DTSTAMP:20260422T092944
CREATED:20251221T034649Z
LAST-MODIFIED:20251221T034649Z
UID:990005826-1797534000-1797537600@www.heartfulnessinstitute.org
SUMMARY:Thursday Group Meditation\, Farmington Hills\, MI
DESCRIPTION:Thursday Group Meditation at 28745 Hidden Trail\, Farmington Hills\, MI 48331
URL:https://www.heartfulnessinstitute.org/event/thursday-group-meditation-farmington-hills-mi/2026-12-17/
LOCATION:Farmington Hills\, MI\, 28745 Hidden Trail\, Farmington Hills\, MI\, 48331\, United States
ORGANIZER;CN="Metro Detroit%2C MI":MAILTO:metrodetroit@heartfulness.org
END:VEVENT
BEGIN:VEVENT
DTSTART;TZID=America/New_York:20261218T190000
DTEND;TZID=America/New_York:20261218T200000
DTSTAMP:20260422T092944
CREATED:20251221T035033Z
LAST-MODIFIED:20251221T035033Z
UID:990006087-1797620400-1797624000@www.heartfulnessinstitute.org
SUMMARY:Friday Group Meditation\, Ann Arbor\, MI
DESCRIPTION:Friday Group Meditation at Ann Arbor\, MI 4092 East Huron River Service Drive\, Ann Arbor\, MI 48104
URL:https://www.heartfulnessinstitute.org/event/friday-group-meditation-ann-arbor-mi/2026-12-18/
LOCATION:Ann Arbor\, MI\, 4092 East Huron River Service Drive\, Ann Arbor\, MI\, 48104\, United States
ORGANIZER;CN="Metro Detroit%2C MI":MAILTO:metrodetroit@heartfulness.org
END:VEVENT
BEGIN:VEVENT
DTSTART;TZID=America/Los_Angeles:20261219T090000
DTEND;TZID=America/Los_Angeles:20261219T110000
DTSTAMP:20260422T092944
CREATED:20251221T033106Z
LAST-MODIFIED:20251221T033106Z
UID:990005305-1797670800-1797678000@www.heartfulnessinstitute.org
SUMMARY:Satruday 1-1 Meditation\, Troy\, MI
DESCRIPTION:Saturday 1-1 Meditation at 3270 West Big Beaver Road\, HTC Building\, 4th Floor\, Troy\, MI 48084
URL:https://www.heartfulnessinstitute.org/event/satruday-1-1-meditation-troy-mi/2026-12-19/
LOCATION:HTC Building\, Troy\, 3270 West Big Beaver Road\, HTC Building\, 4th Floor\, Troy\, MI\, 48084\, United States
ORGANIZER;CN="Metro Detroit%2C MI":MAILTO:metrodetroit@heartfulness.org
END:VEVENT
BEGIN:VEVENT
DTSTART;TZID=America/New_York:20261220T090000
DTEND;TZID=America/New_York:20261220T100000
DTSTAMP:20260422T092944
CREATED:20251220T033233Z
LAST-MODIFIED:20251220T033233Z
UID:990004784-1797757200-1797760800@www.heartfulnessinstitute.org
SUMMARY:Sunday Group Meditation\, Troy\, MI
DESCRIPTION:Sunday Group Meditation at 3270 West Big Beaver Road\, HTC Building\, 4th Floor\, Troy\, MI 48084
URL:https://www.heartfulnessinstitute.org/event/sunday-group-meditation-troy-mi/2026-12-20/
LOCATION:HTC Building\, Troy\, 3270 West Big Beaver Road\, HTC Building\, 4th Floor\, Troy\, MI\, 48084\, United States
ORGANIZER;CN="Metro Detroit%2C MI":MAILTO:metrodetroit@heartfulness.org
END:VEVENT
BEGIN:VEVENT
DTSTART;TZID=America/New_York:20261220T090000
DTEND;TZID=America/New_York:20261220T100000
DTSTAMP:20260422T092944
CREATED:20251221T034256Z
LAST-MODIFIED:20251221T034256Z
UID:990005566-1797757200-1797760800@www.heartfulnessinstitute.org
SUMMARY:Sunday Group Meditation\, Canton\, MI
DESCRIPTION:Sunday Group Meditation\, at 7380 Burgundy Street\, Canton\, MI 48187
URL:https://www.heartfulnessinstitute.org/event/sunday-group-meditation-canton-mi/2026-12-20/
LOCATION:Canton\, MI\, 7380 Burgundy Street\, Canton\, MI\, 48187\, United States
ORGANIZER;CN="Metro Detroit%2C MI":MAILTO:metrodetroit@heartfulness.org
END:VEVENT
BEGIN:VEVENT
DTSTART;TZID=America/New_York:20261223T190000
DTEND;TZID=America/New_York:20261223T200000
DTSTAMP:20260422T092944
CREATED:20251221T032917Z
LAST-MODIFIED:20251221T032917Z
UID:990005045-1798052400-1798056000@www.heartfulnessinstitute.org
SUMMARY:Wednesday Group Meditation\, Troy\, MI
DESCRIPTION:Wednesday Group Meditation at 3270 West Big Beaver Road\, HTC Building\, 4th Floor\, Troy\, MI 48084
URL:https://www.heartfulnessinstitute.org/event/wednesday-group-meditation-troy-mi/2026-12-23/
LOCATION:HTC Building\, Troy\, 3270 West Big Beaver Road\, HTC Building\, 4th Floor\, Troy\, MI\, 48084\, United States
ORGANIZER;CN="Metro Detroit%2C MI":MAILTO:metrodetroit@heartfulness.org
END:VEVENT
BEGIN:VEVENT
DTSTART;TZID=America/New_York:20261224T190000
DTEND;TZID=America/New_York:20261224T200000
DTSTAMP:20260422T092944
CREATED:20251221T034649Z
LAST-MODIFIED:20251221T034649Z
UID:990005827-1798138800-1798142400@www.heartfulnessinstitute.org
SUMMARY:Thursday Group Meditation\, Farmington Hills\, MI
DESCRIPTION:Thursday Group Meditation at 28745 Hidden Trail\, Farmington Hills\, MI 48331
URL:https://www.heartfulnessinstitute.org/event/thursday-group-meditation-farmington-hills-mi/2026-12-24/
LOCATION:Farmington Hills\, MI\, 28745 Hidden Trail\, Farmington Hills\, MI\, 48331\, United States
ORGANIZER;CN="Metro Detroit%2C MI":MAILTO:metrodetroit@heartfulness.org
END:VEVENT
BEGIN:VEVENT
DTSTART;TZID=America/New_York:20261225T190000
DTEND;TZID=America/New_York:20261225T200000
DTSTAMP:20260422T092944
CREATED:20251221T035033Z
LAST-MODIFIED:20251221T035033Z
UID:990006088-1798225200-1798228800@www.heartfulnessinstitute.org
SUMMARY:Friday Group Meditation\, Ann Arbor\, MI
DESCRIPTION:Friday Group Meditation at Ann Arbor\, MI 4092 East Huron River Service Drive\, Ann Arbor\, MI 48104
URL:https://www.heartfulnessinstitute.org/event/friday-group-meditation-ann-arbor-mi/2026-12-25/
LOCATION:Ann Arbor\, MI\, 4092 East Huron River Service Drive\, Ann Arbor\, MI\, 48104\, United States
ORGANIZER;CN="Metro Detroit%2C MI":MAILTO:metrodetroit@heartfulness.org
END:VEVENT
BEGIN:VEVENT
DTSTART;TZID=America/Los_Angeles:20261226T090000
DTEND;TZID=America/Los_Angeles:20261226T110000
DTSTAMP:20260422T092944
CREATED:20251221T033106Z
LAST-MODIFIED:20251221T033106Z
UID:990005306-1798275600-1798282800@www.heartfulnessinstitute.org
SUMMARY:Satruday 1-1 Meditation\, Troy\, MI
DESCRIPTION:Saturday 1-1 Meditation at 3270 West Big Beaver Road\, HTC Building\, 4th Floor\, Troy\, MI 48084
URL:https://www.heartfulnessinstitute.org/event/satruday-1-1-meditation-troy-mi/2026-12-26/
LOCATION:HTC Building\, Troy\, 3270 West Big Beaver Road\, HTC Building\, 4th Floor\, Troy\, MI\, 48084\, United States
ORGANIZER;CN="Metro Detroit%2C MI":MAILTO:metrodetroit@heartfulness.org
END:VEVENT
BEGIN:VEVENT
DTSTART;TZID=America/New_York:20261227T090000
DTEND;TZID=America/New_York:20261227T100000
DTSTAMP:20260422T092944
CREATED:20251220T033233Z
LAST-MODIFIED:20251220T033233Z
UID:990004785-1798362000-1798365600@www.heartfulnessinstitute.org
SUMMARY:Sunday Group Meditation\, Troy\, MI
DESCRIPTION:Sunday Group Meditation at 3270 West Big Beaver Road\, HTC Building\, 4th Floor\, Troy\, MI 48084
URL:https://www.heartfulnessinstitute.org/event/sunday-group-meditation-troy-mi/2026-12-27/
LOCATION:HTC Building\, Troy\, 3270 West Big Beaver Road\, HTC Building\, 4th Floor\, Troy\, MI\, 48084\, United States
ORGANIZER;CN="Metro Detroit%2C MI":MAILTO:metrodetroit@heartfulness.org
END:VEVENT
BEGIN:VEVENT
DTSTART;TZID=America/New_York:20261227T090000
DTEND;TZID=America/New_York:20261227T100000
DTSTAMP:20260422T092944
CREATED:20251221T034256Z
LAST-MODIFIED:20251221T034256Z
UID:990005567-1798362000-1798365600@www.heartfulnessinstitute.org
SUMMARY:Sunday Group Meditation\, Canton\, MI
DESCRIPTION:Sunday Group Meditation\, at 7380 Burgundy Street\, Canton\, MI 48187
URL:https://www.heartfulnessinstitute.org/event/sunday-group-meditation-canton-mi/2026-12-27/
LOCATION:Canton\, MI\, 7380 Burgundy Street\, Canton\, MI\, 48187\, United States
ORGANIZER;CN="Metro Detroit%2C MI":MAILTO:metrodetroit@heartfulness.org
END:VEVENT
BEGIN:VEVENT
DTSTART;TZID=America/New_York:20261230T190000
DTEND;TZID=America/New_York:20261230T200000
DTSTAMP:20260422T092944
CREATED:20251221T032917Z
LAST-MODIFIED:20251221T032917Z
UID:990005046-1798657200-1798660800@www.heartfulnessinstitute.org
SUMMARY:Wednesday Group Meditation\, Troy\, MI
DESCRIPTION:Wednesday Group Meditation at 3270 West Big Beaver Road\, HTC Building\, 4th Floor\, Troy\, MI 48084
URL:https://www.heartfulnessinstitute.org/event/wednesday-group-meditation-troy-mi/2026-12-30/
LOCATION:HTC Building\, Troy\, 3270 West Big Beaver Road\, HTC Building\, 4th Floor\, Troy\, MI\, 48084\, United States
ORGANIZER;CN="Metro Detroit%2C MI":MAILTO:metrodetroit@heartfulness.org
END:VEVENT
BEGIN:VEVENT
DTSTART;TZID=America/New_York:20261231T190000
DTEND;TZID=America/New_York:20261231T200000
DTSTAMP:20260422T092944
CREATED:20251221T034649Z
LAST-MODIFIED:20251221T034649Z
UID:990005828-1798743600-1798747200@www.heartfulnessinstitute.org
SUMMARY:Thursday Group Meditation\, Farmington Hills\, MI
DESCRIPTION:Thursday Group Meditation at 28745 Hidden Trail\, Farmington Hills\, MI 48331
URL:https://www.heartfulnessinstitute.org/event/thursday-group-meditation-farmington-hills-mi/2026-12-31/
LOCATION:Farmington Hills\, MI\, 28745 Hidden Trail\, Farmington Hills\, MI\, 48331\, United States
ORGANIZER;CN="Metro Detroit%2C MI":MAILTO:metrodetroit@heartfulness.org
END:VEVENT
BEGIN:VEVENT
DTSTART;TZID=America/New_York:20270101T190000
DTEND;TZID=America/New_York:20270101T200000
DTSTAMP:20260422T092944
CREATED:20251221T035033Z
LAST-MODIFIED:20251221T035033Z
UID:990006089-1798830000-1798833600@www.heartfulnessinstitute.org
SUMMARY:Friday Group Meditation\, Ann Arbor\, MI
DESCRIPTION:Friday Group Meditation at Ann Arbor\, MI 4092 East Huron River Service Drive\, Ann Arbor\, MI 48104
URL:https://www.heartfulnessinstitute.org/event/friday-group-meditation-ann-arbor-mi/2027-01-01/
LOCATION:Ann Arbor\, MI\, 4092 East Huron River Service Drive\, Ann Arbor\, MI\, 48104\, United States
ORGANIZER;CN="Metro Detroit%2C MI":MAILTO:metrodetroit@heartfulness.org
END:VEVENT
BEGIN:VEVENT
DTSTART;TZID=America/Los_Angeles:20270102T090000
DTEND;TZID=America/Los_Angeles:20270102T110000
DTSTAMP:20260422T092944
CREATED:20251221T033106Z
LAST-MODIFIED:20251221T033106Z
UID:990005307-1798880400-1798887600@www.heartfulnessinstitute.org
SUMMARY:Satruday 1-1 Meditation\, Troy\, MI
DESCRIPTION:Saturday 1-1 Meditation at 3270 West Big Beaver Road\, HTC Building\, 4th Floor\, Troy\, MI 48084
URL:https://www.heartfulnessinstitute.org/event/satruday-1-1-meditation-troy-mi/2027-01-02/
LOCATION:HTC Building\, Troy\, 3270 West Big Beaver Road\, HTC Building\, 4th Floor\, Troy\, MI\, 48084\, United States
ORGANIZER;CN="Metro Detroit%2C MI":MAILTO:metrodetroit@heartfulness.org
END:VEVENT
END:VCALENDAR