BEGIN:VCALENDAR
VERSION:2.0
PRODID:-//Heartfulness Institute - ECPv6.15.1.1//NONSGML v1.0//EN
CALSCALE:GREGORIAN
METHOD:PUBLISH
X-WR-CALNAME:Heartfulness Institute
X-ORIGINAL-URL:https://www.heartfulnessinstitute.org
X-WR-CALDESC:Events for Heartfulness Institute
REFRESH-INTERVAL;VALUE=DURATION:PT1H
X-Robots-Tag:noindex
X-PUBLISHED-TTL:PT1H
BEGIN:VTIMEZONE
TZID:America/New_York
BEGIN:DAYLIGHT
TZOFFSETFROM:-0500
TZOFFSETTO:-0400
TZNAME:EDT
DTSTART:20260308T070000
END:DAYLIGHT
BEGIN:STANDARD
TZOFFSETFROM:-0400
TZOFFSETTO:-0500
TZNAME:EST
DTSTART:20261101T060000
END:STANDARD
END:VTIMEZONE
BEGIN:VTIMEZONE
TZID:America/Chicago
BEGIN:DAYLIGHT
TZOFFSETFROM:-0600
TZOFFSETTO:-0500
TZNAME:CDT
DTSTART:20260308T080000
END:DAYLIGHT
BEGIN:STANDARD
TZOFFSETFROM:-0500
TZOFFSETTO:-0600
TZNAME:CST
DTSTART:20261101T070000
END:STANDARD
END:VTIMEZONE
BEGIN:VEVENT
DTSTART;TZID=America/New_York:20260913T090000
DTEND;TZID=America/New_York:20260913T100000
DTSTAMP:20260421T194240
CREATED:20251022T024303Z
LAST-MODIFIED:20251022T024330Z
UID:990002419-1789290000-1789293600@www.heartfulnessinstitute.org
SUMMARY:Sunday Group Meditation - Monroe\, NJ
DESCRIPTION:Weekly Sunday group meditation event at Monroe\, NJ. \nAgenda \n\nGroup Meditation\nReading
URL:https://www.heartfulnessinstitute.org/event/sun-group-meditation-monroe-nj/2026-09-13/
LOCATION:Monroe Heartfulness Meditation Centre\, 48 Halsey Reed Rd\, Monroe Township\, NJ\, 08831\, United States
ORGANIZER;CN="Monroe%2C NJ":MAILTO:monroe@heartfulness.org
END:VEVENT
BEGIN:VEVENT
DTSTART;TZID=America/New_York:20260913T090000
DTEND;TZID=America/New_York:20260913T100000
DTSTAMP:20260421T194240
CREATED:20251220T033233Z
LAST-MODIFIED:20251220T033233Z
UID:990004770-1789290000-1789293600@www.heartfulnessinstitute.org
SUMMARY:Sunday Group Meditation\, Troy\, MI
DESCRIPTION:Sunday Group Meditation at 3270 West Big Beaver Road\, HTC Building\, 4th Floor\, Troy\, MI 48084
URL:https://www.heartfulnessinstitute.org/event/sunday-group-meditation-troy-mi/2026-09-13/
LOCATION:HTC Building\, Troy\, 3270 West Big Beaver Road\, HTC Building\, 4th Floor\, Troy\, MI\, 48084\, United States
ORGANIZER;CN="Metro Detroit%2C MI":MAILTO:metrodetroit@heartfulness.org
END:VEVENT
BEGIN:VEVENT
DTSTART;TZID=America/New_York:20260913T090000
DTEND;TZID=America/New_York:20260913T100000
DTSTAMP:20260421T194240
CREATED:20251221T034256Z
LAST-MODIFIED:20251221T034256Z
UID:990005552-1789290000-1789293600@www.heartfulnessinstitute.org
SUMMARY:Sunday Group Meditation\, Canton\, MI
DESCRIPTION:Sunday Group Meditation\, at 7380 Burgundy Street\, Canton\, MI 48187
URL:https://www.heartfulnessinstitute.org/event/sunday-group-meditation-canton-mi/2026-09-13/
LOCATION:Canton\, MI\, 7380 Burgundy Street\, Canton\, MI\, 48187\, United States
ORGANIZER;CN="Metro Detroit%2C MI":MAILTO:metrodetroit@heartfulness.org
END:VEVENT
BEGIN:VEVENT
DTSTART;TZID=America/New_York:20260913T090000
DTEND;TZID=America/New_York:20260913T100000
DTSTAMP:20260421T194240
CREATED:20260106T011449Z
LAST-MODIFIED:20260106T011450Z
UID:990003725-1789290000-1789293600@www.heartfulnessinstitute.org
SUMMARY:Sunday Group Meditation - Jacksonville\, FL
DESCRIPTION:Connect with certified trainers in Jacksonville for heart-centered meditation. Feel calm and reduce stress naturally. \nPlease contact Jacksonville.fl@heartfulness.org for details.
URL:https://www.heartfulnessinstitute.org/event/sunday-group-meditation-jacksonville-fl-2/2026-09-13/
LOCATION:Touchton Road\, Jacksonville\, Touchton Road\, Jacksonville\, 32216\, United States
ORGANIZER;CN="Jacksonville%2C FL":MAILTO:Jacksonville.FL@heartfulness.org
END:VEVENT
BEGIN:VEVENT
DTSTART;TZID=America/New_York:20260913T090000
DTEND;TZID=America/New_York:20260913T233000
DTSTAMP:20260421T194240
CREATED:20251114T012913Z
LAST-MODIFIED:20251114T012913Z
UID:990002679-1789290000-1789342200@www.heartfulnessinstitute.org
SUMMARY:Sunday Group Meditation - Richmond\, VA
DESCRIPTION:Weekly Sunday group meditation event at Richmond\, VA. \nAgenda \n\nGroup Meditation\nReading\nLight Breakfast\nSwadhyay
URL:https://www.heartfulnessinstitute.org/event/sunday-group-meditation-richmond-va/2026-09-13/
LOCATION:Richmond Meditation Center\, 2230 E Parham Road\, Richmond\, VA\, 23233\, United States
ORGANIZER;CN="Richmond%2C VA":MAILTO:richmond.va@heartfulness.org
END:VEVENT
BEGIN:VEVENT
DTSTART;TZID=America/New_York:20260913T100000
DTEND;TZID=America/New_York:20260913T110000
DTSTAMP:20260421T194240
CREATED:20250916T034946Z
LAST-MODIFIED:20250916T035140Z
UID:990000848-1789293600-1789297200@www.heartfulnessinstitute.org
SUMMARY:Weekly Group Meditation - NYC
DESCRIPTION:Weekly Sunday group meditation event at NYC. \nAgenda \n\nGroup Meditation\nReading
URL:https://www.heartfulnessinstitute.org/event/weekly-group-meditation-nyc/2026-09-13/
LOCATION:Balance Arts Center\, 151 W 30th St 3rd floor\, New York\, NY\, 10001\, United States
ORGANIZER;CN="New York City%2C NY":MAILTO:nyc@heartfulness.org
END:VEVENT
BEGIN:VEVENT
DTSTART;TZID=America/Chicago:20260913T110000
DTEND;TZID=America/Chicago:20260913T123000
DTSTAMP:20260421T194240
CREATED:20251219T192408Z
LAST-MODIFIED:20251219T192408Z
UID:990004247-1789297200-1789302600@www.heartfulnessinstitute.org
SUMMARY:Sunday Group Meditation - San Antonio\, TX
DESCRIPTION:
URL:https://www.heartfulnessinstitute.org/event/sunday-group-meditation-san-antonio-tx/2026-09-13/
LOCATION:Parman Branch Library at Stone Oak\, 20735 Wilderness Oak\, San Antonio\, TX\, 78258\, United States
ATTACH;FMTTYPE=image/jpeg:https://www.heartfulnessinstitute.org/wp-content/uploads/2025/12/Sunday-San-Antonio-Meditation.jpeg
ORGANIZER;CN="San Antonio%2C TX":MAILTO:sanantonio.tx@heartfulness.org
END:VEVENT
END:VCALENDAR