BEGIN:VCALENDAR
VERSION:2.0
PRODID:-//Heartfulness Institute - ECPv6.15.1.1//NONSGML v1.0//EN
CALSCALE:GREGORIAN
METHOD:PUBLISH
X-ORIGINAL-URL:https://www.heartfulnessinstitute.org
X-WR-CALDESC:Events for Heartfulness Institute
REFRESH-INTERVAL;VALUE=DURATION:PT1H
X-Robots-Tag:noindex
X-PUBLISHED-TTL:PT1H
BEGIN:VTIMEZONE
TZID:America/New_York
BEGIN:DAYLIGHT
TZOFFSETFROM:-0500
TZOFFSETTO:-0400
TZNAME:EDT
DTSTART:20260308T070000
END:DAYLIGHT
BEGIN:STANDARD
TZOFFSETFROM:-0400
TZOFFSETTO:-0500
TZNAME:EST
DTSTART:20261101T060000
END:STANDARD
END:VTIMEZONE
BEGIN:VTIMEZONE
TZID:America/Chicago
BEGIN:DAYLIGHT
TZOFFSETFROM:-0600
TZOFFSETTO:-0500
TZNAME:CDT
DTSTART:20260308T080000
END:DAYLIGHT
BEGIN:STANDARD
TZOFFSETFROM:-0500
TZOFFSETTO:-0600
TZNAME:CST
DTSTART:20261101T070000
END:STANDARD
END:VTIMEZONE
BEGIN:VEVENT
DTSTART;TZID=America/New_York:20260308T103000
DTEND;TZID=America/New_York:20260712T120000
DTSTAMP:20260421T092844
CREATED:20260203T022333Z
LAST-MODIFIED:20260214T042545Z
UID:990006587-1772965800-1783857600@www.heartfulnessinstitute.org
SUMMARY:HOPE\, Atlanta\, GA 2026 Batch 2
DESCRIPTION:Heartfulness Odyssey for Personal Excellence\nHOPE – USA\, is an unique spiritual development program specially designed for North American seekers with curated themes and curriculum based on Sahaj Marg philosophy and practices. The program has a unique learning framework supported by customized workbook to have a methodical\, experiential and practical approach to deepen Heartfulness spiritual practice using adult learning principles. \nHOPE is an ongoing educational program designed for both new and seasoned spiritual aspirants. The course materials alone cost the organization nearly $75\, including shipping from the Indian Mission. \nTherefore\, the full 13-chapter series is priced at $100. \nHowever\, in the Heartfulness Mission\, we always ensure that financial constraints never become a barrier. If it creates any hardship\, please feel free to use a coupon code. Your presence is what matters most. \n\n\n\nCoupon Code\nDiscount (%)\n\n\n\n\nHEART10\n10%\n\n\nHEART20\n20%\n\n\nHEART30\n30%\n\n\nHEART40\n40%\n\n\nHEART50\n50%\n\n\n\n  \nPlease contact Girish Kulkarni at girish.kulkarni@heartfulness.org for any questions.
URL:https://www.heartfulnessinstitute.org/event/hope-atlanta-ga-2026-batch-2/
LOCATION:Duluth High school Media Center\, 500 Brock Rd NW\, Duluth\, GA\, 30096\, United States
ATTACH;FMTTYPE=image/png:https://www.heartfulnessinstitute.org/wp-content/uploads/2025/08/HOPE_Logo_Daaji-Blue-1.png
GEO:34.0088498638;-84.1439846136
X-APPLE-STRUCTURED-LOCATION;VALUE=URI;X-ADDRESS=Duluth High school Media Center 500 Brock Rd NW Duluth GA 30096 United States;X-APPLE-RADIUS=500;X-TITLE=500 Brock Rd NW:geo:-84.1439846136,34.0088498638
END:VEVENT
BEGIN:VEVENT
DTSTART;TZID=America/New_York:20260613T080000
DTEND;TZID=America/New_York:20260614T120000
DTSTAMP:20260421T092844
CREATED:20260314T182854Z
LAST-MODIFIED:20260421T051549Z
UID:990006596-1781337600-1781438400@www.heartfulnessinstitute.org
SUMMARY:Heartful Schools National Conference 2026
DESCRIPTION:Joyful Connections through Heartful Schools\nWeaving Heartfulness\, compassion\, and connection in education\nJoin educators and changemakers\nfrom across the country for a transformational two-day experience. \nAttending the conference?\nRegister for the Conference\nSecure your spot for this in-person event \nPresenting at the conference?\nSubmit a Proposal\nShare your work and inspire fellow educators \nProgram Schedule\n\n \n\nSaturday\, June 13\, 2026\n\n\n8:00 am\nBreakfast and Registration – Meet and Greet\n\n\n8:30 am\nWelcome activity: HEART Prism by Ranjani Iyer\n\n\n9:00 am\nEXPERIENCING HEARTFUL TOOLS AND HOW THEY SUPPORT SCHOOL CULTURE by Yumeris Morel\n\n\n9:45–10:00 am\nBreak/Networking\n\n\n10:00–11:00 am\nMASTERING EMOTIONS FOR A JOYFUL LIFE by Sangeeta Bansal\n\n\n11:00 am–12:00 pm\nNEUROSCIENCE AND WELLNESS: RETHINKING EDUCATION AND STRENGTHENING SCHOOL COMMUNITIES by Rama Devagupta\n\n\n12:00–1:00 pm\nLunch\n\n\n1:00 pm\nFROM COMPLIANCE TO CONNECTION: HOW COMMUNITY-CENTERED SCHOOLS BECOME SUSTAINED LEARNING ENVIRONMENTS by Margina\n\n\n2:00–2:15 pm\nBreak/Networking\n\n\n2:15 pm\nBRIDGING MINDS AND HEARTS: INNOVATIVE SUPPORT FOR NEURODIVERGENT STUDENTS by Amy Stirling\n\n\n3:15 pm\nFINDING YOUR PEACE: PAUSE\, BREATHE\, AND CONNECT by Ritu Gandhi\n\n\n4:15–4:30 pm\nBreak/Networking/Tea and Snacks\n\n\n4:30 pm\nHEARTFULNESS IN ACTION: VOICES AND IMPACT FROM SCHOOLS AND CLASSROOMS\n\n\n6:00 pm\nDinner followed by Nature Walk\n\n \n\nSunday\, June 14\, 2026\n\n\n7:30 am\nBreakfast\n\n\n8:00 am\nHEARTFUL LEADERSHIP: BUILDING AN EMPATHETIC AND CONSCIOUS COMMUNITY by Balaji Iyer\n\n\n9:00 am\nGuided Relaxation and Meditation\n\n\n10:00–10:15 am\nBreak\n\n\n10:15 am\nTHE SCIENCE OF HEARTFULNESS: EVIDENCE\, INSIGHTS\, AND IMPACT by Dr. Jayaram Thimmapuram\n\n\n11:15 am\nTHE HEARTFUL EXPERIENCE LAB: TOOLS\, CONNECTION\, AND CREATIVITY by Emma Ivaturi/Linda Didsbury\n\n\n12:00 pm\nConcluding Remarks followed by Lunch
URL:https://www.heartfulnessinstitute.org/event/heartful-schools-national-conference-2026/
LOCATION:45 Wycoff Mills Rd\, Monroe Township\, NJ\, 08831\, United States
ATTACH;FMTTYPE=image/jpeg:https://www.heartfulnessinstitute.org/wp-content/uploads/2026/03/HFN4School.jpeg
END:VEVENT
BEGIN:VEVENT
DTSTART;TZID=America/New_York:20260614T090000
DTEND;TZID=America/New_York:20260614T100000
DTSTAMP:20260421T092844
CREATED:20251022T024303Z
LAST-MODIFIED:20251022T024330Z
UID:990002406-1781427600-1781431200@www.heartfulnessinstitute.org
SUMMARY:Sunday Group Meditation - Monroe\, NJ
DESCRIPTION:Weekly Sunday group meditation event at Monroe\, NJ. \nAgenda \n\nGroup Meditation\nReading
URL:https://www.heartfulnessinstitute.org/event/sun-group-meditation-monroe-nj/2026-06-14/
LOCATION:Monroe Heartfulness Meditation Centre\, 48 Halsey Reed Rd\, Monroe Township\, NJ\, 08831\, United States
ORGANIZER;CN="Monroe%2C NJ":MAILTO:monroe@heartfulness.org
END:VEVENT
BEGIN:VEVENT
DTSTART;TZID=America/New_York:20260614T090000
DTEND;TZID=America/New_York:20260614T100000
DTSTAMP:20260421T092844
CREATED:20251220T033233Z
LAST-MODIFIED:20251220T033233Z
UID:990004757-1781427600-1781431200@www.heartfulnessinstitute.org
SUMMARY:Sunday Group Meditation\, Troy\, MI
DESCRIPTION:Sunday Group Meditation at 3270 West Big Beaver Road\, HTC Building\, 4th Floor\, Troy\, MI 48084
URL:https://www.heartfulnessinstitute.org/event/sunday-group-meditation-troy-mi/2026-06-14/
LOCATION:HTC Building\, Troy\, 3270 West Big Beaver Road\, HTC Building\, 4th Floor\, Troy\, MI\, 48084\, United States
ORGANIZER;CN="Metro Detroit%2C MI":MAILTO:metrodetroit@heartfulness.org
END:VEVENT
BEGIN:VEVENT
DTSTART;TZID=America/New_York:20260614T090000
DTEND;TZID=America/New_York:20260614T100000
DTSTAMP:20260421T092844
CREATED:20251221T034256Z
LAST-MODIFIED:20251221T034256Z
UID:990005539-1781427600-1781431200@www.heartfulnessinstitute.org
SUMMARY:Sunday Group Meditation\, Canton\, MI
DESCRIPTION:Sunday Group Meditation\, at 7380 Burgundy Street\, Canton\, MI 48187
URL:https://www.heartfulnessinstitute.org/event/sunday-group-meditation-canton-mi/2026-06-14/
LOCATION:Canton\, MI\, 7380 Burgundy Street\, Canton\, MI\, 48187\, United States
ORGANIZER;CN="Metro Detroit%2C MI":MAILTO:metrodetroit@heartfulness.org
END:VEVENT
BEGIN:VEVENT
DTSTART;TZID=America/New_York:20260614T090000
DTEND;TZID=America/New_York:20260614T100000
DTSTAMP:20260421T092844
CREATED:20260106T011449Z
LAST-MODIFIED:20260106T011450Z
UID:990003712-1781427600-1781431200@www.heartfulnessinstitute.org
SUMMARY:Sunday Group Meditation - Jacksonville\, FL
DESCRIPTION:Connect with certified trainers in Jacksonville for heart-centered meditation. Feel calm and reduce stress naturally. \nPlease contact Jacksonville.fl@heartfulness.org for details.
URL:https://www.heartfulnessinstitute.org/event/sunday-group-meditation-jacksonville-fl-2/2026-06-14/
LOCATION:Touchton Road\, Jacksonville\, Touchton Road\, Jacksonville\, 32216\, United States
ORGANIZER;CN="Jacksonville%2C FL":MAILTO:Jacksonville.FL@heartfulness.org
END:VEVENT
BEGIN:VEVENT
DTSTART;TZID=America/New_York:20260614T090000
DTEND;TZID=America/New_York:20260614T233000
DTSTAMP:20260421T092844
CREATED:20251114T012913Z
LAST-MODIFIED:20251114T012913Z
UID:990002666-1781427600-1781479800@www.heartfulnessinstitute.org
SUMMARY:Sunday Group Meditation - Richmond\, VA
DESCRIPTION:Weekly Sunday group meditation event at Richmond\, VA. \nAgenda \n\nGroup Meditation\nReading\nLight Breakfast\nSwadhyay
URL:https://www.heartfulnessinstitute.org/event/sunday-group-meditation-richmond-va/2026-06-14/
LOCATION:Richmond Meditation Center\, 2230 E Parham Road\, Richmond\, VA\, 23233\, United States
ORGANIZER;CN="Richmond%2C VA":MAILTO:richmond.va@heartfulness.org
END:VEVENT
BEGIN:VEVENT
DTSTART;TZID=America/New_York:20260614T100000
DTEND;TZID=America/New_York:20260614T110000
DTSTAMP:20260421T092844
CREATED:20250916T034946Z
LAST-MODIFIED:20250916T035140Z
UID:990000835-1781431200-1781434800@www.heartfulnessinstitute.org
SUMMARY:Weekly Group Meditation - NYC
DESCRIPTION:Weekly Sunday group meditation event at NYC. \nAgenda \n\nGroup Meditation\nReading
URL:https://www.heartfulnessinstitute.org/event/weekly-group-meditation-nyc/2026-06-14/
LOCATION:Balance Arts Center\, 151 W 30th St 3rd floor\, New York\, NY\, 10001\, United States
ORGANIZER;CN="New York City%2C NY":MAILTO:nyc@heartfulness.org
END:VEVENT
BEGIN:VEVENT
DTSTART;TZID=America/Chicago:20260614T110000
DTEND;TZID=America/Chicago:20260614T123000
DTSTAMP:20260421T092844
CREATED:20251219T192408Z
LAST-MODIFIED:20251219T192408Z
UID:990004234-1781434800-1781440200@www.heartfulnessinstitute.org
SUMMARY:Sunday Group Meditation - San Antonio\, TX
DESCRIPTION:
URL:https://www.heartfulnessinstitute.org/event/sunday-group-meditation-san-antonio-tx/2026-06-14/
LOCATION:Parman Branch Library at Stone Oak\, 20735 Wilderness Oak\, San Antonio\, TX\, 78258\, United States
ATTACH;FMTTYPE=image/jpeg:https://www.heartfulnessinstitute.org/wp-content/uploads/2025/12/Sunday-San-Antonio-Meditation.jpeg
ORGANIZER;CN="San Antonio%2C TX":MAILTO:sanantonio.tx@heartfulness.org
END:VEVENT
END:VCALENDAR