BEGIN:VCALENDAR
VERSION:2.0
PRODID:-//Heartfulness Institute - ECPv6.15.1.1//NONSGML v1.0//EN
CALSCALE:GREGORIAN
METHOD:PUBLISH
X-ORIGINAL-URL:https://www.heartfulnessinstitute.org
X-WR-CALDESC:Events for Heartfulness Institute
REFRESH-INTERVAL;VALUE=DURATION:PT1H
X-Robots-Tag:noindex
X-PUBLISHED-TTL:PT1H
BEGIN:VTIMEZONE
TZID:America/Los_Angeles
BEGIN:DAYLIGHT
TZOFFSETFROM:-0800
TZOFFSETTO:-0700
TZNAME:PDT
DTSTART:20250309T100000
END:DAYLIGHT
BEGIN:STANDARD
TZOFFSETFROM:-0700
TZOFFSETTO:-0800
TZNAME:PST
DTSTART:20251102T090000
END:STANDARD
BEGIN:DAYLIGHT
TZOFFSETFROM:-0800
TZOFFSETTO:-0700
TZNAME:PDT
DTSTART:20260308T100000
END:DAYLIGHT
BEGIN:STANDARD
TZOFFSETFROM:-0700
TZOFFSETTO:-0800
TZNAME:PST
DTSTART:20261101T090000
END:STANDARD
END:VTIMEZONE
BEGIN:VTIMEZONE
TZID:America/New_York
BEGIN:DAYLIGHT
TZOFFSETFROM:-0500
TZOFFSETTO:-0400
TZNAME:EDT
DTSTART:20260308T070000
END:DAYLIGHT
BEGIN:STANDARD
TZOFFSETFROM:-0400
TZOFFSETTO:-0500
TZNAME:EST
DTSTART:20261101T060000
END:STANDARD
END:VTIMEZONE
BEGIN:VTIMEZONE
TZID:America/Chicago
BEGIN:DAYLIGHT
TZOFFSETFROM:-0600
TZOFFSETTO:-0500
TZNAME:CDT
DTSTART:20260308T080000
END:DAYLIGHT
BEGIN:STANDARD
TZOFFSETFROM:-0500
TZOFFSETTO:-0600
TZNAME:CST
DTSTART:20261101T070000
END:STANDARD
END:VTIMEZONE
BEGIN:VEVENT
DTSTART;TZID=America/Los_Angeles:20251214T103000
DTEND;TZID=America/Los_Angeles:20260308T003000
DTSTAMP:20260420T065630
CREATED:20251121T004016Z
LAST-MODIFIED:20251206T190739Z
UID:990003420-1765708200-1772929800@www.heartfulnessinstitute.org
SUMMARY:HOPE\, Fremont\, CA 2025
DESCRIPTION:Heartfulness Odyssey for Personal Excellence\nHOPE – USA\, is an unique spiritual development program specially designed for North American seekers with curated themes and curriculum based on Sahaj Marg philosophy and practices. The program has a unique learning framework supported by customized workbook to have a methodical\, experiential and practical approach to deepen Heartfulness spiritual practice using adult learning principles. \nProgram Schedule\n\n\n\nDate\nDay of the Week\n\n\n\n\nDecember 14\, 2025\nSunday\n\n\nDecember 21\, 2025\nSunday\n\n\nJanuary 4\, 2026\nSunday\n\n\nJanuary 11\, 2026\nSunday\n\n\nBreak for Bhandara\n\n\nFebruary 8\, 2026\nSunday\n\n\nFebruary 15\, 2026\nSunday\n\n\nFebruary 22\, 2026\nSunday\n\n\nMarch 1\, 2026\nSunday\n\n\nMarch 8\, 2026\nSunday\n\n\n\n  \nHOPE is an ongoing educational program designed for both new and seasoned spiritual aspirants. The course materials alone cost the organization nearly $75\, including shipping from the Indian Mission. \nTherefore\, the full 13-chapter series is priced at $100. \nHowever\, in the Heartfulness Mission\, we always ensure that financial constraints never become a barrier. If someone cannot afford the full amount\, they are welcome to contribute whatever they can. \nA coupon has been added to the registration page for this purpose. Simply select the coupon during registration and contribute the amount you are able to. Thank you for your understanding and support. \nLet us learn\, grow\, and shine as beacons of light with HOPE. if you need higher discount\, please contact Girish Kulkarni at girish.kulkarni@heartfulness.org. \n\n\n\nCoupon Code\nDiscount (%)\n\n\n\n\nHEART10\n10%\n\n\nHEART20\n20%\n\n\nHEART30\n30%\n\n\nHEART40\n40%\n\n\nHEART50\n50%\n\n\n\n  \nPlease reach out to Girish Kulkarni at girish.kulkarni@heartfulness.org or Shashi Sadhu at Shashisadhu@gmail.com for any questions or suggestions.
URL:https://www.heartfulnessinstitute.org/event/hope-fremont-ca-2025/
LOCATION:Fremont Heartfulness Meditation Centre\, 585 Mowry Ave\, Fremont\, CA\, 94536\, United States
ATTACH;FMTTYPE=image/png:https://www.heartfulnessinstitute.org/wp-content/uploads/2025/08/HOPE_Logo_Daaji-Blue-1.png
END:VEVENT
BEGIN:VEVENT
DTSTART;TZID=America/New_York:20260118T110000
DTEND;TZID=America/New_York:20260405T130000
DTSTAMP:20260420T065630
CREATED:20260109T012454Z
LAST-MODIFIED:20260114T020327Z
UID:990006570-1768734000-1775394000@www.heartfulnessinstitute.org
SUMMARY:HOPE\, Richmond\, VA 2026
DESCRIPTION:Heartfulness Odyssey for Personal Excellence\nHOPE – USA\, is an unique spiritual development program specially designed for North American seekers with curated themes and curriculum based on Sahaj Marg philosophy and practices. The program has a unique learning framework supported by customized workbook to have a methodical\, experiential and practical approach to deepen Heartfulness spiritual practice using adult learning principles. \nHOPE is an ongoing educational program designed for both new and seasoned spiritual aspirants. The course materials alone cost the organization nearly $75\, including shipping from the Indian Mission. \nTherefore\, the full 13-chapter series is priced at $100. \nHowever\, in the Heartfulness Mission\, we always ensure that financial constraints never become a barrier. If it creates any hardship\, please feel free to use a coupon code. Your presence is what matters most. \n\n\n\nCoupon Code\nDiscount (%)\n\n\n\n\nHEART10\n10%\n\n\nHEART20\n20%\n\n\nHEART30\n30%\n\n\nHEART40\n40%\n\n\nHEART50\n50%\n\n\n\n  \nPlease contact Girish Kulkarni at girish.kulkarni@heartfulness.org for any questions.
URL:https://www.heartfulnessinstitute.org/event/hope-richmond-va-2026/
LOCATION:Richmond Meditation Center\, 2230 E Parham Road\, Richmond\, VA\, 23233\, United States
ATTACH;FMTTYPE=image/png:https://www.heartfulnessinstitute.org/wp-content/uploads/2025/08/HOPE_Logo_Daaji-Blue-1.png
ORGANIZER;CN="Richmond%2C VA":MAILTO:richmond.va@heartfulness.org
END:VEVENT
BEGIN:VEVENT
DTSTART;TZID=America/New_York:20260130T083000
DTEND;TZID=America/New_York:20260201T140000
DTSTAMP:20260420T065630
CREATED:20260117T193907Z
LAST-MODIFIED:20260118T023250Z
UID:990006576-1769761800-1769954400@www.heartfulnessinstitute.org
SUMMARY:Lalaji's Birth Anniversary\, Richmond\, VA 2026
DESCRIPTION:Program Schedule\n\n\n\nTime\nActivity\n\n\n \n\nFriday\, January 30th\n\n\n5:30 pm\nArrival & Registration\n\n\n6:00 pm\nIndividual Sittings\n\n\n7:00 pm\nGroup Meditation\n\n\n8:00 pm\nDinner\n\n\n9:00 pm\nUniversal Prayer\n\n\n9:15 pm\nCleanup and Disperse\n\n \n\nSaturday\, January 31st\n\n\n8:30 am\nArrival\n\n\n9:00 am\nGroup Meditation\n\n\n10:00 am\nBreakfast\n\n\n10:30 am\nProgram: Principles of Communication\n\n\n12:00 pm\nGroup Meditation\n\n\n1:00 pm\nLunch\n\n\n2:00 pm\nProgram: Principles of Communication\n\n\n4:30 pm\nTea Break\n\n\n5:00 pm\nContemplation and Reading\n\n\n7:00 pm\nGroup Meditation\n\n\n8:00 pm\nDinner\n\n\n9:00 pm\nUniversal Prayer\n\n \n\nSunday\, February 1st\n\n\n8:30 am\nArrival\n\n\n9:00 am\nGroup Meditation\n\n\n10:00 am\nBreakfast\n\n\n10:30 am\nProgram: Daaji’s Message\n\n\n12:00 pm\nGroup Meditation\n\n\n1:00 pm\nLunch\n\n\n2:00 pm\nCleanup\, Thank You\, and Disperse\n\n\n\nIf you have any questions or suggestions\, please feel free to reach out to one of the event coordinators: \n\n\n\nName\nEmail\n\n\n\n\nMaitreya Bhatt\nmaitreya.b@volunteer.heartfulness.org\n\n\nVenkat Mallela\nvenkat.mallela@gmail.com\n\n\n\nYour donation helps cover the cost of this event and supports future offerings. If it creates any hardship\, please feel free to use a coupon code. Your presence is what matters most. \n\n\n\nCoupon Code\nDiscount (%)\n\n\n\n\nHEART10\n10%\n\n\nHEART20\n20%\n\n\nHEART30\n30%\n\n\nHEART40\n40%\n\n\nHEART50\n50%\n\n\nHEART60\n60%\n\n\nHEART70\n70%\n\n\nHEART80\n80%\n\n\nHEART90\n90%\n\n\nHEART100\n100%
URL:https://www.heartfulnessinstitute.org/event/lalajis-birth-anniversary-richmond-va-2026/
LOCATION:Richmond Meditation Center\, 2230 E Parham Road\, Richmond\, VA\, 23233\, United States
ORGANIZER;CN="Richmond%2C VA":MAILTO:richmond.va@heartfulness.org
END:VEVENT
BEGIN:VEVENT
DTSTART;TZID=America/New_York:20260130T170000
DTEND;TZID=America/New_York:20260201T130000
DTSTAMP:20260420T065630
CREATED:20260108T021317Z
LAST-MODIFIED:20260109T011020Z
UID:990006568-1769792400-1769950800@www.heartfulnessinstitute.org
SUMMARY:Lalaji's Birth Anniversary\, Monroe\, NJ 2026
DESCRIPTION:Program Schedule\n\n\n\nTime\nActivity\n\n\n \n\nJanuary 30th 2026\, Friday\n\n\n5:00 pm – 5:45 pm\nArrival & Registration\n\n\n6:00 pm – 7:00 pm\nGroup Meditation\n\n\n7:00 pm – 8:00 pm\nDinner\n\n\n8:00 pm\nCleanup and Disperse\n\n \n\nJanuary 31st 2026\, Saturday\n\n\n9:00 am – 10:00 am\nGroup Meditation\n\n\n10:00 am – 10:30 am\nBreakfast\n\n\n10:30 am – 12:00 pm\nMasters’ Talks / Individual Sittings\n\n\n12:00 pm – 1:00 pm\nGroup Meditation\n\n\n1:00 pm – 2:00 pm\nLunch\n\n\n2:00 pm – 4:00 pm\nMaster’s Bhandara Message / Individual Sittings\n\n\n4:00 pm – 4:45 pm\nTea and Snacks Break\n\n\n5:00 pm – 6:00 pm\nGroup Meditation\n\n\n6:00 pm – 7:00 pm\nDinner\n\n\n7:00 pm\nCleanup and Disperse\n\n \n\nFebruary 1st 2026\, Sunday\n\n\n9:00 am – 10:00 am\nGroup Meditation\n\n\n10:00 am – 10:30 am\nBreakfast\n\n\n10:30 am – 11:00 am\nMaster’s Talk\n\n\n11:00 am – 12:00 pm\nGroup Meditation\n\n\n12:00 pm – 1:00 pm\nLunch\n\n\n1:00 pm\nCleanup and Disperse\n\n\n\nIf you have any questions or suggestions\, please feel free to reach out to one of the event coordinators: \n\n\n\nName\nEmail\n\n\n\n\nSatyajeet Shinde\nsatyajeet.shinde@heartfulvolunteer.org\n\n\nRoma Tandon\nroma.t@heartfulvolunteer.org\n\n\nPuneet Sahota\npuneet.sahota@volunteer.heartfulness.org\n\n\n\nYour donation helps cover the cost of this event and supports future offerings. If it creates any hardship\, please feel free to use a coupon code. Your presence is what matters most. \n\n\n\nCoupon Code\nDiscount (%)\n\n\n\n\nHEART10\n10%\n\n\nHEART20\n20%\n\n\nHEART30\n30%\n\n\nHEART40\n40%\n\n\nHEART50\n50%\n\n\nHEART60\n60%\n\n\nHEART70\n70%\n\n\nHEART80\n80%\n\n\nHEART90\n90%\n\n\nHEART100\n100%
URL:https://www.heartfulnessinstitute.org/event/lalajis-birth-anniversary-monroe-nj-2026/
LOCATION:Monroe Heartfulness Meditation Centre\, 48 Halsey Reed Rd\, Monroe Township\, NJ\, 08831\, United States
ORGANIZER;CN="Monroe%2C NJ":MAILTO:monroe@heartfulness.org
END:VEVENT
BEGIN:VEVENT
DTSTART;TZID=America/Los_Angeles:20260131T090000
DTEND;TZID=America/Los_Angeles:20260131T110000
DTSTAMP:20260420T065630
CREATED:20251221T033106Z
LAST-MODIFIED:20251221T033106Z
UID:990005259-1769850000-1769857200@www.heartfulnessinstitute.org
SUMMARY:Satruday 1-1 Meditation\, Troy\, MI
DESCRIPTION:Saturday 1-1 Meditation at 3270 West Big Beaver Road\, HTC Building\, 4th Floor\, Troy\, MI 48084
URL:https://www.heartfulnessinstitute.org/event/satruday-1-1-meditation-troy-mi/2026-01-31/
LOCATION:HTC Building\, Troy\, 3270 West Big Beaver Road\, HTC Building\, 4th Floor\, Troy\, MI\, 48084\, United States
ORGANIZER;CN="Metro Detroit%2C MI":MAILTO:metrodetroit@heartfulness.org
END:VEVENT
BEGIN:VEVENT
DTSTART;TZID=America/New_York:20260131T090000
DTEND;TZID=America/New_York:20260131T220000
DTSTAMP:20260420T065630
CREATED:20251022T024011Z
LAST-MODIFIED:20251022T024139Z
UID:990001865-1769850000-1769896800@www.heartfulnessinstitute.org
SUMMARY:Saturday Group Meditation - Monroe\, NJ
DESCRIPTION:Weekly Saturday group meditation event at Monroe\, NJ. \nAgenda \n\nGroup Meditation\nReading
URL:https://www.heartfulnessinstitute.org/event/sat-group-meditation-monroe-nj-2/2026-01-31/
LOCATION:Monroe Heartfulness Meditation Centre\, 48 Halsey Reed Rd\, Monroe Township\, NJ\, 08831\, United States
ORGANIZER;CN="Monroe%2C NJ":MAILTO:monroe@heartfulness.org
END:VEVENT
BEGIN:VEVENT
DTSTART;TZID=America/New_York:20260131T090000
DTEND;TZID=America/New_York:20260201T160000
DTSTAMP:20260420T065630
CREATED:20260113T014011Z
LAST-MODIFIED:20260117T192231Z
UID:990006572-1769850000-1769961600@www.heartfulnessinstitute.org
SUMMARY:Lalaji's Birth Anniversary\, Sunderland\, MA 2026
DESCRIPTION:Program Schedule\n\n\n\nTime\nActivity\n\n\n \n\nJanuary 31st 2026\, Saturday\n\n\n09:30 am\nArrival & Registration\n\n\n10:30 am\nGroup Meditation\n\n\n11:30 am\nLunch\n\n\n01:00 pm\nProgram\, Part One\n\n\n02:30 pm\nTea Break / Quiet Time\n\n\n04:00 pm\nGroup Meditation\n\n\n05:00 pm\nDinner\n\n \n\nFebruary 1st 2026\, Sunday\n\n\n08:00 am\nBreakfast\n\n\n09:00 am\nGroup Meditation\n\n\n10:30 am\nProgram\, Part Two\n\n\n12:00 pm\nLunch\n\n\n01:30 pm\nGroup Meditation\n\n\n02:30 pm\nClean up and adjourn\n\n\n\nIf you have any questions or suggestions\, please feel free to reach out to one of the event coordinators: \n\n\n\nName\nEmail\n\n\n\n\nChuck Masi\nchuck.masi@volunteer.heartfulness.org\n\n\nPeter Demling\npeter.demling@heartfulvolunteer.org\n\n\n\nYour donation helps cover the cost of this event and supports future offerings. If it creates any hardship\, please feel free to use a coupon code. Your presence is what matters most. \n\n\n\nCoupon Code\nDiscount (%)\n\n\n\n\nHEART10\n10%\n\n\nHEART20\n20%\n\n\nHEART30\n30%\n\n\nHEART40\n40%\n\n\nHEART50\n50%\n\n\nHEART60\n60%\n\n\nHEART70\n70%\n\n\nHEART80\n80%\n\n\nHEART90\n90%\n\n\nHEART100\n100%
URL:https://www.heartfulnessinstitute.org/event/lalajis-birth-anniversary-sunderland-ma-2026/
LOCATION:Sunderland Heartfulness Meditation Center\, 267 Amherst Rd\, Sunderland\, MA\, 01375\, United States
END:VEVENT
BEGIN:VEVENT
DTSTART;TZID=America/Los_Angeles:20260131T093000
DTEND;TZID=America/Los_Angeles:20260201T140000
DTSTAMP:20260420T065630
CREATED:20260113T020202Z
LAST-MODIFIED:20260113T020202Z
UID:990006573-1769851800-1769954400@www.heartfulnessinstitute.org
SUMMARY:Lalaji's Birth Anniversary\, Fremont\, CA 2026
DESCRIPTION:Program Schedule\n\n\n\nTime\nActivity\n\n\n \n\nJanuary 31st 2026\, Saturday\n\n\n9:30 am\nGroup Meditation\n\n\n11:00 am\nProgram\n\n\n12:15 pm\nGroup Meditation\n\n\n1:00 pm\nLunch\n\n\n3:00 pm\nProgram / Reflection\n\n\n6:00 pm\nGroup Meditation (coordinate with Kanha)\n\n\n7:00 pm\nDinner\n\n \n\nFebruary 1st 2026\, Sunday\n\n\n9:30 am\nGroup Meditation\n\n\n11:00 am\nProgram\n\n\n12:15 pm\nGroup Meditation\n\n\n1:00 pm\nLunch\n\n\n2:00 pm\nClean up and Wrap up\n\n\nNote: Potential evening meditation coordinated with Kanha\n\n\n\nIf you have any questions or suggestions\, please feel free to reach out to one of the event coordinators: \n\n\n\nName\nEmail\n\n\n\n\nAbhishek Anjanappa\na_abhisheka@yahoo.com\n\n\n\nYour donation helps cover the cost of this event and supports future offerings. If it creates any hardship\, please feel free to use a coupon code. Your presence is what matters most. \n\n\n\nCoupon Code\nDiscount (%)\n\n\n\n\nHEART10\n10%\n\n\nHEART20\n20%\n\n\nHEART30\n30%\n\n\nHEART40\n40%\n\n\nHEART50\n50%\n\n\nHEART60\n60%\n\n\nHEART70\n70%\n\n\nHEART80\n80%\n\n\nHEART90\n90%\n\n\nHEART100\n100%
URL:https://www.heartfulnessinstitute.org/event/lalajis-birth-anniversary-fremont-ca-2026/
LOCATION:Fremont Heartfulness Meditation Centre\, 585 Mowry Ave\, Fremont\, CA\, 94536\, United States
END:VEVENT
BEGIN:VEVENT
DTSTART;TZID=America/Chicago:20260131T100000
DTEND;TZID=America/Chicago:20260131T110000
DTSTAMP:20260420T065630
CREATED:20251219T192748Z
LAST-MODIFIED:20251219T192748Z
UID:990004476-1769853600-1769857200@www.heartfulnessinstitute.org
SUMMARY:Saturday Group Meditation - San Antonio\, TX
DESCRIPTION:
URL:https://www.heartfulnessinstitute.org/event/saturday-group-meditation-san-antonio-tx/2026-01-31/
LOCATION:Igo Branch Library\, 13330 Kyle Seale Pkwy\, San Antonio\, TX\, 78249\, United States
ATTACH;FMTTYPE=image/jpeg:https://www.heartfulnessinstitute.org/wp-content/uploads/2025/12/Saturday-San-Antonio-Meditation.jpeg
ORGANIZER;CN="San Antonio%2C TX":MAILTO:sanantonio.tx@heartfulness.org
END:VEVENT
BEGIN:VEVENT
DTSTART;TZID=America/New_York:20260131T163000
DTEND;TZID=America/New_York:20260523T190000
DTSTAMP:20260420T065630
CREATED:20260109T011805Z
LAST-MODIFIED:20260114T020051Z
UID:990006569-1769877000-1779562800@www.heartfulnessinstitute.org
SUMMARY:HOPE\, Tampa\, FL 2026
DESCRIPTION:Heartfulness Odyssey for Personal Excellence\nHOPE – USA\, is an unique spiritual development program specially designed for North American seekers with curated themes and curriculum based on Sahaj Marg philosophy and practices. The program has a unique learning framework supported by customized workbook to have a methodical\, experiential and practical approach to deepen Heartfulness spiritual practice using adult learning principles. \nHOPE is an ongoing educational program designed for both new and seasoned spiritual aspirants. The course materials alone cost the organization nearly $75\, including shipping from the Indian Mission. \nTherefore\, the full 13-chapter series is priced at $100. \nHowever\, in the Heartfulness Mission\, we always ensure that financial constraints never become a barrier. If it creates any hardship\, please feel free to use a coupon code. Your presence is what matters most. \n\n\n\nCoupon Code\nDiscount (%)\n\n\n\n\nHEART10\n10%\n\n\nHEART20\n20%\n\n\nHEART30\n30%\n\n\nHEART40\n40%\n\n\nHEART50\n50%\n\n\n\nPlease contact Girish Kulkarni at girish.kulkarni@heartfulness.org or Jyoti Chereddy at jyoti.chereddy@gmail.com for any questions.
URL:https://www.heartfulnessinstitute.org/event/hope-tampa-fl-2026/
LOCATION:MA
ATTACH;FMTTYPE=image/png:https://www.heartfulnessinstitute.org/wp-content/uploads/2025/08/HOPE_Logo_Daaji-Blue-1.png
END:VEVENT
END:VCALENDAR